BEGIN:VCALENDAR
VERSION:2.0
PRODID:-//Biblioteka Raczyńskich - ECPv6.2.3//NONSGML v1.0//EN
CALSCALE:GREGORIAN
METHOD:PUBLISH
X-ORIGINAL-URL:https://bracz.edu.pl
X-WR-CALDESC:Events for Biblioteka Raczyńskich
REFRESH-INTERVAL;VALUE=DURATION:PT1H
X-Robots-Tag:noindex
X-PUBLISHED-TTL:PT1H
BEGIN:VTIMEZONE
TZID:Europe/Warsaw
BEGIN:DAYLIGHT
TZOFFSETFROM:+0100
TZOFFSETTO:+0200
TZNAME:CEST
DTSTART:20250330T010000
END:DAYLIGHT
BEGIN:STANDARD
TZOFFSETFROM:+0200
TZOFFSETTO:+0100
TZNAME:CET
DTSTART:20251026T010000
END:STANDARD
END:VTIMEZONE
BEGIN:VEVENT
DTSTART;TZID=Europe/Warsaw:20250327T170000
DTEND;TZID=Europe/Warsaw:20250327T183000
DTSTAMP:20260423T104427
CREATED:20250227T130343Z
LAST-MODIFIED:20250303T084757Z
UID:29341-1743094800-1743100200@bracz.edu.pl
SUMMARY:Wildecki Dyskusyjny Klub Książki. "Kronika ptaka nakręcacza"
DESCRIPTION:
URL:https://bracz.edu.pl/event/wildecki-dyskusyjny-klub-ksiazki-donikad-podroze-na-skraj-rosji/
END:VEVENT
BEGIN:VEVENT
DTSTART;TZID=Europe/Warsaw:20250327T170000
DTEND;TZID=Europe/Warsaw:20250327T183000
DTSTAMP:20260423T104427
CREATED:20250303T082705Z
LAST-MODIFIED:20250303T082705Z
UID:29397-1743094800-1743100200@bracz.edu.pl
SUMMARY:Blackout poetry – warsztaty kreatywnej poezji dla dorosłych
DESCRIPTION:
URL:https://bracz.edu.pl/event/blackout-poetry-warsztaty-kreatywnej-poezji-dla-doroslych/
LOCATION:Filia Naramowicka\, ul. Rubież 14\, Poznań
END:VEVENT
BEGIN:VEVENT
DTSTART;TZID=Europe/Warsaw:20250327T173000
DTEND;TZID=Europe/Warsaw:20250327T193000
DTSTAMP:20260423T104427
CREATED:20250227T131011Z
LAST-MODIFIED:20250227T131239Z
UID:29344-1743096600-1743103800@bracz.edu.pl
SUMMARY:W małym kinie u Raczyńskich. „Ona wciąż tu jest”
DESCRIPTION:
URL:https://bracz.edu.pl/event/w-malym-kinie-u-raczynskich-ona-wciaz-tu-jest/
END:VEVENT
END:VCALENDAR