BEGIN:VCALENDAR
VERSION:2.0
PRODID:-//Biblioteka Raczyńskich - ECPv6.2.3//NONSGML v1.0//EN
CALSCALE:GREGORIAN
METHOD:PUBLISH
X-WR-CALNAME:Biblioteka Raczyńskich
X-ORIGINAL-URL:https://bracz.edu.pl
X-WR-CALDESC:Events for Biblioteka Raczyńskich
REFRESH-INTERVAL;VALUE=DURATION:PT1H
X-Robots-Tag:noindex
X-PUBLISHED-TTL:PT1H
BEGIN:VTIMEZONE
TZID:Europe/Warsaw
BEGIN:DAYLIGHT
TZOFFSETFROM:+0100
TZOFFSETTO:+0200
TZNAME:CEST
DTSTART:20250330T010000
END:DAYLIGHT
BEGIN:STANDARD
TZOFFSETFROM:+0200
TZOFFSETTO:+0100
TZNAME:CET
DTSTART:20251026T010000
END:STANDARD
END:VTIMEZONE
BEGIN:VEVENT
DTSTART;TZID=Europe/Warsaw:20250507T170000
DTEND;TZID=Europe/Warsaw:20250507T183000
DTSTAMP:20260421T164139
CREATED:20250415T133350Z
LAST-MODIFIED:20250415T133745Z
UID:30059-1746637200-1746642600@bracz.edu.pl
SUMMARY:Chodź\, narysuj mi las. Warsztaty z Tomaszem Samojlikiem w Filii 35
DESCRIPTION:
URL:https://bracz.edu.pl/event/chodz-narysuj-mi-las-warsztaty-z-tomaszem-samojlikiem-w-filii-35/
END:VEVENT
BEGIN:VEVENT
DTSTART;TZID=Europe/Warsaw:20250507T170000
DTEND;TZID=Europe/Warsaw:20250507T190000
DTSTAMP:20260421T164139
CREATED:20250318T141645Z
LAST-MODIFIED:20250318T141645Z
UID:29776-1746637200-1746644400@bracz.edu.pl
SUMMARY:Z kulturą o odpadach. Warsztaty dla dzieci w Filii 22
DESCRIPTION:
URL:https://bracz.edu.pl/event/z-kultura-o-odpadach-warsztaty-dla-dzieci-w-filii-22/
END:VEVENT
BEGIN:VEVENT
DTSTART;TZID=Europe/Warsaw:20250507T180000
DTEND;TZID=Europe/Warsaw:20250507T193000
DTSTAMP:20260421T164139
CREATED:20250415T140635Z
LAST-MODIFIED:20250415T140635Z
UID:30069-1746640800-1746646200@bracz.edu.pl
SUMMARY:Spotkanie z dr Rozalią Wojkiewicz o wierszach Loli Szereszewskiej
DESCRIPTION:
URL:https://bracz.edu.pl/event/spotkanie-z-dr-rozalia-wojkiewicz-o-wierszach-loli-szereszewskiej/
END:VEVENT
BEGIN:VEVENT
DTSTART;TZID=Europe/Warsaw:20250507T180000
DTEND;TZID=Europe/Warsaw:20250507T200000
DTSTAMP:20260421T164139
CREATED:20250415T134639Z
LAST-MODIFIED:20250415T134639Z
UID:30065-1746640800-1746648000@bracz.edu.pl
SUMMARY:Biblioteki domowe. Reportaże o prywatnych księgozbiorach. Spotkanie z Mirosławą Łomnicką
DESCRIPTION:
URL:https://bracz.edu.pl/event/biblioteki-domowe-reportaze-o-prywatnych-ksiegozbiorach-spotkanie-z-miroslawa-lomnicka/
END:VEVENT
END:VCALENDAR