BEGIN:VCALENDAR
VERSION:2.0
PRODID:-//Biblioteka Raczyńskich - ECPv6.2.3//NONSGML v1.0//EN
CALSCALE:GREGORIAN
METHOD:PUBLISH
X-WR-CALNAME:Biblioteka Raczyńskich
X-ORIGINAL-URL:https://bracz.edu.pl
X-WR-CALDESC:Events for Biblioteka Raczyńskich
REFRESH-INTERVAL;VALUE=DURATION:PT1H
X-Robots-Tag:noindex
X-PUBLISHED-TTL:PT1H
BEGIN:VTIMEZONE
TZID:Europe/Warsaw
BEGIN:DAYLIGHT
TZOFFSETFROM:+0100
TZOFFSETTO:+0200
TZNAME:CEST
DTSTART:20250330T010000
END:DAYLIGHT
BEGIN:STANDARD
TZOFFSETFROM:+0200
TZOFFSETTO:+0100
TZNAME:CET
DTSTART:20251026T010000
END:STANDARD
END:VTIMEZONE
BEGIN:VEVENT
DTSTART;TZID=Europe/Warsaw:20250512T170000
DTEND;TZID=Europe/Warsaw:20250512T183000
DTSTAMP:20260421T165824
CREATED:20250416T105017Z
LAST-MODIFIED:20250417T134347Z
UID:30114-1747069200-1747074600@bracz.edu.pl
SUMMARY:Spotkanie z fotografem i podróżnikiem Andrzejem Pasławskim w Filii 12
DESCRIPTION:
URL:https://bracz.edu.pl/event/spotkanie-z-fotografem-i-podroznikiem-andrzejem-paslawskim/
END:VEVENT
BEGIN:VEVENT
DTSTART;TZID=Europe/Warsaw:20250512T180000
DTEND;TZID=Europe/Warsaw:20250512T193000
DTSTAMP:20260421T165824
CREATED:20250416T120421Z
LAST-MODIFIED:20250416T140637Z
UID:30120-1747072800-1747078200@bracz.edu.pl
SUMMARY:Światłocienie. Barwy emocji w chóralnej szacie. Zapisy od 5 maja
DESCRIPTION:
URL:https://bracz.edu.pl/event/swiatlocienie-barwy-emocji-w-choralnej-szacie/
END:VEVENT
END:VCALENDAR