BEGIN:VCALENDAR
VERSION:2.0
PRODID:-//Biblioteka Raczyńskich - ECPv6.2.3//NONSGML v1.0//EN
CALSCALE:GREGORIAN
METHOD:PUBLISH
X-ORIGINAL-URL:https://bracz.edu.pl
X-WR-CALDESC:Events for Biblioteka Raczyńskich
REFRESH-INTERVAL;VALUE=DURATION:PT1H
X-Robots-Tag:noindex
X-PUBLISHED-TTL:PT1H
BEGIN:VTIMEZONE
TZID:Europe/Warsaw
BEGIN:DAYLIGHT
TZOFFSETFROM:+0100
TZOFFSETTO:+0200
TZNAME:CEST
DTSTART:20250330T010000
END:DAYLIGHT
BEGIN:STANDARD
TZOFFSETFROM:+0200
TZOFFSETTO:+0100
TZNAME:CET
DTSTART:20251026T010000
END:STANDARD
END:VTIMEZONE
BEGIN:VEVENT
DTSTART;TZID=Europe/Warsaw:20250529T170000
DTEND;TZID=Europe/Warsaw:20250529T183000
DTSTAMP:20260421T103633
CREATED:20250423T114708Z
LAST-MODIFIED:20250423T114708Z
UID:30338-1748538000-1748543400@bracz.edu.pl
SUMMARY:Wildecki Dyskusyjny Klub Książki. „Lekcje chemii” Bonnie Garmus
DESCRIPTION:
URL:https://bracz.edu.pl/event/wildecki-dyskusyjny-klub-ksiazki-lekcje-chemii-bonnie-garmus/
END:VEVENT
BEGIN:VEVENT
DTSTART;TZID=Europe/Warsaw:20250529T173000
DTEND;TZID=Europe/Warsaw:20250529T193000
DTSTAMP:20260421T103634
CREATED:20250428T085107Z
LAST-MODIFIED:20250428T085107Z
UID:30378-1748539800-1748547000@bracz.edu.pl
SUMMARY:W małym kinie u Raczyńskich. Człowiek\, który był zbyt dumny\, aby uciekać
DESCRIPTION:
URL:https://bracz.edu.pl/event/w-malym-kinie-u-raczynskich-czlowiek-ktory-byl-zbyt-dumny-aby-uciekac/
END:VEVENT
BEGIN:VEVENT
DTSTART;TZID=Europe/Warsaw:20250529T180000
DTEND;TZID=Europe/Warsaw:20250529T200000
DTSTAMP:20260421T103634
CREATED:20250428T083900Z
LAST-MODIFIED:20250428T083900Z
UID:30372-1748541600-1748548800@bracz.edu.pl
SUMMARY:„Sjesta. Miniatury muzyczne”. Spotkanie z Marcinem Kydryńskim
DESCRIPTION:
URL:https://bracz.edu.pl/event/sjesta-miniatury-muzyczne-spotkanie-z-marcinem-kydrynskim/
END:VEVENT
END:VCALENDAR