BEGIN:VCALENDAR
VERSION:2.0
PRODID:-//Biblioteka Raczyńskich - ECPv6.2.3//NONSGML v1.0//EN
CALSCALE:GREGORIAN
METHOD:PUBLISH
X-ORIGINAL-URL:https://bracz.edu.pl
X-WR-CALDESC:Events for Biblioteka Raczyńskich
REFRESH-INTERVAL;VALUE=DURATION:PT1H
X-Robots-Tag:noindex
X-PUBLISHED-TTL:PT1H
BEGIN:VTIMEZONE
TZID:Europe/Warsaw
BEGIN:DAYLIGHT
TZOFFSETFROM:+0100
TZOFFSETTO:+0200
TZNAME:CEST
DTSTART:20260329T010000
END:DAYLIGHT
BEGIN:STANDARD
TZOFFSETFROM:+0200
TZOFFSETTO:+0100
TZNAME:CET
DTSTART:20261025T010000
END:STANDARD
END:VTIMEZONE
BEGIN:VEVENT
DTSTART;TZID=Europe/Warsaw:20260211T123000
DTEND;TZID=Europe/Warsaw:20260211T133000
DTSTAMP:20260421T151956
CREATED:20260114T105249Z
LAST-MODIFIED:20260114T105249Z
UID:33533-1770813000-1770816600@bracz.edu.pl
SUMMARY:Oprowadzanie po stałej ekspozycji oraz po wystawie czasowej „Zetlali od czasu. Wiersze Kazimiery Iłłakowiczówny do obrazów Jana Henryka Rosena w stulecie wystawy”
DESCRIPTION:
URL:https://bracz.edu.pl/event/oprowadzanie-po-stalej-ekspozycji-oraz-po-wystawie-czasowej-zetlali-od-czasu-wiersze-kazimiery-illakowiczowny-do-obrazow-jana-henryka-rosena-w-stulecie-wystawy-3/
END:VEVENT
BEGIN:VEVENT
DTSTART;TZID=Europe/Warsaw:20260211T170000
DTEND;TZID=Europe/Warsaw:20260211T180000
DTSTAMP:20260421T151956
CREATED:20260114T105906Z
LAST-MODIFIED:20260114T105906Z
UID:33537-1770829200-1770832800@bracz.edu.pl
SUMMARY:„Chwała Wielkopolski”. Wykład Piotra Rezy Cholewickiego
DESCRIPTION:
URL:https://bracz.edu.pl/event/chwala-wielkopolski-wyklad-piotra-rezy-cholewickiego/
END:VEVENT
BEGIN:VEVENT
DTSTART;TZID=Europe/Warsaw:20260211T173000
DTEND;TZID=Europe/Warsaw:20260211T200000
DTSTAMP:20260421T151956
CREATED:20260114T110347Z
LAST-MODIFIED:20260114T110347Z
UID:33541-1770831000-1770840000@bracz.edu.pl
SUMMARY:W małym kinie. Filmy\, które wywracają stolik. Rozgrywka
DESCRIPTION:
URL:https://bracz.edu.pl/event/w-malym-kinie-filmy-ktore-wywracaja-stolik-rozgrywka/
END:VEVENT
BEGIN:VEVENT
DTSTART;TZID=Europe/Warsaw:20260211T180000
DTEND;TZID=Europe/Warsaw:20260211T190000
DTSTAMP:20260421T151956
CREATED:20260114T112947Z
LAST-MODIFIED:20260114T112947Z
UID:33547-1770832800-1770836400@bracz.edu.pl
SUMMARY:„Poezja i maszyny” projekcja filmu Jacka Kubiaka o Hipolicie Cegielskim
DESCRIPTION:
URL:https://bracz.edu.pl/event/poezja-i-maszyny-projekcja-filmu-jacka-kubiaka-o-hipolicie-cegielskim/
END:VEVENT
END:VCALENDAR