BEGIN:VCALENDAR
VERSION:2.0
PRODID:-//Biblioteka Raczyńskich - ECPv6.2.3//NONSGML v1.0//EN
CALSCALE:GREGORIAN
METHOD:PUBLISH
X-WR-CALNAME:Biblioteka Raczyńskich
X-ORIGINAL-URL:https://bracz.edu.pl
X-WR-CALDESC:Events for Biblioteka Raczyńskich
REFRESH-INTERVAL;VALUE=DURATION:PT1H
X-Robots-Tag:noindex
X-PUBLISHED-TTL:PT1H
BEGIN:VTIMEZONE
TZID:Europe/Warsaw
BEGIN:DAYLIGHT
TZOFFSETFROM:+0100
TZOFFSETTO:+0200
TZNAME:CEST
DTSTART:20260329T010000
END:DAYLIGHT
BEGIN:STANDARD
TZOFFSETFROM:+0200
TZOFFSETTO:+0100
TZNAME:CET
DTSTART:20261025T010000
END:STANDARD
END:VTIMEZONE
BEGIN:VEVENT
DTSTART;TZID=Europe/Warsaw:20260218T170000
DTEND;TZID=Europe/Warsaw:20260218T180000
DTSTAMP:20260419T151807
CREATED:20260206T081041Z
LAST-MODIFIED:20260206T081041Z
UID:33762-1771434000-1771437600@bracz.edu.pl
SUMMARY:Rawawik na tropie dźwięków. Koncert dla dzieci z opiekunami
DESCRIPTION:
URL:https://bracz.edu.pl/event/rawawik-na-tropie-dzwiekow-koncert-dla-dzieci-z-opiekunami/
END:VEVENT
END:VCALENDAR