BEGIN:VCALENDAR
VERSION:2.0
PRODID:-//Biblioteka Raczyńskich - ECPv6.2.3//NONSGML v1.0//EN
CALSCALE:GREGORIAN
METHOD:PUBLISH
X-ORIGINAL-URL:https://bracz.edu.pl
X-WR-CALDESC:Events for Biblioteka Raczyńskich
REFRESH-INTERVAL;VALUE=DURATION:PT1H
X-Robots-Tag:noindex
X-PUBLISHED-TTL:PT1H
BEGIN:VTIMEZONE
TZID:Europe/Warsaw
BEGIN:DAYLIGHT
TZOFFSETFROM:+0100
TZOFFSETTO:+0200
TZNAME:CEST
DTSTART:20260329T010000
END:DAYLIGHT
BEGIN:STANDARD
TZOFFSETFROM:+0200
TZOFFSETTO:+0100
TZNAME:CET
DTSTART:20261025T010000
END:STANDARD
END:VTIMEZONE
BEGIN:VEVENT
DTSTART;TZID=Europe/Warsaw:20260225T123000
DTEND;TZID=Europe/Warsaw:20260225T133000
DTSTAMP:20260421T152011
CREATED:20260114T141055Z
LAST-MODIFIED:20260114T141055Z
UID:33606-1772022600-1772026200@bracz.edu.pl
SUMMARY:Oprowadzanie po stałej ekspozycji oraz po wystawie czasowej „Zetlali od czasu. Wiersze Kazimiery Iłłakowiczówny do obrazów Jana Henryka Rosena w stulecie wystawy”
DESCRIPTION:
URL:https://bracz.edu.pl/event/oprowadzanie-po-stalej-ekspozycji-oraz-po-wystawie-czasowej-zetlali-od-czasu-wiersze-kazimiery-illakowiczowny-do-obrazow-jana-henryka-rosena-w-stulecie-wystawy-4/
END:VEVENT
BEGIN:VEVENT
DTSTART;TZID=Europe/Warsaw:20260225T180000
DTEND;TZID=Europe/Warsaw:20260225T193000
DTSTAMP:20260421T152011
CREATED:20260114T141522Z
LAST-MODIFIED:20260114T141522Z
UID:33610-1772042400-1772047800@bracz.edu.pl
SUMMARY:Sztuk-mistrze. Spotkanie z malarzem prof. Andrzejem Maciejem Łubowskim
DESCRIPTION:
URL:https://bracz.edu.pl/event/sztuk-mistrze-spotkanie-z-malarzem-prof-andrzejem-maciejem-lubowskim/
END:VEVENT
END:VCALENDAR