BEGIN:VCALENDAR
VERSION:2.0
PRODID:-//Biblioteka Raczyńskich - ECPv6.2.3//NONSGML v1.0//EN
CALSCALE:GREGORIAN
METHOD:PUBLISH
X-ORIGINAL-URL:https://bracz.edu.pl
X-WR-CALDESC:Events for Biblioteka Raczyńskich
REFRESH-INTERVAL;VALUE=DURATION:PT1H
X-Robots-Tag:noindex
X-PUBLISHED-TTL:PT1H
BEGIN:VTIMEZONE
TZID:Europe/Warsaw
BEGIN:DAYLIGHT
TZOFFSETFROM:+0100
TZOFFSETTO:+0200
TZNAME:CEST
DTSTART:20260329T010000
END:DAYLIGHT
BEGIN:STANDARD
TZOFFSETFROM:+0200
TZOFFSETTO:+0100
TZNAME:CET
DTSTART:20261025T010000
END:STANDARD
END:VTIMEZONE
BEGIN:VEVENT
DTSTART;TZID=Europe/Warsaw:20260415T170000
DTEND;TZID=Europe/Warsaw:20260415T183000
DTSTAMP:20260424T143205
CREATED:20260317T092112Z
LAST-MODIFIED:20260317T092112Z
UID:34349-1776272400-1776277800@bracz.edu.pl
SUMMARY:Od słowa do formy. Obraz na krawędzi. Warsztaty dla dorosłych w Filii Wildeckiej
DESCRIPTION:
URL:https://bracz.edu.pl/event/od-slowa-do-formy-obraz-na-krawedzi-warsztaty-dla-doroslych-w-filii-wildeckiej/
END:VEVENT
BEGIN:VEVENT
DTSTART;TZID=Europe/Warsaw:20260415T170000
DTEND;TZID=Europe/Warsaw:20260415T183000
DTSTAMP:20260424T143205
CREATED:20260317T092648Z
LAST-MODIFIED:20260317T092648Z
UID:34354-1776272400-1776277800@bracz.edu.pl
SUMMARY:Japonia. Kraj możliwości. Spotkanie z Zofią Jurczak
DESCRIPTION:
URL:https://bracz.edu.pl/event/japonia-kraj-mozliwosci-spotkanie-z-zofia-jurczak/
END:VEVENT
BEGIN:VEVENT
DTSTART;TZID=Europe/Warsaw:20260415T173000
DTEND;TZID=Europe/Warsaw:20260415T193000
DTSTAMP:20260424T143205
CREATED:20260317T091145Z
LAST-MODIFIED:20260317T091256Z
UID:34345-1776274200-1776281400@bracz.edu.pl
SUMMARY:W małym kinie u Raczyńskich. Więcej niż 5 zmysłów
DESCRIPTION:
URL:https://bracz.edu.pl/event/w-malym-kinie-u-raczynskich-wiecej-niz-5-zmyslow/
END:VEVENT
END:VCALENDAR