BEGIN:VCALENDAR
VERSION:2.0
PRODID:-//Biblioteka Raczyńskich - ECPv6.2.3//NONSGML v1.0//EN
CALSCALE:GREGORIAN
METHOD:PUBLISH
X-WR-CALNAME:Biblioteka Raczyńskich
X-ORIGINAL-URL:https://bracz.edu.pl
X-WR-CALDESC:Events for Biblioteka Raczyńskich
REFRESH-INTERVAL;VALUE=DURATION:PT1H
X-Robots-Tag:noindex
X-PUBLISHED-TTL:PT1H
BEGIN:VTIMEZONE
TZID:Europe/Warsaw
BEGIN:DAYLIGHT
TZOFFSETFROM:+0100
TZOFFSETTO:+0200
TZNAME:CEST
DTSTART:20260329T010000
END:DAYLIGHT
BEGIN:STANDARD
TZOFFSETFROM:+0200
TZOFFSETTO:+0100
TZNAME:CET
DTSTART:20261025T010000
END:STANDARD
END:VTIMEZONE
BEGIN:VEVENT
DTSTART;TZID=Europe/Warsaw:20260518T170000
DTEND;TZID=Europe/Warsaw:20260601T170000
DTSTAMP:20260420T101823
CREATED:20260417T125528Z
LAST-MODIFIED:20260417T134214Z
UID:34957-1779123600-1780333200@bracz.edu.pl
SUMMARY:Poznańskie Dni Rodziny 2026
DESCRIPTION:
URL:https://bracz.edu.pl/event/poznanskie-dni-rodziny-2026/
END:VEVENT
BEGIN:VEVENT
DTSTART;TZID=Europe/Warsaw:20260520T170000
DTEND;TZID=Europe/Warsaw:20260520T180000
DTSTAMP:20260420T101823
CREATED:20260415T132744Z
LAST-MODIFIED:20260415T132744Z
UID:34894-1779296400-1779300000@bracz.edu.pl
SUMMARY:„Była sobie pszczółka mała…” Spektakl dla dzieci
DESCRIPTION:
URL:https://bracz.edu.pl/event/byla-sobie-pszczolka-mala-spektakl-dla-dzieci/
END:VEVENT
BEGIN:VEVENT
DTSTART;TZID=Europe/Warsaw:20260520T170000
DTEND;TZID=Europe/Warsaw:20260520T183000
DTSTAMP:20260420T101823
CREATED:20260415T114636Z
LAST-MODIFIED:20260415T115223Z
UID:34875-1779296400-1779301800@bracz.edu.pl
SUMMARY:Spotkanie przyrodnicze dla dzieci z Piotrem Horzelą w Filii 35
DESCRIPTION:
URL:https://bracz.edu.pl/event/spotkanie-przyrodnicze-dla-dzieci-z-piotrem-horzela-w-filii-35/
END:VEVENT
BEGIN:VEVENT
DTSTART;TZID=Europe/Warsaw:20260520T180000
DTEND;TZID=Europe/Warsaw:20260520T193000
DTSTAMP:20260420T101823
CREATED:20260415T134047Z
LAST-MODIFIED:20260415T134047Z
UID:34892-1779300000-1779305400@bracz.edu.pl
SUMMARY:Klub Operowy Blecanto. Maria Callas. Primadonna assoluta
DESCRIPTION:
URL:https://bracz.edu.pl/event/klub-operowy-blecanto-maria-callas-primadonna-assoluta/
END:VEVENT
END:VCALENDAR