BEGIN:VCALENDAR
VERSION:2.0
PRODID:-//Biblioteka Raczyńskich - ECPv6.2.3//NONSGML v1.0//EN
CALSCALE:GREGORIAN
METHOD:PUBLISH
X-WR-CALNAME:Biblioteka Raczyńskich
X-ORIGINAL-URL:https://bracz.edu.pl
X-WR-CALDESC:Events for Biblioteka Raczyńskich
REFRESH-INTERVAL;VALUE=DURATION:PT1H
X-Robots-Tag:noindex
X-PUBLISHED-TTL:PT1H
BEGIN:VTIMEZONE
TZID:Europe/Warsaw
BEGIN:DAYLIGHT
TZOFFSETFROM:+0100
TZOFFSETTO:+0200
TZNAME:CEST
DTSTART:20180325T010000
END:DAYLIGHT
BEGIN:STANDARD
TZOFFSETFROM:+0200
TZOFFSETTO:+0100
TZNAME:CET
DTSTART:20181028T010000
END:STANDARD
BEGIN:DAYLIGHT
TZOFFSETFROM:+0100
TZOFFSETTO:+0200
TZNAME:CEST
DTSTART:20190331T010000
END:DAYLIGHT
BEGIN:STANDARD
TZOFFSETFROM:+0200
TZOFFSETTO:+0100
TZNAME:CET
DTSTART:20191027T010000
END:STANDARD
BEGIN:DAYLIGHT
TZOFFSETFROM:+0100
TZOFFSETTO:+0200
TZNAME:CEST
DTSTART:20200329T010000
END:DAYLIGHT
BEGIN:STANDARD
TZOFFSETFROM:+0200
TZOFFSETTO:+0100
TZNAME:CET
DTSTART:20201025T010000
END:STANDARD
BEGIN:DAYLIGHT
TZOFFSETFROM:+0100
TZOFFSETTO:+0200
TZNAME:CEST
DTSTART:20210328T010000
END:DAYLIGHT
BEGIN:STANDARD
TZOFFSETFROM:+0200
TZOFFSETTO:+0100
TZNAME:CET
DTSTART:20211031T010000
END:STANDARD
BEGIN:DAYLIGHT
TZOFFSETFROM:+0100
TZOFFSETTO:+0200
TZNAME:CEST
DTSTART:20220327T010000
END:DAYLIGHT
BEGIN:STANDARD
TZOFFSETFROM:+0200
TZOFFSETTO:+0100
TZNAME:CET
DTSTART:20221030T010000
END:STANDARD
END:VTIMEZONE
BEGIN:VEVENT
DTSTART;TZID=Europe/Warsaw:20220423T120000
DTEND;TZID=Europe/Warsaw:20220423T123000
DTSTAMP:20260420T154703
CREATED:20220414T104532Z
LAST-MODIFIED:20220414T104532Z
UID:12873-1650715200-1650717000@bracz.edu.pl
SUMMARY:Teatr Bajarka Театр Баярка
DESCRIPTION:
URL:https://bracz.edu.pl/event/teatr-bajarka-%d1%82%d0%b5%d0%b0%d1%82%d1%80-%d0%b1%d0%b0%d1%8f%d1%80%d0%ba%d0%b0/
CATEGORIES:dla Dzieci
END:VEVENT
BEGIN:VEVENT
DTSTART;TZID=Europe/Warsaw:20220409T110000
DTEND;TZID=Europe/Warsaw:20220409T120000
DTSTAMP:20260420T154703
CREATED:20220405T120034Z
LAST-MODIFIED:20220405T120034Z
UID:12799-1649502000-1649505600@bracz.edu.pl
SUMMARY:Warsztaty dla dzieci na wystawie "Into the mist"
DESCRIPTION:
URL:https://bracz.edu.pl/event/warsztaty-dla-dzieci-na-wystawie-into-the-mist/
LOCATION:Biblioteka Raczyńskich\, pl. Wolności 19\, Poznań\, 61-739\, Polska
CATEGORIES:dla Dzieci
END:VEVENT
BEGIN:VEVENT
DTSTART;TZID=Europe/Warsaw:20220123T120000
DTEND;TZID=Europe/Warsaw:20220123T123000
DTSTAMP:20260420T154703
CREATED:20220112T133509Z
LAST-MODIFIED:20220112T133509Z
UID:12387-1642939200-1642941000@bracz.edu.pl
SUMMARY:Teatr Bajarka "Malinka\, dziewczynka w czerwonym kapturku"
DESCRIPTION:
URL:https://bracz.edu.pl/event/teatr-bajarka-malinka-dziewczynka-w-czerwonym-kapturku/
CATEGORIES:dla Dzieci,dla wszystkich
END:VEVENT
BEGIN:VEVENT
DTSTART;TZID=Europe/Warsaw:20211009T170000
DTEND;TZID=Europe/Warsaw:20211009T200000
DTSTAMP:20260420T154703
CREATED:20210921T092835Z
LAST-MODIFIED:20210921T092835Z
UID:11863-1633798800-1633809600@bracz.edu.pl
SUMMARY:Noc Bibliotek
DESCRIPTION:
URL:https://bracz.edu.pl/event/noc-bibliotek/
CATEGORIES:dla Dorosłych,dla Dzieci
END:VEVENT
BEGIN:VEVENT
DTSTART;TZID=Europe/Warsaw:20210626T120000
DTEND;TZID=Europe/Warsaw:20210626T133000
DTSTAMP:20260420T154703
CREATED:20210519T120148Z
LAST-MODIFIED:20210519T120148Z
UID:11123-1624708800-1624714200@bracz.edu.pl
SUMMARY:CZYTATY na pięciolinii. Raz na ludowo
DESCRIPTION:
URL:https://bracz.edu.pl/event/czytaty-na-pieciolinii-raz-na-ludowo/
CATEGORIES:dla Dzieci
END:VEVENT
BEGIN:VEVENT
DTSTART;TZID=Europe/Warsaw:20200325T163000
DTEND;TZID=Europe/Warsaw:20200325T173000
DTSTAMP:20260420T154703
CREATED:20200218T142301Z
LAST-MODIFIED:20200218T143714Z
UID:8367-1585153800-1585157400@bracz.edu.pl
SUMMARY:Na tropach niespodzianek ukrytych w książkach cz. 2
DESCRIPTION:
URL:https://bracz.edu.pl/event/na-tropach-niespodzianek-ukrytych-w-ksiazkach/
LOCATION:Filia 49\, os. Pod Lipami 108 A\, Poznań\, Polska
CATEGORIES:dla Dorosłych,dla Dzieci
END:VEVENT
BEGIN:VEVENT
DTSTART;TZID=Europe/Warsaw:20200314T120000
DTEND;TZID=Europe/Warsaw:20200314T130000
DTSTAMP:20260420T154703
CREATED:20200221T094553Z
LAST-MODIFIED:20200221T094553Z
UID:8388-1584187200-1584190800@bracz.edu.pl
SUMMARY:Tajemnice "Przepowiedni" spotkanie z Emilią Kiereś
DESCRIPTION:
URL:https://bracz.edu.pl/event/tajemnice-przepowiedni-spotkanie-z-emilia-kieres/
LOCATION:Biblioteka Raczyńskich Filia Naramowicka\, ul. Rubież 14a\, Poznań
CATEGORIES:dla Dzieci
END:VEVENT
BEGIN:VEVENT
DTSTART;TZID=Europe/Warsaw:20200311T163000
DTEND;TZID=Europe/Warsaw:20200311T173000
DTSTAMP:20260420T154703
CREATED:20200218T144203Z
LAST-MODIFIED:20200218T144203Z
UID:8376-1583944200-1583947800@bracz.edu.pl
SUMMARY:Na tropach niespodzianek ukrytych w książkach cz. 1
DESCRIPTION:
URL:https://bracz.edu.pl/event/na-tropach-niespodzianek-ukrytych-w-ksiazkach-cz-1/
CATEGORIES:dla Dorosłych,dla Dzieci
END:VEVENT
BEGIN:VEVENT
DTSTART;TZID=Europe/Warsaw:20190525T120000
DTEND;TZID=Europe/Warsaw:20190525T140000
DTSTAMP:20260420T154703
CREATED:20190410T090652Z
LAST-MODIFIED:20190410T090652Z
UID:4237-1558785600-1558792800@bracz.edu.pl
SUMMARY:3TATY\, 4 ŻYWIOŁY Bez wody nie ma życia
DESCRIPTION:
URL:https://bracz.edu.pl/event/3taty-4-zywioly-bez-wody-nie-ma-zycia/
LOCATION:Biblioteka Raczyńskich\, pl. Wolności 19\, Poznań\, 61-739\, Polska
CATEGORIES:dla Dzieci
END:VEVENT
BEGIN:VEVENT
DTSTART;TZID=Europe/Warsaw:20190525T103000
DTEND;TZID=Europe/Warsaw:20190525T120000
DTSTAMP:20260420T154703
CREATED:20190410T100025Z
LAST-MODIFIED:20190410T100025Z
UID:4269-1558780200-1558785600@bracz.edu.pl
SUMMARY:Śladami mieszkańców Biblioteki Raczyńskich
DESCRIPTION:
URL:https://bracz.edu.pl/event/sladami-mieszkancow-biblioteki-raczynskich/
LOCATION:Biblioteka Raczyńskich\, pl. Wolności 19\, Poznań\, 61-739\, Polska
CATEGORIES:dla Dzieci
END:VEVENT
BEGIN:VEVENT
DTSTART;TZID=Europe/Warsaw:20190518T120000
DTEND;TZID=Europe/Warsaw:20190518T130000
DTSTAMP:20260420T154703
CREATED:20190410T095349Z
LAST-MODIFIED:20190410T095349Z
UID:4259-1558180800-1558184400@bracz.edu.pl
SUMMARY:Warsztaty z Żubrem Pompikiem
DESCRIPTION:
URL:https://bracz.edu.pl/event/warsztaty-z-zubrem-pompikiem/
CATEGORIES:dla Dzieci
END:VEVENT
BEGIN:VEVENT
DTSTART;TZID=Europe/Warsaw:20190518T110000
DTEND;TZID=Europe/Warsaw:20190518T120000
DTSTAMP:20260420T154703
CREATED:20190410T093235Z
LAST-MODIFIED:20190410T093235Z
UID:4251-1558177200-1558180800@bracz.edu.pl
SUMMARY:Warsztaty z Kicią Kocią
DESCRIPTION:
URL:https://bracz.edu.pl/event/warsztaty-z-kicia-kocia/
LOCATION:Biblioteka Raczyńskich\, pl. Wolności 19\, Poznań\, 61-739\, Polska
CATEGORIES:dla Dzieci
END:VEVENT
BEGIN:VEVENT
DTSTART;TZID=Europe/Warsaw:20190511T120000
DTEND;TZID=Europe/Warsaw:20190511T140000
DTSTAMP:20260420T154703
CREATED:20190410T090005Z
LAST-MODIFIED:20190410T090005Z
UID:4232-1557576000-1557583200@bracz.edu.pl
SUMMARY:3TATY\, 4 ŻYWIOŁY Z poradnika młodego zielarza
DESCRIPTION:
URL:https://bracz.edu.pl/event/3taty-4-zywioly-z-poradnika-mlodego-zielarza/
LOCATION:Biblioteka Raczyńskich\, pl. Wolności 19\, Poznań\, 61-739\, Polska
CATEGORIES:dla Dzieci
END:VEVENT
BEGIN:VEVENT
DTSTART;TZID=Europe/Warsaw:20190511T120000
DTEND;TZID=Europe/Warsaw:20190511T130000
DTSTAMP:20260420T154703
CREATED:20190410T091735Z
LAST-MODIFIED:20190410T091735Z
UID:4241-1557576000-1557579600@bracz.edu.pl
SUMMARY:„Tajemnica biblioteki”. Literacka gra terenowa
DESCRIPTION:
URL:https://bracz.edu.pl/event/tajemnica-biblioteki-literacka-gra-terenowa/
LOCATION:Biblioteka Raczyńskich Filia Naramowicka\, ul. Rubież 14a\, Poznań
CATEGORIES:dla Dzieci
END:VEVENT
BEGIN:VEVENT
DTSTART;TZID=Europe/Warsaw:20190511T110000
DTEND;TZID=Europe/Warsaw:20190511T120000
DTSTAMP:20260420T154703
CREATED:20190410T081312Z
LAST-MODIFIED:20190410T081312Z
UID:4186-1557572400-1557576000@bracz.edu.pl
SUMMARY:Rodzinne czytanie: „Pchła Szachrajka”
DESCRIPTION:
URL:https://bracz.edu.pl/event/rodzinne-czytanie-pchla-szachrajka/
CATEGORIES:dla Dzieci
END:VEVENT
BEGIN:VEVENT
DTSTART;TZID=Europe/Warsaw:20190511T100000
DTEND;TZID=Europe/Warsaw:20190511T110000
DTSTAMP:20260420T154703
CREATED:20190410T092728Z
LAST-MODIFIED:20190410T092728Z
UID:4246-1557568800-1557572400@bracz.edu.pl
SUMMARY:Oprowadzanie po Bibliotece Raczyńskich
DESCRIPTION:
URL:https://bracz.edu.pl/event/oprowadzanie-po-bibliotece-raczynskich/
LOCATION:Biblioteka Raczyńskich\, pl. Wolności 19\, Poznań\, 61-739\, Polska
CATEGORIES:dla Dorosłych,dla Dzieci,dla maturzystów,dla wszystkich
END:VEVENT
BEGIN:VEVENT
DTSTART;TZID=Europe/Warsaw:20190427T120000
DTEND;TZID=Europe/Warsaw:20190427T140000
DTSTAMP:20260420T154703
CREATED:20190315T110633Z
LAST-MODIFIED:20190315T110633Z
UID:3796-1556366400-1556373600@bracz.edu.pl
SUMMARY:3TATY\, 4 ŻYWIOŁY Chwytam w lot!
DESCRIPTION:
URL:https://bracz.edu.pl/event/3taty-4-zywioly-chwytam-w-lot/
LOCATION:Biblioteka Raczyńskich\, pl. Wolności 19\, Poznań\, 61-739\, Polska
CATEGORIES:dla Dzieci
END:VEVENT
BEGIN:VEVENT
DTSTART;TZID=Europe/Warsaw:20190425T170000
DTEND;TZID=Europe/Warsaw:20190425T180000
DTSTAMP:20260420T154703
CREATED:20190315T105301Z
LAST-MODIFIED:20190315T105301Z
UID:3786-1556211600-1556215200@bracz.edu.pl
SUMMARY:Książki pachnące tajemnicą i niespodzianką
DESCRIPTION:
URL:https://bracz.edu.pl/event/ksiazki-pachnace-tajemnica-i-niespodzianka/
LOCATION:Biblioteka Raczyńskich Filia Naramowicka\, ul. Rubież 14a\, Poznań
CATEGORIES:dla Dzieci
END:VEVENT
BEGIN:VEVENT
DTSTART;TZID=Europe/Warsaw:20190413T120000
DTEND;TZID=Europe/Warsaw:20190413T140000
DTSTAMP:20260420T154703
CREATED:20190315T104752Z
LAST-MODIFIED:20190315T104752Z
UID:3781-1555156800-1555164000@bracz.edu.pl
SUMMARY:3TATY\, 4 ŻYWIOŁY  Tli się ogień pomysłu
DESCRIPTION:
URL:https://bracz.edu.pl/event/3taty-4-zywioly-tli-sie-ogien-pomyslu/
LOCATION:Biblioteka Raczyńskich\, pl. Wolności 19\, Poznań\, 61-739\, Polska
CATEGORIES:dla Dzieci,dla wszystkich
END:VEVENT
BEGIN:VEVENT
DTSTART;TZID=Europe/Warsaw:20190330T120000
DTEND;TZID=Europe/Warsaw:20190330T140000
DTSTAMP:20260420T154703
CREATED:20190215T100404Z
LAST-MODIFIED:20190215T100404Z
UID:3477-1553947200-1553954400@bracz.edu.pl
SUMMARY:3TATY\, 4 ŻYWIOŁY: Z Polski na szerokie wody
DESCRIPTION:
URL:https://bracz.edu.pl/event/3taty-4-zywioly-z-polski-na-szerokie-wody/
LOCATION:Biblioteka Raczyńskich\, pl. Wolności 19\, Poznań\, 61-739\, Polska
CATEGORIES:dla Dzieci
END:VEVENT
BEGIN:VEVENT
DTSTART;TZID=Europe/Warsaw:20190309T110000
DTEND;TZID=Europe/Warsaw:20190309T120000
DTSTAMP:20260420T154703
CREATED:20190215T081452Z
LAST-MODIFIED:20190215T081452Z
UID:3422-1552129200-1552132800@bracz.edu.pl
SUMMARY:Rodzinne czytanie  „Mary Poppins”
DESCRIPTION:
URL:https://bracz.edu.pl/event/rodzinne-czytanie-mary-poppins/
LOCATION:Biblioteka Raczyńskich\, pl. Wolności 19\, Poznań\, 61-739\, Polska
CATEGORIES:dla Dzieci
END:VEVENT
BEGIN:VEVENT
DTSTART;TZID=Europe/Warsaw:20190302T120000
DTEND;TZID=Europe/Warsaw:20190302T140000
DTSTAMP:20260420T154703
CREATED:20190214T141136Z
LAST-MODIFIED:20190214T141136Z
UID:3403-1551528000-1551535200@bracz.edu.pl
SUMMARY:3TATY\,  4 ŻYWIOŁY  Na początku był las
DESCRIPTION:
URL:https://bracz.edu.pl/event/3taty-4-zywioly-na-poczatku-byl-las/
LOCATION:Biblioteka Raczyńskich\, pl. Wolności 19\, Poznań\, 61-739\, Polska
CATEGORIES:dla Dzieci
END:VEVENT
BEGIN:VEVENT
DTSTART;TZID=Europe/Warsaw:20190112T110000
DTEND;TZID=Europe/Warsaw:20190112T120000
DTSTAMP:20260420T154703
CREATED:20181218T115939Z
LAST-MODIFIED:20181218T115939Z
UID:2894-1547290800-1547294400@bracz.edu.pl
SUMMARY:Rodzinne czytanie: „Opowieści z Narnii”.
DESCRIPTION:
URL:https://bracz.edu.pl/event/rodzinne-czytanie-opowiesci-z-narnii/
LOCATION:Biblioteka Raczyńskich\, pl. Wolności 19\, Poznań\, 61-739\, Polska
CATEGORIES:dla Dzieci
END:VEVENT
BEGIN:VEVENT
DTSTART;TZID=Europe/Warsaw:20181208T110000
DTEND;TZID=Europe/Warsaw:20181208T120000
DTSTAMP:20260420T154703
CREATED:20181121T134604Z
LAST-MODIFIED:20181126T145057Z
UID:2411-1544266800-1544270400@bracz.edu.pl
SUMMARY:Rodzinne czytanie. Amelia Bedelia i Boże Narodzenie
DESCRIPTION:
URL:https://bracz.edu.pl/event/rodzinne-czytanie-amelia-bedelia/
CATEGORIES:dla Dzieci
END:VEVENT
BEGIN:VEVENT
DTSTART;TZID=Europe/Warsaw:20181124T120000
DTEND;TZID=Europe/Warsaw:20181124T133000
DTSTAMP:20260420T154703
CREATED:20181011T123315Z
LAST-MODIFIED:20181011T123315Z
UID:1654-1543060800-1543066200@bracz.edu.pl
SUMMARY:CZYTATY2 Bracia Grimm\, Jaś i Baba Jaga
DESCRIPTION:
URL:https://bracz.edu.pl/event/czytaty2-bracia-grimm-jas-i-baba-jaga/
LOCATION:Biblioteka Raczyńskich Filia Naramowicka\, ul. Rubież 14a\, Poznań
CATEGORIES:dla Dzieci
END:VEVENT
BEGIN:VEVENT
DTSTART;TZID=Europe/Warsaw:20181013T110000
DTEND;TZID=Europe/Warsaw:20181013T120000
DTSTAMP:20260420T154703
CREATED:20181010T112120Z
LAST-MODIFIED:20181010T112120Z
UID:1419-1539428400-1539432000@bracz.edu.pl
SUMMARY:Rodzinne czytanie "Bajek" Miloša Macourka
DESCRIPTION:
URL:https://bracz.edu.pl/event/rodzinne-czytanie-bajek-milosa-macourka/
CATEGORIES:dla Dzieci
END:VEVENT
BEGIN:VEVENT
DTSTART;TZID=Europe/Warsaw:20180915T120000
DTEND;TZID=Europe/Warsaw:20180915T133000
DTSTAMP:20260420T154703
CREATED:20180829T132349Z
LAST-MODIFIED:20181010T075348Z
UID:1038-1537012800-1537018200@bracz.edu.pl
SUMMARY:CZYTATY2 na Naramowicach
DESCRIPTION:
URL:https://bracz.edu.pl/event/czytaty2-na-naramowicach/
LOCATION:Biblioteka Raczyńskich Filia Naramowicka\, ul. Rubież 14a\, Poznań
CATEGORIES:dla Dzieci
END:VEVENT
BEGIN:VEVENT
DTSTART;TZID=Europe/Warsaw:20180727T085814
DTEND;TZID=Europe/Warsaw:20180727T085814
DTSTAMP:20260420T154703
CREATED:20180727T083633Z
LAST-MODIFIED:20180727T085814Z
UID:987-1532681894-1532681894@bracz.edu.pl
SUMMARY:Spektakl Pan Kuleczka
DESCRIPTION:Pan Kuleczka\, postać stworzona przez Wojciecha Widłaka\, to jeden z najbardziej lubianych bohaterów literatury dziecięcej. Na spektakl Piotra Witonia inspirowany książką zapraszamy małych i dużych wielbicieli spokojnego optymizmu Pana Kuleczki oraz jego wspaniałych towarzyszy: Kaczki Katastrofy\, Psa Pypcia i Muchy Bzyk-Bzyk. Wstęp na spektakl jest wolny.
URL:https://bracz.edu.pl/event/spektakl-pan-kuleczka/
LOCATION:Biblioteka Raczyńskich Filia 2\, os. Oświecenia 59\, Poznań\, Polska
CATEGORIES:dla Dzieci
END:VEVENT
BEGIN:VEVENT
DTSTART;TZID=Europe/Warsaw:20180609T120000
DTEND;TZID=Europe/Warsaw:20180609T120000
DTSTAMP:20260420T154704
CREATED:20180510T130955Z
LAST-MODIFIED:20180511T075810Z
UID:323-1528545600-1528545600@bracz.edu.pl
SUMMARY:CZYTATY2 Hobbici w starej szafie. Nowe baśnie
DESCRIPTION:O tym\,  czy współcześnie pisze się baśnie\, a także co z baśniowym światem łączy twórczość Tolkiena i Lewisa opowie bajarz\, poszukiwacz opowieści  Łukasz Bernady. Dodatkową atrakcją spotkania będzie bajeczny pokaz  malowania na wodzie\, przeprowadzony przez  Katarzynę Hertmanowską.
URL:https://bracz.edu.pl/event/czytaty2-hobbici-w-starej-szafie-nowe-basnie/
CATEGORIES:dla Dzieci
END:VEVENT
BEGIN:VEVENT
DTSTART;TZID=Europe/Warsaw:20180529T100000
DTEND;TZID=Europe/Warsaw:20180529T100000
DTSTAMP:20260420T154704
CREATED:20180510T141432Z
LAST-MODIFIED:20180510T142448Z
UID:331-1527588000-1527588000@bracz.edu.pl
SUMMARY:Meksykańskie spotkanie z Szymonem Góralczykiem
DESCRIPTION:
URL:https://bracz.edu.pl/event/meksykanskie-spotkanie-z-szymonem-goralczykiem/
CATEGORIES:dla Dzieci
END:VEVENT
END:VCALENDAR