BEGIN:VCALENDAR
VERSION:2.0
PRODID:-//Biblioteka Raczyńskich - ECPv6.2.3//NONSGML v1.0//EN
CALSCALE:GREGORIAN
METHOD:PUBLISH
X-WR-CALNAME:Biblioteka Raczyńskich
X-ORIGINAL-URL:https://bracz.edu.pl
X-WR-CALDESC:Events for Biblioteka Raczyńskich
REFRESH-INTERVAL;VALUE=DURATION:PT1H
X-Robots-Tag:noindex
X-PUBLISHED-TTL:PT1H
BEGIN:VTIMEZONE
TZID:Europe/Warsaw
BEGIN:DAYLIGHT
TZOFFSETFROM:+0100
TZOFFSETTO:+0200
TZNAME:CEST
DTSTART:20240331T010000
END:DAYLIGHT
BEGIN:STANDARD
TZOFFSETFROM:+0200
TZOFFSETTO:+0100
TZNAME:CET
DTSTART:20241027T010000
END:STANDARD
END:VTIMEZONE
BEGIN:VEVENT
DTSTART;TZID=Europe/Warsaw:20241028T180000
DTEND;TZID=Europe/Warsaw:20241028T193000
DTSTAMP:20260423T003737
CREATED:20240920T095805Z
LAST-MODIFIED:20240920T095805Z
UID:27572-1730138400-1730143800@bracz.edu.pl
SUMMARY:„Powiedz Chopinowi\, że otaczam go czcią bałwochwalczą”. O Chopinie i pani Sand. Wykład koncertowy
DESCRIPTION:
URL:https://bracz.edu.pl/event/powiedz-chopinowi-ze-otaczam-go-czcia-balwochwalcza-o-chopinie-i-pani-sand-wyklad-koncertowy/
END:VEVENT
BEGIN:VEVENT
DTSTART;TZID=Europe/Warsaw:20241028T090000
DTEND;TZID=Europe/Warsaw:20241028T200000
DTSTAMP:20260423T003737
CREATED:20241008T135548Z
LAST-MODIFIED:20241008T135548Z
UID:27797-1730106000-1730145600@bracz.edu.pl
SUMMARY:ZAPISY na kurs komputerowy dla seniorów „Pierwsze kroki w internecie”
DESCRIPTION:
URL:https://bracz.edu.pl/event/zapisy-na-kurs-komputerowy-dla-seniorow-pierwsze-kroki-w-internecie/
END:VEVENT
BEGIN:VEVENT
DTSTART;TZID=Europe/Warsaw:20241026T123000
DTEND;TZID=Europe/Warsaw:20241026T133000
DTSTAMP:20260423T003737
CREATED:20240920T093702Z
LAST-MODIFIED:20241001T094743Z
UID:27565-1729945800-1729949400@bracz.edu.pl
SUMMARY:Splątane losy pisarza i dzieła. Nowa edycja powieści Henryka Sienkiewicza „Rodzina Połanieckich”. Wykład prof. Ewy Skorupy
DESCRIPTION:
URL:https://bracz.edu.pl/event/splatane-losy-pisarza-i-dziela-nowa-edycja-powiesci-henryka-sienkiewicza-rodzina-polanieckich-wyklad-prof-ewy-skorupy/
END:VEVENT
BEGIN:VEVENT
DTSTART;TZID=Europe/Warsaw:20241026T110000
DTEND;TZID=Europe/Warsaw:20241026T120000
DTSTAMP:20260423T003737
CREATED:20240920T091524Z
LAST-MODIFIED:20240920T091701Z
UID:27559-1729940400-1729944000@bracz.edu.pl
SUMMARY:Oprowadzanie kuratorskie: Trójkąty miłosne u Sienkiewicza. Odsłona II „Rodzina Połanieckich”
DESCRIPTION:
URL:https://bracz.edu.pl/event/oprowadzanie-kuratorskie-trojkaty-milosne-u-sienkiewicza-odslona-ii-rodzina-polanieckich-3/
END:VEVENT
BEGIN:VEVENT
DTSTART;TZID=Europe/Warsaw:20241026T110000
DTEND;TZID=Europe/Warsaw:20241026T120000
DTSTAMP:20260423T003737
CREATED:20240920T084914Z
LAST-MODIFIED:20240920T084914Z
UID:27553-1729940400-1729944000@bracz.edu.pl
SUMMARY:Guided tour of the Raczyński Library in English
DESCRIPTION:
URL:https://bracz.edu.pl/event/guided-tour-of-the-raczynski-library-in-english/
END:VEVENT
BEGIN:VEVENT
DTSTART;TZID=Europe/Warsaw:20241025T180000
DTEND;TZID=Europe/Warsaw:20241025T200000
DTSTAMP:20260423T003737
CREATED:20240918T141804Z
LAST-MODIFIED:20240918T141804Z
UID:27500-1729879200-1729886400@bracz.edu.pl
SUMMARY:Klub Książki u Raczyńskich. „Pokonać mur” Mariny Abramović
DESCRIPTION:
URL:https://bracz.edu.pl/event/klub-ksiazki-u-raczynskich-pokonac-mur-mariny-abramovic/
END:VEVENT
BEGIN:VEVENT
DTSTART;TZID=Europe/Warsaw:20241024T180000
DTEND;TZID=Europe/Warsaw:20241024T193000
DTSTAMP:20260423T003737
CREATED:20240918T084244Z
LAST-MODIFIED:20240918T141452Z
UID:27486-1729792800-1729798200@bracz.edu.pl
SUMMARY:Jak doktor filozofii zbudował Fabrykę\, która produkuje już prawie 190 lat
DESCRIPTION:
URL:https://bracz.edu.pl/event/jak-doktor-filozofii-zbudowal-fabryke-ktora-produkuje-juz-prawie-190-lat/
END:VEVENT
BEGIN:VEVENT
DTSTART;TZID=Europe/Warsaw:20241024T170000
DTEND;TZID=Europe/Warsaw:20241024T183000
DTSTAMP:20260423T003737
CREATED:20241008T075532Z
LAST-MODIFIED:20241008T075532Z
UID:27775-1729789200-1729794600@bracz.edu.pl
SUMMARY:Wildecki Klub Książki
DESCRIPTION:
URL:https://bracz.edu.pl/event/wildecki-klub-ksiazki-2/
END:VEVENT
BEGIN:VEVENT
DTSTART;TZID=Europe/Warsaw:20241023T180000
DTEND;TZID=Europe/Warsaw:20241023T193000
DTSTAMP:20260423T003737
CREATED:20240917T134355Z
LAST-MODIFIED:20240917T134355Z
UID:27482-1729706400-1729711800@bracz.edu.pl
SUMMARY:Z Archiwum Książki Dziecięcej. Montessori z bliska
DESCRIPTION:
URL:https://bracz.edu.pl/event/z-archiwum-ksiazki-dzieciecej-montessori-z-bliska/
END:VEVENT
BEGIN:VEVENT
DTSTART;TZID=Europe/Warsaw:20241022T180000
DTEND;TZID=Europe/Warsaw:20241022T200000
DTSTAMP:20260423T003737
CREATED:20240917T123037Z
LAST-MODIFIED:20240917T123037Z
UID:27474-1729620000-1729627200@bracz.edu.pl
SUMMARY:Spotkanie bez fikcji. Cezary Łazarewicz „Na Szewskiej. Sprawa Stanisława Pyjasa”
DESCRIPTION:
URL:https://bracz.edu.pl/event/spotkanie-bez-fikcji-cezary-lazarewicz-na-szewskiej-sprawa-stanislawa-pyjasa/
END:VEVENT
BEGIN:VEVENT
DTSTART;TZID=Europe/Warsaw:20241022T100000
DTEND;TZID=Europe/Warsaw:20241023T160000
DTSTAMP:20260423T003737
CREATED:20240917T132726Z
LAST-MODIFIED:20240917T132744Z
UID:27478-1729591200-1729699200@bracz.edu.pl
SUMMARY:Sesja naukowa „Nie pochlebiałem nikomu\, nie dworaczyłem niczemu”
DESCRIPTION:
URL:https://bracz.edu.pl/event/sesja-naukowa-nie-pochlebialem-nikomu-nie-dworaczylem-niczemu/
END:VEVENT
BEGIN:VEVENT
DTSTART;TZID=Europe/Warsaw:20241021T173000
DTEND;TZID=Europe/Warsaw:20241021T193000
DTSTAMP:20260423T003737
CREATED:20240917T122236Z
LAST-MODIFIED:20240917T122300Z
UID:27470-1729531800-1729539000@bracz.edu.pl
SUMMARY:Promocja książki „Dykteryjki przedśmiertne wszystkie” Jana Kulmy
DESCRIPTION:
URL:https://bracz.edu.pl/event/promocja-ksiazki-dykteryjki-przedsmiertne-wszystkie-jana-kulmy/
END:VEVENT
BEGIN:VEVENT
DTSTART;TZID=Europe/Warsaw:20241019T140000
DTEND;TZID=Europe/Warsaw:20241019T150000
DTSTAMP:20260423T003737
CREATED:20240917T121433Z
LAST-MODIFIED:20240917T121716Z
UID:27466-1729346400-1729350000@bracz.edu.pl
SUMMARY:Kolory jesieni. Koncert w Muzeum Literackim Henryka Sienkiewicza
DESCRIPTION:
URL:https://bracz.edu.pl/event/kolory-jesieni-koncert-w-muzeum-literackim-henryka-sienkiewicza/
END:VEVENT
BEGIN:VEVENT
DTSTART;TZID=Europe/Warsaw:20241019T120000
DTEND;TZID=Europe/Warsaw:20241019T130000
DTSTAMP:20260423T003737
CREATED:20240917T114845Z
LAST-MODIFIED:20240917T114845Z
UID:27456-1729339200-1729342800@bracz.edu.pl
SUMMARY:CZYTATY w 8 dni dookoła świata. „O królu kruków”. Spektakl Teatru Mozaika
DESCRIPTION:
URL:https://bracz.edu.pl/event/czytaty-w-8-dni-dookola-swiata-o-krolu-krukow-spektakl-teatru-mozaika/
END:VEVENT
BEGIN:VEVENT
DTSTART;TZID=Europe/Warsaw:20241016T180000
DTEND;TZID=Europe/Warsaw:20241016T200000
DTSTAMP:20260423T003737
CREATED:20240917T114444Z
LAST-MODIFIED:20240917T114444Z
UID:27452-1729101600-1729108800@bracz.edu.pl
SUMMARY:Spotkanie z Michałem Januszkiewiczem i Bogną Wiczyńską\, autorami monografii poświęconych Andrzejowi Babińskiemu
DESCRIPTION:
URL:https://bracz.edu.pl/event/spotkanie-z-michalem-januszkiewiczem-i-bogna-wiczynska-autorami-monografii-poswieconych-andrzejowi-babinskiemu/
END:VEVENT
BEGIN:VEVENT
DTSTART;TZID=Europe/Warsaw:20241016T170000
DTEND;TZID=Europe/Warsaw:20241016T183000
DTSTAMP:20260423T003737
CREATED:20240917T111220Z
LAST-MODIFIED:20240917T111220Z
UID:27447-1729098000-1729103400@bracz.edu.pl
SUMMARY:Spotkanie z Tomaszem Owsianym o Paragwaju w Filii 8
DESCRIPTION:
URL:https://bracz.edu.pl/event/spotkanie-z-tomaszem-owsianym-o-paragwaju-w-filii-8/
END:VEVENT
BEGIN:VEVENT
DTSTART;TZID=Europe/Warsaw:20241015T160000
DTEND;TZID=Europe/Warsaw:20241015T170000
DTSTAMP:20260423T003737
CREATED:20241001T113037Z
LAST-MODIFIED:20241001T113037Z
UID:27717-1729008000-1729011600@bracz.edu.pl
SUMMARY:Wtorek dla seniora. Koncert "Łużyckim traktem"
DESCRIPTION:
URL:https://bracz.edu.pl/event/wtorek-dla-seniora-koncert-luzyckim-traktem/
END:VEVENT
BEGIN:VEVENT
DTSTART;TZID=Europe/Warsaw:20241014T180000
DTEND;TZID=Europe/Warsaw:20241016T190000
DTSTAMP:20260423T003737
CREATED:20240917T104714Z
LAST-MODIFIED:20240917T104714Z
UID:27443-1728928800-1729105200@bracz.edu.pl
SUMMARY:Dni Kultury Czeskiej
DESCRIPTION:
URL:https://bracz.edu.pl/event/dni-kultury-czeskiej-4/
END:VEVENT
BEGIN:VEVENT
DTSTART;TZID=Europe/Warsaw:20241014T180000
DTEND;TZID=Europe/Warsaw:20241014T200000
DTSTAMP:20260423T003737
CREATED:20240916T135306Z
LAST-MODIFIED:20240916T135306Z
UID:27436-1728928800-1728936000@bracz.edu.pl
SUMMARY:Melchior Wańkowicz - biografia złożona
DESCRIPTION:
URL:https://bracz.edu.pl/event/melchior-wankowicz-biografia-zlozona/
END:VEVENT
BEGIN:VEVENT
DTSTART;TZID=Europe/Warsaw:20241012T110000
DTEND;TZID=Europe/Warsaw:20241012T123000
DTSTAMP:20260423T003738
CREATED:20240916T134330Z
LAST-MODIFIED:20240916T134426Z
UID:27431-1728730800-1728736200@bracz.edu.pl
SUMMARY:Z Archiwum Książki Dziecięcej. Bałagan w emocjach
DESCRIPTION:
URL:https://bracz.edu.pl/event/z-archiwum-ksiazki-dzieciecej-balagan-w-emocjach/
END:VEVENT
BEGIN:VEVENT
DTSTART;TZID=Europe/Warsaw:20241012T110000
DTEND;TZID=Europe/Warsaw:20241012T120000
DTSTAMP:20260423T003738
CREATED:20240912T133630Z
LAST-MODIFIED:20240930T061203Z
UID:27402-1728730800-1728734400@bracz.edu.pl
SUMMARY:Warsztaty wokół książki „Magiczny dywan. Opowieści z Ostrowa Tumskiego” w Filii Naramowickiej
DESCRIPTION:
URL:https://bracz.edu.pl/event/warsztaty-wokol-ksiazki-magiczny-dywan-opowiesci-z-ostrowa-tumskiego-w-filii-naramowickiej/
END:VEVENT
BEGIN:VEVENT
DTSTART;TZID=Europe/Warsaw:20241011T090000
DTEND;TZID=Europe/Warsaw:20241011T210000
DTSTAMP:20260423T003738
CREATED:20240912T135613Z
LAST-MODIFIED:20240912T135706Z
UID:27406-1728637200-1728680400@bracz.edu.pl
SUMMARY:Noc Bibliotek - Moc Bibliotek
DESCRIPTION:
URL:https://bracz.edu.pl/event/noc-bibliotek-moc-bibliotek/
END:VEVENT
BEGIN:VEVENT
DTSTART;TZID=Europe/Warsaw:20241010T180000
DTEND;TZID=Europe/Warsaw:20241010T200000
DTSTAMP:20260423T003738
CREATED:20240912T132644Z
LAST-MODIFIED:20240912T132644Z
UID:27396-1728583200-1728590400@bracz.edu.pl
SUMMARY:Spotkanie bez fikcji. Szymon J. Wróbel „Zawieszeni. O zaginionych i ludziach\, którzy ich szukają”
DESCRIPTION:
URL:https://bracz.edu.pl/event/spotkanie-bez-fikcji-szymon-j-wrobel-zawieszeni-o-zaginionych-i-ludziach-ktorzy-ich-szukaja/
END:VEVENT
BEGIN:VEVENT
DTSTART;TZID=Europe/Warsaw:20241009T180000
DTEND;TZID=Europe/Warsaw:20241009T200000
DTSTAMP:20260423T003738
CREATED:20240912T132339Z
LAST-MODIFIED:20240912T132339Z
UID:27392-1728496800-1728504000@bracz.edu.pl
SUMMARY:Chwile miasta. Poznań w akwareli Mariusza Sołtysiaka. Wernisaż wystawy
DESCRIPTION:
URL:https://bracz.edu.pl/event/chwile-miasta-poznan-w-akwareli-mariusza-soltysiaka-wernisaz-wystawy/
END:VEVENT
BEGIN:VEVENT
DTSTART;TZID=Europe/Warsaw:20241009T170000
DTEND;TZID=Europe/Warsaw:20241009T190000
DTSTAMP:20260423T003738
CREATED:20240912T124043Z
LAST-MODIFIED:20240912T124043Z
UID:27388-1728493200-1728500400@bracz.edu.pl
SUMMARY:„Czytanie Biblii”. Motywy biblijne i starotestamentowe w twórczości J. Piotrowicza. Wernisaż wystawy w Filii 11
DESCRIPTION:
URL:https://bracz.edu.pl/event/czytanie-biblii-motywy-biblijne-i-starotestamentowe-w-tworczosci-j-piotrowicza-wernisaz-wystawy-w-filii-11/
END:VEVENT
BEGIN:VEVENT
DTSTART;TZID=Europe/Warsaw:20241009T123000
DTEND;TZID=Europe/Warsaw:20241009T133000
DTSTAMP:20260423T003738
CREATED:20240912T123548Z
LAST-MODIFIED:20240912T123548Z
UID:27384-1728477000-1728480600@bracz.edu.pl
SUMMARY:Zwiedzanie Mieszkania-Pracowni Kazimiery Iłłakowiczówny
DESCRIPTION:
URL:https://bracz.edu.pl/event/zwiedzanie-mieszkania-pracowni-kazimiery-illakowiczowny-17/
END:VEVENT
BEGIN:VEVENT
DTSTART;TZID=Europe/Warsaw:20241007T180000
DTEND;TZID=Europe/Warsaw:20241007T200000
DTSTAMP:20260423T003738
CREATED:20240912T122234Z
LAST-MODIFIED:20240912T122234Z
UID:27380-1728324000-1728331200@bracz.edu.pl
SUMMARY:„Okruchy. Myśli o antyku”. Spotkanie z prof. Elżbietą Wesołowską
DESCRIPTION:
URL:https://bracz.edu.pl/event/okruchy-mysli-o-antyku-spotkanie-z-prof-elzbieta-wesolowska/
END:VEVENT
BEGIN:VEVENT
DTSTART;TZID=Europe/Warsaw:20241007T170000
DTEND;TZID=Europe/Warsaw:20241007T183000
DTSTAMP:20260423T003738
CREATED:20240912T121241Z
LAST-MODIFIED:20241001T104146Z
UID:27375-1728320400-1728325800@bracz.edu.pl
SUMMARY:„Wielka ucieczka wawelskiego smoka”. Spotkanie Robbem Maciągiem w Filii 20
DESCRIPTION:
URL:https://bracz.edu.pl/event/wielka-ucieczka-wawelskiego-smoka-spotkanie-robbem-maciagiem-w-filii-20/
END:VEVENT
BEGIN:VEVENT
DTSTART;TZID=Europe/Warsaw:20241005T150000
DTEND;TZID=Europe/Warsaw:20241005T170000
DTSTAMP:20260423T003738
CREATED:20240912T120709Z
LAST-MODIFIED:20240912T120709Z
UID:27371-1728140400-1728147600@bracz.edu.pl
SUMMARY:Oczy w niebo! Niebo w rękach! Spotkanie z astronomicznymi skarbami ze Zbiorów Specjalnych Biblioteki Raczyńskich
DESCRIPTION:
URL:https://bracz.edu.pl/event/oczy-w-niebo-niebo-w-rekach-spotkanie-z-astronomicznymi-skarbami-ze-zbiorow-specjalnych-biblioteki-raczynskich/
END:VEVENT
BEGIN:VEVENT
DTSTART;TZID=Europe/Warsaw:20241005T123000
DTEND;TZID=Europe/Warsaw:20241005T140000
DTSTAMP:20260423T003738
CREATED:20240912T115913Z
LAST-MODIFIED:20240912T115913Z
UID:27367-1728131400-1728136800@bracz.edu.pl
SUMMARY:Sienkiewicz do Poznania! Spotkanie wokół wątków wielkopolskich
DESCRIPTION:
URL:https://bracz.edu.pl/event/sienkiewicz-do-poznania-spotkanie-wokol-watkow-wielkopolskich/
END:VEVENT
END:VCALENDAR