BEGIN:VCALENDAR
VERSION:2.0
PRODID:-//Biblioteka Raczyńskich - ECPv6.2.3//NONSGML v1.0//EN
CALSCALE:GREGORIAN
METHOD:PUBLISH
X-WR-CALNAME:Biblioteka Raczyńskich
X-ORIGINAL-URL:https://bracz.edu.pl
X-WR-CALDESC:Events for Biblioteka Raczyńskich
REFRESH-INTERVAL;VALUE=DURATION:PT1H
X-Robots-Tag:noindex
X-PUBLISHED-TTL:PT1H
BEGIN:VTIMEZONE
TZID:Europe/Warsaw
BEGIN:DAYLIGHT
TZOFFSETFROM:+0100
TZOFFSETTO:+0200
TZNAME:CEST
DTSTART:20250330T010000
END:DAYLIGHT
BEGIN:STANDARD
TZOFFSETFROM:+0200
TZOFFSETTO:+0100
TZNAME:CET
DTSTART:20251026T010000
END:STANDARD
END:VTIMEZONE
BEGIN:VEVENT
DTSTART;TZID=Europe/Warsaw:20251118T160000
DTEND;TZID=Europe/Warsaw:20251118T173000
DTSTAMP:20260420T072238
CREATED:20251015T102526Z
LAST-MODIFIED:20251015T102548Z
UID:32523-1763481600-1763487000@bracz.edu.pl
SUMMARY:Wtorek dla seniora. Kocham jesień. Spotkanie psychologiczne z Katarzyną Fenzel
DESCRIPTION:
URL:https://bracz.edu.pl/event/wtorek-dla-seniora-kocham-jesien-spotkanie-psychologiczne-z-katarzyna-fenzel/
END:VEVENT
BEGIN:VEVENT
DTSTART;TZID=Europe/Warsaw:20251118T100000
DTEND;TZID=Europe/Warsaw:20251118T150000
DTSTAMP:20260420T072238
CREATED:20251015T094909Z
LAST-MODIFIED:20251113T141718Z
UID:32519-1763460000-1763478000@bracz.edu.pl
SUMMARY:„Na szlakach twórczych Marii Wicherkiewiczowej. Z Szamotuł do Poznania”. Konferencja w 150-lecie urodzin pisarki\, malarki\, badaczki dziejów Poznania
DESCRIPTION:
URL:https://bracz.edu.pl/event/na-szlakach-tworczych-marii-wicherkiewiczowej-z-szamotul-do-poznania-konferencja-w-150-lecie-urodzin-pisarki-malarki-badaczki-dziejow-poznania/
END:VEVENT
BEGIN:VEVENT
DTSTART;TZID=Europe/Warsaw:20251117T180000
DTEND;TZID=Europe/Warsaw:20251117T193000
DTSTAMP:20260420T072238
CREATED:20251015T093540Z
LAST-MODIFIED:20251015T093540Z
UID:32512-1763402400-1763407800@bracz.edu.pl
SUMMARY:Przekleństwo podróżowania. Spotkanie z Pauliną Wilk
DESCRIPTION:
URL:https://bracz.edu.pl/event/przeklenstwo-podrozowania-spotkanie-z-paulina-wilk/
END:VEVENT
BEGIN:VEVENT
DTSTART;TZID=Europe/Warsaw:20251115T110000
DTEND;TZID=Europe/Warsaw:20251115T130000
DTSTAMP:20260420T072238
CREATED:20251015T092608Z
LAST-MODIFIED:20251015T092608Z
UID:32508-1763204400-1763211600@bracz.edu.pl
SUMMARY:Z Archiwum Książki Dziecięcej. Kiesostwory i słowiańskie echa – warsztaty dla dzieci
DESCRIPTION:
URL:https://bracz.edu.pl/event/z-archiwum-ksiazki-dzieciecej-kiesostwory-i-slowianskie-echa-warsztaty-dla-dzieci/
END:VEVENT
BEGIN:VEVENT
DTSTART;TZID=Europe/Warsaw:20251114T180000
DTEND;TZID=Europe/Warsaw:20251114T200000
DTSTAMP:20260420T072238
CREATED:20251015T084621Z
LAST-MODIFIED:20251015T084621Z
UID:32504-1763143200-1763150400@bracz.edu.pl
SUMMARY:Klub Książki u Raczyńskich. „Fizyka smutku” Georgiego Gospodinova
DESCRIPTION:
URL:https://bracz.edu.pl/event/klub-ksiazki-u-raczynskich-fizyka-smutku-georgiego-gospodinova/
END:VEVENT
BEGIN:VEVENT
DTSTART;TZID=Europe/Warsaw:20251114T170000
DTEND;TZID=Europe/Warsaw:20251114T180000
DTSTAMP:20260420T072238
CREATED:20251015T083153Z
LAST-MODIFIED:20251015T083153Z
UID:32500-1763139600-1763143200@bracz.edu.pl
SUMMARY:Koncert pieśni patriotycznych w wykonaniu Barbary i Szymona Trittów w Filii 15
DESCRIPTION:
URL:https://bracz.edu.pl/event/koncert-piesni-patriotycznych-w-wykonaniu-barbary-i-szymona-trittow-w-filii-15/
END:VEVENT
BEGIN:VEVENT
DTSTART;TZID=Europe/Warsaw:20251113T170000
DTEND;TZID=Europe/Warsaw:20251113T183000
DTSTAMP:20260420T072238
CREATED:20251015T081328Z
LAST-MODIFIED:20251103T112048Z
UID:32490-1763053200-1763058600@bracz.edu.pl
SUMMARY:Spotkania z psychologią. „Powrót do ciała. Jak odzyskać siebie po doświadczeniu traumy”. Promocja książki Sabiny Sadeckiej. BRAK MIEJSC
DESCRIPTION:
URL:https://bracz.edu.pl/event/spotkania-z-psychologia-powrot-do-ciala-jak-odzyskac-siebie-po-doswiadczeniu-traumy-promocja-ksiazki-sabiny-sadeckiej/
END:VEVENT
BEGIN:VEVENT
DTSTART;TZID=Europe/Warsaw:20251112T180000
DTEND;TZID=Europe/Warsaw:20251112T193000
DTSTAMP:20260420T072238
CREATED:20251017T101611Z
LAST-MODIFIED:20251017T101611Z
UID:32602-1762970400-1762975800@bracz.edu.pl
SUMMARY:Prawdziwa Chopiniada. Spotkanie autorskie z Iwoną Puchalską i Małgorzatą Sokalską
DESCRIPTION:
URL:https://bracz.edu.pl/event/prawdziwa-chopiniada-spotkanie-autorskie-z-iwona-puchalska-i-malgorzata-sokalska/
END:VEVENT
BEGIN:VEVENT
DTSTART;TZID=Europe/Warsaw:20251112T180000
DTEND;TZID=Europe/Warsaw:20251112T193000
DTSTAMP:20260420T072238
CREATED:20251015T075728Z
LAST-MODIFIED:20251104T093343Z
UID:32486-1762970400-1762975800@bracz.edu.pl
SUMMARY:Koncert z okazji Święta Niepodległości. BRAK MIEJSC
DESCRIPTION:
URL:https://bracz.edu.pl/event/koncert-na-dzien-niepodleglosci-2/
END:VEVENT
BEGIN:VEVENT
DTSTART;TZID=Europe/Warsaw:20251112T123000
DTEND;TZID=Europe/Warsaw:20251112T133000
DTSTAMP:20260420T072238
CREATED:20251029T120156Z
LAST-MODIFIED:20251029T120156Z
UID:32644-1762950600-1762954200@bracz.edu.pl
SUMMARY:Zwiedzanie Mieszkania-Pracowni Kazimiery Iłłakowiczówny
DESCRIPTION:
URL:https://bracz.edu.pl/event/zwiedzanie-mieszkania-pracowni-kazimiery-illakowiczowny-38/
END:VEVENT
BEGIN:VEVENT
DTSTART;TZID=Europe/Warsaw:20251107T170000
DTEND;TZID=Europe/Warsaw:20251107T183000
DTSTAMP:20260420T072238
CREATED:20251015T074726Z
LAST-MODIFIED:20251015T074726Z
UID:32482-1762534800-1762540200@bracz.edu.pl
SUMMARY:Muzeum w walizce – w świecie lalek. Warsztaty w Filii 59
DESCRIPTION:
URL:https://bracz.edu.pl/event/muzeum-w-walizce-w-swiecie-lalek-warsztaty-w-filii-59/
END:VEVENT
BEGIN:VEVENT
DTSTART;TZID=Europe/Warsaw:20251106T180000
DTEND;TZID=Europe/Warsaw:20251106T193000
DTSTAMP:20260420T072238
CREATED:20251015T074257Z
LAST-MODIFIED:20251015T074257Z
UID:32478-1762452000-1762457400@bracz.edu.pl
SUMMARY:Festiwal Dobrego Słowa. Inspirujące rozmowy o szczęściu
DESCRIPTION:
URL:https://bracz.edu.pl/event/festiwal-dobrego-slowa-inspirujace-rozmowy-o-szczesciu/
END:VEVENT
BEGIN:VEVENT
DTSTART;TZID=Europe/Warsaw:20251106T170000
DTEND;TZID=Europe/Warsaw:20251106T183000
DTSTAMP:20260420T072238
CREATED:20251015T072332Z
LAST-MODIFIED:20251015T072332Z
UID:32470-1762448400-1762453800@bracz.edu.pl
SUMMARY:Spotkanie z Barbarą Wysoczańską w Filii Wildeckiej
DESCRIPTION:
URL:https://bracz.edu.pl/event/spotkanie-z-barbara-wysoczanska-w-filii-wildeckiej/
END:VEVENT
BEGIN:VEVENT
DTSTART;TZID=Europe/Warsaw:20251106T170000
DTEND;TZID=Europe/Warsaw:20251106T180000
DTSTAMP:20260420T072238
CREATED:20251015T073646Z
LAST-MODIFIED:20251015T073728Z
UID:32474-1762448400-1762452000@bracz.edu.pl
SUMMARY:Pamiętaj o czwartku. Trening pamięci
DESCRIPTION:
URL:https://bracz.edu.pl/event/pamietaj-o-czwartku-trening-pamieci-5/
END:VEVENT
BEGIN:VEVENT
DTSTART;TZID=Europe/Warsaw:20251105T180000
DTEND;TZID=Europe/Warsaw:20251105T200000
DTSTAMP:20260420T072238
CREATED:20251015T071701Z
LAST-MODIFIED:20251015T071701Z
UID:32466-1762365600-1762372800@bracz.edu.pl
SUMMARY:Spotkanie autorskie z Anną Kokot-Nowak i prezentacja książki „Korepetycje z wojny”
DESCRIPTION:
URL:https://bracz.edu.pl/event/spotkanie-autorskie-z-anna-kokot-nowak-i-prezentacja-ksiazki-korepetycje-z-wojny/
END:VEVENT
BEGIN:VEVENT
DTSTART;TZID=Europe/Warsaw:20251104T170000
DTEND;TZID=Europe/Warsaw:20251104T200000
DTSTAMP:20260420T072238
CREATED:20251020T080822Z
LAST-MODIFIED:20251024T075654Z
UID:32608-1762275600-1762286400@bracz.edu.pl
SUMMARY:Warsztat skryby. Uncjała. BRAK MIEJSC
DESCRIPTION:
URL:https://bracz.edu.pl/event/warsztat-skryby-uncjala/
END:VEVENT
BEGIN:VEVENT
DTSTART;TZID=Europe/Warsaw:20251103T180000
DTEND;TZID=Europe/Warsaw:20251103T200000
DTSTAMP:20260420T072238
CREATED:20251015T065430Z
LAST-MODIFIED:20251015T065430Z
UID:32459-1762192800-1762200000@bracz.edu.pl
SUMMARY:Ile mówią jej zdjęcia. Życie Grażyny Wrońskiej na prywatnych fotografiach
DESCRIPTION:
URL:https://bracz.edu.pl/event/ile-mowia-jej-zdjecia-zycie-grazyny-wronskiej-na-prywatnych-fotografiach/
END:VEVENT
BEGIN:VEVENT
DTSTART;TZID=Europe/Warsaw:20251031T180000
DTEND;TZID=Europe/Warsaw:20251031T193000
DTSTAMP:20260420T072238
CREATED:20250917T140513Z
LAST-MODIFIED:20251015T064223Z
UID:32104-1761933600-1761939000@bracz.edu.pl
SUMMARY:Klub Książki u Raczyńskich. „Jezioro” Bianki Bellovej
DESCRIPTION:
URL:https://bracz.edu.pl/event/klub-ksiazki-u-raczynskich-jezioro-bianki-bellovej/
END:VEVENT
BEGIN:VEVENT
DTSTART;TZID=Europe/Warsaw:20251030T170000
DTEND;TZID=Europe/Warsaw:20251030T200000
DTSTAMP:20260420T072238
CREATED:20250918T102802Z
LAST-MODIFIED:20251006T134545Z
UID:32142-1761843600-1761854400@bracz.edu.pl
SUMMARY:Namaluj sobie smoka. Warsztaty z podstaw iluminacji. BRAK MIEJSC
DESCRIPTION:
URL:https://bracz.edu.pl/event/namaluj-sobie-smoka-warsztaty-z-podstaw-iluminacji/
END:VEVENT
BEGIN:VEVENT
DTSTART;TZID=Europe/Warsaw:20251030T170000
DTEND;TZID=Europe/Warsaw:20251030T183000
DTSTAMP:20260420T072238
CREATED:20251003T124951Z
LAST-MODIFIED:20251003T124951Z
UID:32346-1761843600-1761849000@bracz.edu.pl
SUMMARY:Wildecki Dyskusyjny Klub Książki.  "Chodź ze mną" Łukasza Orbitowskiego
DESCRIPTION:
URL:https://bracz.edu.pl/event/wildecki-dyskusyjny-klub-ksiazki-chodz-ze-mna-lukasza-orbitowskiego/
CATEGORIES:dla Dorosłych
END:VEVENT
BEGIN:VEVENT
DTSTART;TZID=Europe/Warsaw:20251030T170000
DTEND;TZID=Europe/Warsaw:20251030T183000
DTSTAMP:20260420T072238
CREATED:20250918T100937Z
LAST-MODIFIED:20250918T100953Z
UID:32138-1761843600-1761849000@bracz.edu.pl
SUMMARY:Spotkanie z psychologią. Fundamenty zdrowia psychicznego: ugruntowanie\, stabilność\, poczucie własnej wartości
DESCRIPTION:
URL:https://bracz.edu.pl/event/spotkanie-z-psychologia-fundamenty-zdrowia-psychicznego-ugruntowanie-stabilnosc-poczucie-wlasnej-wartosci/
END:VEVENT
BEGIN:VEVENT
DTSTART;TZID=Europe/Warsaw:20251030T100000
DTEND;TZID=Europe/Warsaw:20251030T150000
DTSTAMP:20260420T072238
CREATED:20250918T111922Z
LAST-MODIFIED:20250918T112138Z
UID:32152-1761818400-1761836400@bracz.edu.pl
SUMMARY:Piotr Wedelicki z Obornik – lekarz królewski i bibliofil doby renesansu. Konferencja
DESCRIPTION:
URL:https://bracz.edu.pl/event/piotr-wedelicki-z-obornik-lekarz-krolewski-i-bibliofil-doby-renesansu-konferencja/
END:VEVENT
BEGIN:VEVENT
DTSTART;TZID=Europe/Warsaw:20251029T180000
DTEND;TZID=Europe/Warsaw:20251029T200000
DTSTAMP:20260420T072238
CREATED:20251007T111431Z
LAST-MODIFIED:20251007T111431Z
UID:32368-1761760800-1761768000@bracz.edu.pl
SUMMARY:Badaj i kochaj wszystko. Studia nie tylko o Prusie. Spotkanie poświęcone pamięci Edwarda Pieścikowskiego
DESCRIPTION:
URL:https://bracz.edu.pl/event/badaj-i-kochaj-wszystko-studia-nie-tylko-o-prusie-spotkanie-poswiecone-pamieci-edwarda-piescikowskiego/
END:VEVENT
BEGIN:VEVENT
DTSTART;TZID=Europe/Warsaw:20251029T180000
DTEND;TZID=Europe/Warsaw:20251029T190000
DTSTAMP:20260420T072238
CREATED:20250918T095343Z
LAST-MODIFIED:20251023T075256Z
UID:32134-1761760800-1761764400@bracz.edu.pl
SUMMARY:„Niebo jak turkus\, morze jak lazur; góry jak szmaragd\, powietrze jak w niebie”. O Chopinie i Pani Sand. Wykład Jakuba Dery. OBOWIĄZUJĄ ZAPISY
DESCRIPTION:
URL:https://bracz.edu.pl/event/niebo-jak-turkus-morze-jak-lazur-gory-jak-szmaragd-powietrze-jak-w-niebie-o-chopinie-i-pani-sand-wyklad-jakuba-dery/
END:VEVENT
BEGIN:VEVENT
DTSTART;TZID=Europe/Warsaw:20251029T170000
DTEND;TZID=Europe/Warsaw:20251029T183000
DTSTAMP:20260420T072238
CREATED:20250918T093510Z
LAST-MODIFIED:20250918T093510Z
UID:32130-1761757200-1761762600@bracz.edu.pl
SUMMARY:Klub Książki na Rubieży. Góry na Rubieży. Spotkanie dyskusyjne wokół książki „Wszystko za Everest” Jona Krakauera i literatury górskiej
DESCRIPTION:
URL:https://bracz.edu.pl/event/klub-ksiazki-na-rubiezy-gory-na-rubiezy-spotkanie-dyskusyjne-wokol-ksiazki-wszystko-za-everest-jona-krakauera-i-literatury-gorskiej/
END:VEVENT
BEGIN:VEVENT
DTSTART;TZID=Europe/Warsaw:20251029T123000
DTEND;TZID=Europe/Warsaw:20251029T133000
DTSTAMP:20260420T072238
CREATED:20250917T142739Z
LAST-MODIFIED:20250917T142739Z
UID:32120-1761741000-1761744600@bracz.edu.pl
SUMMARY:Zwiedzanie Mieszkania-Pracowni Kazimiery Iłłakowiczówny
DESCRIPTION:
URL:https://bracz.edu.pl/event/zwiedzanie-mieszkania-pracowni-kazimiery-illakowiczowny-36/
END:VEVENT
BEGIN:VEVENT
DTSTART;TZID=Europe/Warsaw:20251028T123000
DTEND;TZID=Europe/Warsaw:20251028T133000
DTSTAMP:20260420T072238
CREATED:20250917T142405Z
LAST-MODIFIED:20250917T142405Z
UID:32116-1761654600-1761658200@bracz.edu.pl
SUMMARY:Kobiety i Sienkiewicz. Zwiedzanie z przewodnikiem
DESCRIPTION:
URL:https://bracz.edu.pl/event/kobiety-i-sienkiewicz-zwiedzanie-z-przewodnikiem-2/
END:VEVENT
BEGIN:VEVENT
DTSTART;TZID=Europe/Warsaw:20251027T180000
DTEND;TZID=Europe/Warsaw:20251027T193000
DTSTAMP:20260420T072238
CREATED:20250917T141922Z
LAST-MODIFIED:20250917T141922Z
UID:32112-1761588000-1761593400@bracz.edu.pl
SUMMARY:Upiór na kozetce. Czy literatura może uczyć psychoanalizy? Wykład dra Borysa Szumańskiego
DESCRIPTION:
URL:https://bracz.edu.pl/event/upior-na-kozetce-czy-literatura-moze-uczyc-psychoanalizy-wyklad-dra-borysa-szumanskiego/
END:VEVENT
BEGIN:VEVENT
DTSTART;TZID=Europe/Warsaw:20251025T120000
DTEND;TZID=Europe/Warsaw:20251025T133000
DTSTAMP:20260420T072238
CREATED:20250917T141033Z
LAST-MODIFIED:20250917T141033Z
UID:32108-1761393600-1761399000@bracz.edu.pl
SUMMARY:CZYTATY 9 MUZ. Erato. Interaktywny koncert Mozaiki
DESCRIPTION:
URL:https://bracz.edu.pl/event/czytaty-9-muz-erato-interaktywny-koncert-mozaiki/
END:VEVENT
BEGIN:VEVENT
DTSTART;TZID=Europe/Warsaw:20251024T170000
DTEND;TZID=Europe/Warsaw:20251024T183000
DTSTAMP:20260420T072238
CREATED:20250917T135435Z
LAST-MODIFIED:20250917T135435Z
UID:32100-1761325200-1761330600@bracz.edu.pl
SUMMARY:Spotkanie z Krzysztofem Koziołkiem w Filii 15
DESCRIPTION:
URL:https://bracz.edu.pl/event/spotkanie-z-krzysztofem-koziolkiem-w-filii-15/
END:VEVENT
END:VCALENDAR