BEGIN:VCALENDAR
VERSION:2.0
PRODID:-//Biblioteka Raczyńskich - ECPv6.2.3//NONSGML v1.0//EN
CALSCALE:GREGORIAN
METHOD:PUBLISH
X-ORIGINAL-URL:https://bracz.edu.pl
X-WR-CALDESC:Events for Biblioteka Raczyńskich
REFRESH-INTERVAL;VALUE=DURATION:PT1H
X-Robots-Tag:noindex
X-PUBLISHED-TTL:PT1H
BEGIN:VTIMEZONE
TZID:Europe/Warsaw
BEGIN:DAYLIGHT
TZOFFSETFROM:+0100
TZOFFSETTO:+0200
TZNAME:CEST
DTSTART:20240331T010000
END:DAYLIGHT
BEGIN:STANDARD
TZOFFSETFROM:+0200
TZOFFSETTO:+0100
TZNAME:CET
DTSTART:20241027T010000
END:STANDARD
END:VTIMEZONE
BEGIN:VEVENT
DTSTART;TZID=Europe/Warsaw:20240610T180000
DTEND;TZID=Europe/Warsaw:20240610T193000
DTSTAMP:20260421T222957
CREATED:20240521T072105Z
LAST-MODIFIED:20240521T072105Z
UID:26018-1718042400-1718047800@bracz.edu.pl
SUMMARY:Spotkanie z prof. Gabrielą Matuszek-Stec o wydaniach dzieł Przybyszewskiego
DESCRIPTION:
URL:https://bracz.edu.pl/event/spotkanie-z-prof-gabriela-matuszek-stec-o-wydaniach-dziel-przybyszewskiego/
END:VEVENT
BEGIN:VEVENT
DTSTART;TZID=Europe/Warsaw:20240611T180000
DTEND;TZID=Europe/Warsaw:20240611T193000
DTSTAMP:20260421T222957
CREATED:20240521T073323Z
LAST-MODIFIED:20240521T073323Z
UID:26023-1718128800-1718134200@bracz.edu.pl
SUMMARY:Koncert na powitanie lata
DESCRIPTION:
URL:https://bracz.edu.pl/event/koncert-na-powitanie-lata/
END:VEVENT
BEGIN:VEVENT
DTSTART;TZID=Europe/Warsaw:20240612T123000
DTEND;TZID=Europe/Warsaw:20240612T133000
DTSTAMP:20260421T222957
CREATED:20240521T073833Z
LAST-MODIFIED:20240521T073833Z
UID:26026-1718195400-1718199000@bracz.edu.pl
SUMMARY:Zwiedzanie Mieszkania-Pracowni Kazimiery Iłłakowiczówny
DESCRIPTION:
URL:https://bracz.edu.pl/event/zwiedzanie-mieszkania-pracowni-kazimiery-illakowiczowny-10/
END:VEVENT
BEGIN:VEVENT
DTSTART;TZID=Europe/Warsaw:20240612T170000
DTEND;TZID=Europe/Warsaw:20240612T183000
DTSTAMP:20260421T222957
CREATED:20240521T085823Z
LAST-MODIFIED:20240521T085823Z
UID:26050-1718211600-1718217000@bracz.edu.pl
SUMMARY:Spotkanie z Łukaszem Wierzbickiem w Filii 20
DESCRIPTION:
URL:https://bracz.edu.pl/event/spotkanie-z-lukaszem-wierzbickiem-w-filii-20/
END:VEVENT
BEGIN:VEVENT
DTSTART;TZID=Europe/Warsaw:20240613T170000
DTEND;TZID=Europe/Warsaw:20240613T190000
DTSTAMP:20260421T222957
CREATED:20240521T092356Z
LAST-MODIFIED:20240521T120347Z
UID:26054-1718298000-1718305200@bracz.edu.pl
SUMMARY:Paryska Notre-Dame na nowo odkryta 2019-2024. Wykład Yves’a Galleta
DESCRIPTION:
URL:https://bracz.edu.pl/event/paryska-notre-dame-na-nowo-odkryta-2019-2014-wyklad-yvesa-galleta/
END:VEVENT
BEGIN:VEVENT
DTSTART;TZID=Europe/Warsaw:20240614T170000
DTEND;TZID=Europe/Warsaw:20240614T183000
DTSTAMP:20260421T222957
CREATED:20240521T101543Z
LAST-MODIFIED:20240521T101543Z
UID:26058-1718384400-1718389800@bracz.edu.pl
SUMMARY:Warsztaty dla dzieci z pop-upu
DESCRIPTION:
URL:https://bracz.edu.pl/event/warsztaty-dla-dzieci-z-pop-upu/
END:VEVENT
BEGIN:VEVENT
DTSTART;TZID=Europe/Warsaw:20240614T170000
DTEND;TZID=Europe/Warsaw:20240614T183000
DTSTAMP:20260421T222957
CREATED:20240521T102416Z
LAST-MODIFIED:20240521T102416Z
UID:26063-1718384400-1718389800@bracz.edu.pl
SUMMARY:Warsztaty rękodzielnicze dla dorosłych
DESCRIPTION:
URL:https://bracz.edu.pl/event/warsztaty-rekodzielnicze-dla-doroslych/
END:VEVENT
BEGIN:VEVENT
DTSTART;TZID=Europe/Warsaw:20240614T180000
DTEND;TZID=Europe/Warsaw:20240614T193000
DTSTAMP:20260421T222957
CREATED:20240521T102823Z
LAST-MODIFIED:20240521T102823Z
UID:26067-1718388000-1718393400@bracz.edu.pl
SUMMARY:Spotkanie z Agatą Przybyłek
DESCRIPTION:
URL:https://bracz.edu.pl/event/spotkanie-z-agata-przybylek/
END:VEVENT
BEGIN:VEVENT
DTSTART;TZID=Europe/Warsaw:20240615T110000
DTEND;TZID=Europe/Warsaw:20240615T123000
DTSTAMP:20260421T222957
CREATED:20240521T105522Z
LAST-MODIFIED:20240521T105609Z
UID:26071-1718449200-1718454600@bracz.edu.pl
SUMMARY:Mistrz i uczeń. Koncert rodzinny
DESCRIPTION:
URL:https://bracz.edu.pl/event/mistrz-i-uczen-koncert-rodzinny/
END:VEVENT
BEGIN:VEVENT
DTSTART;TZID=Europe/Warsaw:20240615T110000
DTEND;TZID=Europe/Warsaw:20240615T123000
DTSTAMP:20260421T222957
CREATED:20240521T110029Z
LAST-MODIFIED:20240521T110029Z
UID:26075-1718449200-1718454600@bracz.edu.pl
SUMMARY:Z Archiwum Książki Dziecięcej. Spacer śladami rodziny Borejków
DESCRIPTION:
URL:https://bracz.edu.pl/event/z-archiwum-ksiazki-dzieciecej-spacer-sladami-rodziny-borejkow/
END:VEVENT
BEGIN:VEVENT
DTSTART;TZID=Europe/Warsaw:20240615T123000
DTEND;TZID=Europe/Warsaw:20240615T133000
DTSTAMP:20260421T222957
CREATED:20240521T110403Z
LAST-MODIFIED:20240521T110431Z
UID:26079-1718454600-1718458200@bracz.edu.pl
SUMMARY:Oprowadzanie kuratorskie. Trójkąty miłosne u Sienkiewicza. Odsłona II „Rodzina Połanieckich”
DESCRIPTION:
URL:https://bracz.edu.pl/event/oprowadzanie-kuratorskie-trojkaty-milosne-u-sienkiewicza-odslona-ii-rodzina-polanieckich/
END:VEVENT
BEGIN:VEVENT
DTSTART;TZID=Europe/Warsaw:20240615T130000
DTEND;TZID=Europe/Warsaw:20240615T140000
DTSTAMP:20260421T222957
CREATED:20240521T111047Z
LAST-MODIFIED:20240521T111047Z
UID:26083-1718456400-1718460000@bracz.edu.pl
SUMMARY:Tęczowe Seniorki czytają tęczowe bajki
DESCRIPTION:
URL:https://bracz.edu.pl/event/teczowe-seniorki-czytaja-teczowe-bajki/
END:VEVENT
BEGIN:VEVENT
DTSTART;TZID=Europe/Warsaw:20240617T170000
DTEND;TZID=Europe/Warsaw:20240617T183000
DTSTAMP:20260421T222957
CREATED:20240521T112057Z
LAST-MODIFIED:20240521T112057Z
UID:26087-1718643600-1718649000@bracz.edu.pl
SUMMARY:Spotkanie ze Zbigniewem Zachariasikiem\, autorem książki „Klatki schodowe w Poznaniu. Centrum\, Jeżyce\, Łazarz”
DESCRIPTION:
URL:https://bracz.edu.pl/event/spotkanie-ze-zbigniewem-zachariasikiem-autorem-ksiazki-klatki-schodowe-w-poznaniu-centrum-jezyce-lazarz/
END:VEVENT
BEGIN:VEVENT
DTSTART;TZID=Europe/Warsaw:20240618T100000
DTEND;TZID=Europe/Warsaw:20240618T170000
DTSTAMP:20260421T222957
CREATED:20240521T112721Z
LAST-MODIFIED:20240531T124523Z
UID:26092-1718704800-1718730000@bracz.edu.pl
SUMMARY:Kraszewski-Małecki. Miejsca wspólne. Konferencja naukowa
DESCRIPTION:
URL:https://bracz.edu.pl/event/jozef-ignacy-kraszewski-antoni-malecki-miejsca-wspolne-konferencja-naukowa/
END:VEVENT
BEGIN:VEVENT
DTSTART;TZID=Europe/Warsaw:20240618T160000
DTEND;TZID=Europe/Warsaw:20240618T180000
DTSTAMP:20260421T222957
CREATED:20240521T122331Z
LAST-MODIFIED:20240521T122331Z
UID:26102-1718726400-1718733600@bracz.edu.pl
SUMMARY:Wtorek dla seniora. Warsztaty projektowania i malowania biżuterii z drewna
DESCRIPTION:
URL:https://bracz.edu.pl/event/wtorek-dla-seniora-warsztaty-projektowania-i-malowania-bizuterii-z-drewna/
END:VEVENT
BEGIN:VEVENT
DTSTART;TZID=Europe/Warsaw:20240619T110000
DTEND;TZID=Europe/Warsaw:20240619T120000
DTSTAMP:20260421T222957
CREATED:20240521T130555Z
LAST-MODIFIED:20240521T130555Z
UID:26106-1718794800-1718798400@bracz.edu.pl
SUMMARY:Zwiedzanie dla seniorów
DESCRIPTION:
URL:https://bracz.edu.pl/event/zwiedzanie-dla-seniorow-5/
END:VEVENT
BEGIN:VEVENT
DTSTART;TZID=Europe/Warsaw:20240619T170000
DTEND;TZID=Europe/Warsaw:20240619T180000
DTSTAMP:20260421T222957
CREATED:20240521T131404Z
LAST-MODIFIED:20240521T131404Z
UID:26112-1718816400-1718820000@bracz.edu.pl
SUMMARY:Spacer z Iłłą po Starym Mieście. Cz. II – Stary Rynek
DESCRIPTION:
URL:https://bracz.edu.pl/event/spacer-z-illa-po-starym-miescie-cz-ii-stary-rynek/
END:VEVENT
BEGIN:VEVENT
DTSTART;TZID=Europe/Warsaw:20240620T170000
DTEND;TZID=Europe/Warsaw:20240620T183000
DTSTAMP:20260421T222957
CREATED:20240606T073718Z
LAST-MODIFIED:20240606T073718Z
UID:26285-1718902800-1718908200@bracz.edu.pl
SUMMARY:Jak zdrowo i bezpiecznie przetrwać wakacje
DESCRIPTION:
URL:https://bracz.edu.pl/event/jak-zdrowo-i-bezpiecznie-przetrwac-wakacje/
END:VEVENT
BEGIN:VEVENT
DTSTART;TZID=Europe/Warsaw:20240620T173000
DTEND;TZID=Europe/Warsaw:20240620T193000
DTSTAMP:20260421T222957
CREATED:20240521T132602Z
LAST-MODIFIED:20240521T132602Z
UID:26118-1718904600-1718911800@bracz.edu.pl
SUMMARY:W małym kinie u Raczyńskich. Judy i czerwone pantofelki Dorotki
DESCRIPTION:
URL:https://bracz.edu.pl/event/w-malym-kinie-u-raczynskich-judy-i-czerwone-pantofelki-dorotki/
END:VEVENT
BEGIN:VEVENT
DTSTART;TZID=Europe/Warsaw:20240622T113000
DTEND;TZID=Europe/Warsaw:20240622T130000
DTSTAMP:20260421T222957
CREATED:20240521T135739Z
LAST-MODIFIED:20240606T071622Z
UID:26122-1719055800-1719061200@bracz.edu.pl
SUMMARY:CZYTATY w 8 dni dookoła świata. Jak brzmią Indie?
DESCRIPTION:
URL:https://bracz.edu.pl/event/czytaty-w-8-dni-dookola-swiata-jak-brzmia-indie/
END:VEVENT
BEGIN:VEVENT
DTSTART;TZID=Europe/Warsaw:20240624T180000
DTEND;TZID=Europe/Warsaw:20240624T193000
DTSTAMP:20260421T222957
CREATED:20240522T074219Z
LAST-MODIFIED:20240522T074219Z
UID:26128-1719252000-1719257400@bracz.edu.pl
SUMMARY:Czytanie przestrzeni. Humanistyczny Modernizm. Spotkanie z Kacprem Kępińskim poświęcone architekturze Stanisławy i Macieja Nowickich
DESCRIPTION:
URL:https://bracz.edu.pl/event/czytanie-przestrzeni-humanistyczny-modernizm-spotkanie-z-kacprem-kepinskim-poswiecone-architekturze-stanislawy-i-macieja-nowickich/
END:VEVENT
BEGIN:VEVENT
DTSTART;TZID=Europe/Warsaw:20240625T180000
DTEND;TZID=Europe/Warsaw:20240625T193000
DTSTAMP:20260421T222957
CREATED:20240522T081919Z
LAST-MODIFIED:20240522T081919Z
UID:26132-1719338400-1719343800@bracz.edu.pl
SUMMARY:Spotkanie z Bianką Rolando o książce „Nasze Zakopane”
DESCRIPTION:
URL:https://bracz.edu.pl/event/spotkanie-z-bianka-rolando-o-ksiazce-nasze-zakopane/
END:VEVENT
BEGIN:VEVENT
DTSTART;TZID=Europe/Warsaw:20240626T123000
DTEND;TZID=Europe/Warsaw:20240626T133000
DTSTAMP:20260421T222957
CREATED:20240522T090947Z
LAST-MODIFIED:20240522T110205Z
UID:26136-1719405000-1719408600@bracz.edu.pl
SUMMARY:Zwiedzanie Mieszkania-Pracowni Kazimiery Iłłakowiczówny
DESCRIPTION:
URL:https://bracz.edu.pl/event/zwiedzanie-mieszkania-pracowni-kazimiery-illakowiczowny-11/
END:VEVENT
BEGIN:VEVENT
DTSTART;TZID=Europe/Warsaw:20240626T180000
DTEND;TZID=Europe/Warsaw:20240626T193000
DTSTAMP:20260421T222957
CREATED:20240522T112054Z
LAST-MODIFIED:20240522T112054Z
UID:26140-1719424800-1719430200@bracz.edu.pl
SUMMARY:Strony fotografii. Spotkanie z Dagmarą Barańską-Morzy
DESCRIPTION:
URL:https://bracz.edu.pl/event/strony-fotografii-spotkanie-z-dagmara-baranska-morzy/
END:VEVENT
BEGIN:VEVENT
DTSTART;TZID=Europe/Warsaw:20240627T180000
DTEND;TZID=Europe/Warsaw:20240627T193000
DTSTAMP:20260421T222957
CREATED:20240521T082626Z
LAST-MODIFIED:20240603T100006Z
UID:26034-1719511200-1719516600@bracz.edu.pl
SUMMARY:Spotkanie Natalią Budzyńską w Filii 42
DESCRIPTION:
URL:https://bracz.edu.pl/event/spotkanie-natalia-budzynska-w-filii-42/
END:VEVENT
BEGIN:VEVENT
DTSTART;TZID=Europe/Warsaw:20240627T180000
DTEND;TZID=Europe/Warsaw:20240627T193000
DTSTAMP:20260421T222957
CREATED:20240522T113025Z
LAST-MODIFIED:20240522T113025Z
UID:26145-1719511200-1719516600@bracz.edu.pl
SUMMARY:Sztuk-mistrze. Galeria abstrakcyjna
DESCRIPTION:
URL:https://bracz.edu.pl/event/sztuk-mistrze-galeria-abstrakcyjna/
END:VEVENT
BEGIN:VEVENT
DTSTART;TZID=Europe/Warsaw:20240628T180000
DTEND;TZID=Europe/Warsaw:20240628T193000
DTSTAMP:20260421T222957
CREATED:20240522T115439Z
LAST-MODIFIED:20240522T115439Z
UID:26149-1719597600-1719603000@bracz.edu.pl
SUMMARY:Klub książki u Raczyńskich. „Dożywocie” Marty Kisiel
DESCRIPTION:
URL:https://bracz.edu.pl/event/klub-ksiazki-u-raczynskich-dozywocie-marty-kisiel/
END:VEVENT
BEGIN:VEVENT
DTSTART;TZID=Europe/Warsaw:20240629T170000
DTEND;TZID=Europe/Warsaw:20240629T190000
DTSTAMP:20260421T222957
CREATED:20240522T120733Z
LAST-MODIFIED:20240522T120733Z
UID:26154-1719680400-1719687600@bracz.edu.pl
SUMMARY:Potańcówka: Czytaj\, czytaj albo tańcz
DESCRIPTION:
URL:https://bracz.edu.pl/event/potancowka-czytaj-czytaj-albo-tancz/
END:VEVENT
BEGIN:VEVENT
DTSTART;TZID=Europe/Warsaw:20240703T170000
DTEND;TZID=Europe/Warsaw:20240703T183000
DTSTAMP:20260421T222957
CREATED:20240617T100352Z
LAST-MODIFIED:20240617T100352Z
UID:26382-1720026000-1720031400@bracz.edu.pl
SUMMARY:Roboksiężniczka i planeta Ziemia
DESCRIPTION:
URL:https://bracz.edu.pl/event/roboksiezniczka-i-planeta-ziemia/
END:VEVENT
BEGIN:VEVENT
DTSTART;TZID=Europe/Warsaw:20240704T170000
DTEND;TZID=Europe/Warsaw:20240704T200000
DTSTAMP:20260421T222957
CREATED:20240617T100847Z
LAST-MODIFIED:20240617T100847Z
UID:26384-1720112400-1720123200@bracz.edu.pl
SUMMARY:Wakacyjny warsztat skryby cz.1
DESCRIPTION:
URL:https://bracz.edu.pl/event/wakacyjny-warsztat-skryby-cz-1/
END:VEVENT
END:VCALENDAR