BEGIN:VCALENDAR
VERSION:2.0
PRODID:-//Biblioteka Raczyńskich - ECPv6.2.3//NONSGML v1.0//EN
CALSCALE:GREGORIAN
METHOD:PUBLISH
X-WR-CALNAME:Biblioteka Raczyńskich
X-ORIGINAL-URL:https://bracz.edu.pl
X-WR-CALDESC:Events for Biblioteka Raczyńskich
REFRESH-INTERVAL;VALUE=DURATION:PT1H
X-Robots-Tag:noindex
X-PUBLISHED-TTL:PT1H
BEGIN:VTIMEZONE
TZID:Europe/Warsaw
BEGIN:DAYLIGHT
TZOFFSETFROM:+0100
TZOFFSETTO:+0200
TZNAME:CEST
DTSTART:20250330T010000
END:DAYLIGHT
BEGIN:STANDARD
TZOFFSETFROM:+0200
TZOFFSETTO:+0100
TZNAME:CET
DTSTART:20251026T010000
END:STANDARD
END:VTIMEZONE
BEGIN:VEVENT
DTSTART;TZID=Europe/Warsaw:20251210T170000
DTEND;TZID=Europe/Warsaw:20251210T183000
DTSTAMP:20260420T091054
CREATED:20251107T100243Z
LAST-MODIFIED:20251107T100243Z
UID:32797-1765386000-1765391400@bracz.edu.pl
SUMMARY:Spotkanie autorskie z Marią Duszką i Marleną Zynger
DESCRIPTION:
URL:https://bracz.edu.pl/event/spotkanie-autorskie-z-maria-duszka-i-marlena-zynger/
END:VEVENT
BEGIN:VEVENT
DTSTART;TZID=Europe/Warsaw:20251208T180000
DTEND;TZID=Europe/Warsaw:20251208T193000
DTSTAMP:20260420T091054
CREATED:20251107T093127Z
LAST-MODIFIED:20251107T093127Z
UID:32793-1765216800-1765222200@bracz.edu.pl
SUMMARY:Spotkanie z Rafałem Grupińskim o kryminale „Żubura”
DESCRIPTION:
URL:https://bracz.edu.pl/event/spotkanie-z-rafalem-grupinskim-o-kryminale-zubura/
END:VEVENT
BEGIN:VEVENT
DTSTART;TZID=Europe/Warsaw:20251208T170000
DTEND;TZID=Europe/Warsaw:20251208T183000
DTSTAMP:20260420T091054
CREATED:20251107T092005Z
LAST-MODIFIED:20251107T092005Z
UID:32787-1765213200-1765218600@bracz.edu.pl
SUMMARY:Zetlali od czasu. Wiersze Kazimiery Iłłakowiczówny do obrazów Jana Henryka Rosena w stulecie wystawy. Wernisaż
DESCRIPTION:
URL:https://bracz.edu.pl/event/zetlali-od-czasu-wiersze-kazimiery-illakowiczowny-do-obrazow-jana-henryka-rosena-w-stulecie-wystawy-wernisaz/
END:VEVENT
BEGIN:VEVENT
DTSTART;TZID=Europe/Warsaw:20251208T170000
DTEND;TZID=Europe/Warsaw:20251208T183000
DTSTAMP:20260420T091054
CREATED:20251107T091534Z
LAST-MODIFIED:20251107T091534Z
UID:32783-1765213200-1765218600@bracz.edu.pl
SUMMARY:Świąteczne warsztaty kreatywne z mchem dla dzieci w Filii 49
DESCRIPTION:
URL:https://bracz.edu.pl/event/swiateczne-warsztaty-kreatywne-z-mchem-dla-dzieci-w-filii-49/
END:VEVENT
BEGIN:VEVENT
DTSTART;TZID=Europe/Warsaw:20251206T150000
DTEND;TZID=Europe/Warsaw:20251206T163000
DTSTAMP:20260420T091054
CREATED:20251107T090739Z
LAST-MODIFIED:20251107T090739Z
UID:32779-1765033200-1765038600@bracz.edu.pl
SUMMARY:Zaczarowany kredens. Sklep z zabawkami. Spektakl asz.teatru
DESCRIPTION:
URL:https://bracz.edu.pl/event/zaczarowany-kredens-sklep-z-zabawkami-spektakl-asz-teatru/
END:VEVENT
BEGIN:VEVENT
DTSTART;TZID=Europe/Warsaw:20251206T120000
DTEND;TZID=Europe/Warsaw:20251206T140000
DTSTAMP:20260420T091054
CREATED:20251107T085909Z
LAST-MODIFIED:20251107T085909Z
UID:32775-1765022400-1765029600@bracz.edu.pl
SUMMARY:„Wertep”. Spektakl z muzyką na żywo i warsztaty w Filii Naramowickiej
DESCRIPTION:
URL:https://bracz.edu.pl/event/wertep-spektakl-z-muzyka-na-zywo-i-warsztaty-w-filii-naramowickiej/
END:VEVENT
BEGIN:VEVENT
DTSTART;TZID=Europe/Warsaw:20251206T120000
DTEND;TZID=Europe/Warsaw:20251206T133000
DTSTAMP:20260420T091054
CREATED:20251107T083805Z
LAST-MODIFIED:20251107T083805Z
UID:32771-1765022400-1765027800@bracz.edu.pl
SUMMARY:Klub książki w Muzeum Sienkiewicza. „Opowieść wigilijna” Charlesa Dickensa
DESCRIPTION:
URL:https://bracz.edu.pl/event/klub-ksiazki-w-muzeum-sienkiewicza-opowiesc-wigilijna-charlesa-dickensa/
END:VEVENT
BEGIN:VEVENT
DTSTART;TZID=Europe/Warsaw:20251205T170000
DTEND;TZID=Europe/Warsaw:20251205T183000
DTSTAMP:20260420T091054
CREATED:20251107T083525Z
LAST-MODIFIED:20251107T083525Z
UID:32767-1764954000-1764959400@bracz.edu.pl
SUMMARY:O\, CHOINKO! Spektakl dla dzieci w Filii Wildeckiej
DESCRIPTION:
URL:https://bracz.edu.pl/event/o-choinko-spektakl-dla-dzieci-w-filii-wildeckiej/
END:VEVENT
BEGIN:VEVENT
DTSTART;TZID=Europe/Warsaw:20251205T170000
DTEND;TZID=Europe/Warsaw:20251205T183000
DTSTAMP:20260420T091054
CREATED:20251107T083203Z
LAST-MODIFIED:20251107T083203Z
UID:32763-1764954000-1764959400@bracz.edu.pl
SUMMARY:100 smaków herbaty. Warsztaty w Filii 38
DESCRIPTION:
URL:https://bracz.edu.pl/event/100-smakow-herbaty-warsztaty-w-filii-38/
END:VEVENT
BEGIN:VEVENT
DTSTART;TZID=Europe/Warsaw:20251205T170000
DTEND;TZID=Europe/Warsaw:20251205T183000
DTSTAMP:20260420T091054
CREATED:20251107T082449Z
LAST-MODIFIED:20251107T082449Z
UID:32758-1764954000-1764959400@bracz.edu.pl
SUMMARY:Boże Narodzenie dookoła świata w Filii 15
DESCRIPTION:
URL:https://bracz.edu.pl/event/boze-narodzenie-dookola-swiata-w-filii-15/
END:VEVENT
BEGIN:VEVENT
DTSTART;TZID=Europe/Warsaw:20251204T170000
DTEND;TZID=Europe/Warsaw:20251204T180000
DTSTAMP:20260420T091054
CREATED:20251107T081825Z
LAST-MODIFIED:20251107T081825Z
UID:32754-1764867600-1764871200@bracz.edu.pl
SUMMARY:Pamiętaj o czwartku
DESCRIPTION:
URL:https://bracz.edu.pl/event/pamietaj-o-czwartku-12/
END:VEVENT
BEGIN:VEVENT
DTSTART;TZID=Europe/Warsaw:20251204T160000
DTEND;TZID=Europe/Warsaw:20251204T180000
DTSTAMP:20260420T091054
CREATED:20251120T090913Z
LAST-MODIFIED:20251120T090913Z
UID:32970-1764864000-1764871200@bracz.edu.pl
SUMMARY:Konsultacje społeczne - dziedziniec przy ul. Wronieckiej
DESCRIPTION:
URL:https://bracz.edu.pl/event/konsultacje-spoleczne-dziedziniec-przy-ul-wronieckiej/
END:VEVENT
BEGIN:VEVENT
DTSTART;TZID=Europe/Warsaw:20251203T180000
DTEND;TZID=Europe/Warsaw:20251203T193000
DTSTAMP:20260420T091054
CREATED:20251107T074335Z
LAST-MODIFIED:20251107T074335Z
UID:32746-1764784800-1764790200@bracz.edu.pl
SUMMARY:Spotkanie z Jerzym Grupińskim i prezentacja tomu „Epiki towarzyskie i kilka wierszy osobistych”
DESCRIPTION:
URL:https://bracz.edu.pl/event/spotkanie-z-jerzym-grupinskim-i-prezentacja-tomu-epiki-towarzyskie-i-kilka-wierszy-osobistych/
END:VEVENT
BEGIN:VEVENT
DTSTART;TZID=Europe/Warsaw:20251203T180000
DTEND;TZID=Europe/Warsaw:20251203T190000
DTSTAMP:20260420T091054
CREATED:20251107T080707Z
LAST-MODIFIED:20251107T080707Z
UID:32750-1764784800-1764788400@bracz.edu.pl
SUMMARY:(O)powieść farmerska z Afryki – klasyka z RPA. „Siedem dni u Silbersteinów” Etienne'a Leroux. Spotkanie z Jerzym Kochem
DESCRIPTION:
URL:https://bracz.edu.pl/event/opowiesc-farmerska-z-afryki-klasyka-z-rpa-siedem-dni-u-silbersteinow-etiennea-leroux-spotkanie-z-jerzym-kochem/
END:VEVENT
BEGIN:VEVENT
DTSTART;TZID=Europe/Warsaw:20251203T170000
DTEND;TZID=Europe/Warsaw:20251203T183000
DTSTAMP:20260420T091054
CREATED:20251107T073849Z
LAST-MODIFIED:20251107T073849Z
UID:32742-1764781200-1764786600@bracz.edu.pl
SUMMARY:Spotkanie z Filipem Springerem w Filii 4
DESCRIPTION:
URL:https://bracz.edu.pl/event/spotkanie-z-filipem-springerem-w-filii-4/
END:VEVENT
BEGIN:VEVENT
DTSTART;TZID=Europe/Warsaw:20251202T180000
DTEND;TZID=Europe/Warsaw:20251202T193000
DTSTAMP:20260420T091054
CREATED:20251107T073355Z
LAST-MODIFIED:20251107T073355Z
UID:32738-1764698400-1764703800@bracz.edu.pl
SUMMARY:Spotkanie z Ałbeną Grabowską
DESCRIPTION:
URL:https://bracz.edu.pl/event/spotkanie-z-albena-grabowska/
END:VEVENT
BEGIN:VEVENT
DTSTART;TZID=Europe/Warsaw:20251129T150000
DTEND;TZID=Europe/Warsaw:20251129T170000
DTSTAMP:20260420T091054
CREATED:20251015T134309Z
LAST-MODIFIED:20251015T134309Z
UID:32585-1764428400-1764435600@bracz.edu.pl
SUMMARY:Po co nam stres i jak go oswoić\, wykorzystując samowspółczucie? Warsztaty z Iwoną Michałowską-Gabrych
DESCRIPTION:
URL:https://bracz.edu.pl/event/po-co-nam-stres-i-jak-go-oswoic-wykorzystujac-samowspolczucie-warsztaty-z-iwona-michalowska-gabrych/
END:VEVENT
BEGIN:VEVENT
DTSTART;TZID=Europe/Warsaw:20251127T170000
DTEND;TZID=Europe/Warsaw:20251127T183000
DTSTAMP:20260420T091054
CREATED:20251104T145429Z
LAST-MODIFIED:20251104T145532Z
UID:32690-1764262800-1764268200@bracz.edu.pl
SUMMARY:Czytanie dotykiem. Spotkanie wokół książek tyflograficznych w Filii Naramowickiej
DESCRIPTION:
URL:https://bracz.edu.pl/event/czytanie-dotykiem-spotkanie-wokol-ksiazek-tyflograficznych-w-filii-naramowickiej/
END:VEVENT
BEGIN:VEVENT
DTSTART;TZID=Europe/Warsaw:20251127T170000
DTEND;TZID=Europe/Warsaw:20251127T183000
DTSTAMP:20260420T091054
CREATED:20251015T132503Z
LAST-MODIFIED:20251015T132527Z
UID:32580-1764262800-1764268200@bracz.edu.pl
SUMMARY:Wildecki Dyskusyjny Klub Książki
DESCRIPTION:
URL:https://bracz.edu.pl/event/wildecki-dyskusyjny-klub-ksiazki-2/
END:VEVENT
BEGIN:VEVENT
DTSTART;TZID=Europe/Warsaw:20251126T180000
DTEND;TZID=Europe/Warsaw:20251126T200000
DTSTAMP:20260420T091054
CREATED:20251015T131459Z
LAST-MODIFIED:20251030T143611Z
UID:32575-1764180000-1764187200@bracz.edu.pl
SUMMARY:Prezentacja tomu antologii wierszy na Boże Narodzenie „niebo dotyka ziemi” pod redakcją Małgorzaty Mikos
DESCRIPTION:
URL:https://bracz.edu.pl/event/prezentacja-kolejnego-tomu-antologii-wierszy-na-boze-narodzenie-niebo-dotyka-ziemi-pod-redakcja-malgorzaty-mikos/
END:VEVENT
BEGIN:VEVENT
DTSTART;TZID=Europe/Warsaw:20251126T180000
DTEND;TZID=Europe/Warsaw:20251126T200000
DTSTAMP:20260420T091054
CREATED:20251015T125434Z
LAST-MODIFIED:20251015T125654Z
UID:32571-1764180000-1764187200@bracz.edu.pl
SUMMARY:Operowy Klub Blecanto. Zaklęcia\, czarownice i duchy. Magia na operowej scenie
DESCRIPTION:
URL:https://bracz.edu.pl/event/operowy-klub-blecanto-zaklecia-czarownice-i-duchy-magia-na-operowej-scenie/
END:VEVENT
BEGIN:VEVENT
DTSTART;TZID=Europe/Warsaw:20251126T170000
DTEND;TZID=Europe/Warsaw:20251126T183000
DTSTAMP:20260420T091054
CREATED:20251030T140928Z
LAST-MODIFIED:20251030T140928Z
UID:32662-1764176400-1764181800@bracz.edu.pl
SUMMARY:Jan Strugarek o życiu Stanisława. Spotkanie z żywą gwarą w Filii 4
DESCRIPTION:
URL:https://bracz.edu.pl/event/jan-strugarek-o-zyciu-stanislawa-spotkanie-z-zywa-gwara-w-filii-4/
END:VEVENT
BEGIN:VEVENT
DTSTART;TZID=Europe/Warsaw:20251126T170000
DTEND;TZID=Europe/Warsaw:20251126T183000
DTSTAMP:20260420T091054
CREATED:20251015T124915Z
LAST-MODIFIED:20251015T124915Z
UID:32567-1764176400-1764181800@bracz.edu.pl
SUMMARY:„Porwanie Baltazara Gąbki". Spektakl asz.teatru dla dzieci w Filii 15
DESCRIPTION:
URL:https://bracz.edu.pl/event/porwanie-baltazara-gabki-spektakl-asz-teatru-dla-dzieci-w-filii-15/
END:VEVENT
BEGIN:VEVENT
DTSTART;TZID=Europe/Warsaw:20251126T123000
DTEND;TZID=Europe/Warsaw:20251126T133000
DTSTAMP:20260420T091054
CREATED:20251029T121219Z
LAST-MODIFIED:20251029T121219Z
UID:32648-1764160200-1764163800@bracz.edu.pl
SUMMARY:Zwiedzanie Mieszkania-Pracowni Kazimiery Iłłakowiczówny
DESCRIPTION:
URL:https://bracz.edu.pl/event/zwiedzanie-mieszkania-pracowni-kazimiery-illakowiczowny-39/
END:VEVENT
BEGIN:VEVENT
DTSTART;TZID=Europe/Warsaw:20251125T123000
DTEND;TZID=Europe/Warsaw:20251125T140000
DTSTAMP:20260420T091054
CREATED:20251015T124551Z
LAST-MODIFIED:20251125T075727Z
UID:32563-1764073800-1764079200@bracz.edu.pl
SUMMARY:Ostatnia podróż Henryka Sienkiewicza. SPOTKANIE ODWOŁANE
DESCRIPTION:
URL:https://bracz.edu.pl/event/ostatnia-podroz-henryka-sienkiewicza/
END:VEVENT
BEGIN:VEVENT
DTSTART;TZID=Europe/Warsaw:20251125T120000
DTEND;TZID=Europe/Warsaw:20251125T140000
DTSTAMP:20260420T091054
CREATED:20251015T124204Z
LAST-MODIFIED:20251015T124204Z
UID:32559-1764072000-1764079200@bracz.edu.pl
SUMMARY:Projekcja impresji filmowych „Ja Konstancja”
DESCRIPTION:
URL:https://bracz.edu.pl/event/projekcja-impresji-filmowych-ja-konstancja/
END:VEVENT
BEGIN:VEVENT
DTSTART;TZID=Europe/Warsaw:20251122T123000
DTEND;TZID=Europe/Warsaw:20251122T140000
DTSTAMP:20260420T091054
CREATED:20251015T123820Z
LAST-MODIFIED:20251015T123820Z
UID:32555-1763814600-1763820000@bracz.edu.pl
SUMMARY:Klub książki w Muzeum Sienkiewicza. „Przeminęło z wiatrem” Margaret Mitchell
DESCRIPTION:
URL:https://bracz.edu.pl/event/klub-ksiazki-w-muzeum-sienkiewicza-przeminelo-z-wiatrem-margaret-mitchell/
END:VEVENT
BEGIN:VEVENT
DTSTART;TZID=Europe/Warsaw:20251121T180000
DTEND;TZID=Europe/Warsaw:20251121T200000
DTSTAMP:20260420T091054
CREATED:20251015T123416Z
LAST-MODIFIED:20251015T123416Z
UID:32551-1763748000-1763755200@bracz.edu.pl
SUMMARY:Spotkanie z Maciejem Siembiedą
DESCRIPTION:
URL:https://bracz.edu.pl/event/spotkanie-z-maciejem-siembieda/
END:VEVENT
BEGIN:VEVENT
DTSTART;TZID=Europe/Warsaw:20251120T180000
DTEND;TZID=Europe/Warsaw:20251120T200000
DTSTAMP:20260420T091054
CREATED:20251015T120120Z
LAST-MODIFIED:20251015T120120Z
UID:32547-1763661600-1763668800@bracz.edu.pl
SUMMARY:„Ponad śnieg”. Film z muzyką na żywo i prelekcja w 100-lecie śmierci Stefana Żeromskiego
DESCRIPTION:
URL:https://bracz.edu.pl/event/ponad-snieg-film-z-muzyka-na-zywo-i-prelekcja-w-100-lecie-smierci-stefana-zeromskiego/
END:VEVENT
BEGIN:VEVENT
DTSTART;TZID=Europe/Warsaw:20251120T170000
DTEND;TZID=Europe/Warsaw:20251122T170000
DTSTAMP:20260420T091054
CREATED:20251105T133121Z
LAST-MODIFIED:20251105T133121Z
UID:32724-1763658000-1763830800@bracz.edu.pl
SUMMARY:Książki pachnące czekoladą
DESCRIPTION:
URL:https://bracz.edu.pl/event/ksiazki-pachnace-czekolada/
END:VEVENT
END:VCALENDAR