BEGIN:VCALENDAR
VERSION:2.0
PRODID:-//Biblioteka Raczyńskich - ECPv6.2.3//NONSGML v1.0//EN
CALSCALE:GREGORIAN
METHOD:PUBLISH
X-WR-CALNAME:Biblioteka Raczyńskich
X-ORIGINAL-URL:https://bracz.edu.pl
X-WR-CALDESC:Events for Biblioteka Raczyńskich
REFRESH-INTERVAL;VALUE=DURATION:PT1H
X-Robots-Tag:noindex
X-PUBLISHED-TTL:PT1H
BEGIN:VTIMEZONE
TZID:Europe/Warsaw
BEGIN:DAYLIGHT
TZOFFSETFROM:+0100
TZOFFSETTO:+0200
TZNAME:CEST
DTSTART:20250330T010000
END:DAYLIGHT
BEGIN:STANDARD
TZOFFSETFROM:+0200
TZOFFSETTO:+0100
TZNAME:CET
DTSTART:20251026T010000
END:STANDARD
END:VTIMEZONE
BEGIN:VEVENT
DTSTART;TZID=Europe/Warsaw:20250915T180000
DTEND;TZID=Europe/Warsaw:20250915T193000
DTSTAMP:20260423T041246
CREATED:20250818T075043Z
LAST-MODIFIED:20250818T075043Z
UID:31583-1757959200-1757964600@bracz.edu.pl
SUMMARY:Spotkanie z poznańską poetką Edytą Kulczak
DESCRIPTION:
URL:https://bracz.edu.pl/event/spotkanie-z-poznanska-poetka-edyta-kulczak/
END:VEVENT
BEGIN:VEVENT
DTSTART;TZID=Europe/Warsaw:20250916T160000
DTEND;TZID=Europe/Warsaw:20250916T170000
DTSTAMP:20260423T041246
CREATED:20250818T080100Z
LAST-MODIFIED:20250818T080100Z
UID:31588-1758038400-1758042000@bracz.edu.pl
SUMMARY:Wtorek dla seniora
DESCRIPTION:
URL:https://bracz.edu.pl/event/wtorek-dla-seniora-2/
END:VEVENT
BEGIN:VEVENT
DTSTART;TZID=Europe/Warsaw:20250917T180000
DTEND;TZID=Europe/Warsaw:20250917T193000
DTSTAMP:20260423T041246
CREATED:20250818T081351Z
LAST-MODIFIED:20250818T081351Z
UID:31592-1758132000-1758137400@bracz.edu.pl
SUMMARY:Z Archiwum Książki Dziecięcej. Nie ma to jak w domu u Borejków
DESCRIPTION:
URL:https://bracz.edu.pl/event/z-archiwum-ksiazki-dzieciecej-nie-ma-to-jak-w-domu-u-borejkow/
END:VEVENT
BEGIN:VEVENT
DTSTART;TZID=Europe/Warsaw:20250917T180000
DTEND;TZID=Europe/Warsaw:20250917T193000
DTSTAMP:20260423T041246
CREATED:20250901T134020Z
LAST-MODIFIED:20250901T134020Z
UID:31789-1758132000-1758137400@bracz.edu.pl
SUMMARY:Dziedzictwo i synergia sztuki. Wystawa malarstwa Mariusza Qan Włodarczyka
DESCRIPTION:
URL:https://bracz.edu.pl/event/dziedzictwo-i-synergia-sztuki-wystawa-malarstwa-mariusza-qan-wlodarczyka/
END:VEVENT
BEGIN:VEVENT
DTSTART;TZID=Europe/Warsaw:20250918T170000
DTEND;TZID=Europe/Warsaw:20250918T183000
DTSTAMP:20260423T041246
CREATED:20250818T084926Z
LAST-MODIFIED:20250818T094338Z
UID:31601-1758214800-1758220200@bracz.edu.pl
SUMMARY:Spotkanie autorskie Marcelego Mossa w Filii 4
DESCRIPTION:
URL:https://bracz.edu.pl/event/spotkanie-autorskie-marcelego-mossa/
END:VEVENT
BEGIN:VEVENT
DTSTART;TZID=Europe/Warsaw:20250918T180000
DTEND;TZID=Europe/Warsaw:20250918T193000
DTSTAMP:20260423T041246
CREATED:20250818T083114Z
LAST-MODIFIED:20250818T083114Z
UID:31596-1758218400-1758223800@bracz.edu.pl
SUMMARY:Czytanie przestrzeni. Od księgarni do domu. Zwiedzanie Domu Książki
DESCRIPTION:
URL:https://bracz.edu.pl/event/czytanie-przestrzeni-od-ksiegarni-do-domu-zwiedzanie-domu-ksiazki/
END:VEVENT
BEGIN:VEVENT
DTSTART;TZID=Europe/Warsaw:20250919T150000
DTEND;TZID=Europe/Warsaw:20250920T180000
DTSTAMP:20260423T041246
CREATED:20250825T092555Z
LAST-MODIFIED:20250825T092555Z
UID:31722-1758294000-1758391200@bracz.edu.pl
SUMMARY:Festiwal teatralny „Druga próba. Teatr ponad granicami”
DESCRIPTION:
URL:https://bracz.edu.pl/event/festiwal-teatralny-druga-proba-teatr-ponad-granicami/
END:VEVENT
BEGIN:VEVENT
DTSTART;TZID=Europe/Warsaw:20250919T180000
DTEND;TZID=Europe/Warsaw:20250919T200000
DTSTAMP:20260423T041246
CREATED:20250818T091558Z
LAST-MODIFIED:20250918T104648Z
UID:31605-1758304800-1758312000@bracz.edu.pl
SUMMARY:Trzy głosy w labiryncie opowieści. Spotkanie w ramach Poznańskiego Festiwalu Kryminału GRANDA
DESCRIPTION:
URL:https://bracz.edu.pl/event/spotkanie-w-ramach-poznanskiego-festiwalu-kryminalu-granda/
END:VEVENT
BEGIN:VEVENT
DTSTART;TZID=Europe/Warsaw:20250920T123000
DTEND;TZID=Europe/Warsaw:20250920T140000
DTSTAMP:20260423T041246
CREATED:20250620T071228Z
LAST-MODIFIED:20250701T063814Z
UID:31063-1758371400-1758376800@bracz.edu.pl
SUMMARY:Klub książki w Muzeum Sienkiewicza: „Wichrowe Wzgórza” Emily Brontë
DESCRIPTION:
URL:https://bracz.edu.pl/event/klub-ksiazki-w-muzeum-sienkiewicza-wichrowe-wzgorza-emily-bronte/
END:VEVENT
BEGIN:VEVENT
DTSTART;TZID=Europe/Warsaw:20250922T180000
DTEND;TZID=Europe/Warsaw:20250922T200000
DTSTAMP:20260423T041246
CREATED:20250818T094701Z
LAST-MODIFIED:20250818T094701Z
UID:31614-1758564000-1758571200@bracz.edu.pl
SUMMARY:Kobiety\, ziemia\, opór — nowy mit Ameryki. Spotkanie wokół powieści Louise Erdrich „Rzeka Czerwona”
DESCRIPTION:
URL:https://bracz.edu.pl/event/kobiety-ziemia-opor-nowy-mit-ameryki-spotkanie-wokol-powiesci-louise-erdrich-rzeka-czerwona/
END:VEVENT
BEGIN:VEVENT
DTSTART;TZID=Europe/Warsaw:20250923T120000
DTEND;TZID=Europe/Warsaw:20250923T130000
DTSTAMP:20260423T041246
CREATED:20250902T065524Z
LAST-MODIFIED:20250902T065524Z
UID:31798-1758628800-1758632400@bracz.edu.pl
SUMMARY:Oprowadzanie po Muzeum J.I. Kraszewskiego
DESCRIPTION:
URL:https://bracz.edu.pl/event/oprowadzanie-po-muzeum-j-i-kraszewskiego/
END:VEVENT
BEGIN:VEVENT
DTSTART;TZID=Europe/Warsaw:20250923T123000
DTEND;TZID=Europe/Warsaw:20250923T133000
DTSTAMP:20260423T041246
CREATED:20250827T073626Z
LAST-MODIFIED:20250827T073626Z
UID:31740-1758630600-1758634200@bracz.edu.pl
SUMMARY:Sienkiewicz na walizkach. Zwiedzanie z przewodnikiem
DESCRIPTION:
URL:https://bracz.edu.pl/event/sienkiewicz-na-walizkach-zwiedzanie-z-przewodnikiem-3/
END:VEVENT
BEGIN:VEVENT
DTSTART;TZID=Europe/Warsaw:20250923T180000
DTEND;TZID=Europe/Warsaw:20250923T193000
DTSTAMP:20260423T041246
CREATED:20250818T100114Z
LAST-MODIFIED:20250909T071345Z
UID:31620-1758650400-1758655800@bracz.edu.pl
SUMMARY:Recital fortepianowy Tianyao Lyu. BRAK MIEJSC
DESCRIPTION:
URL:https://bracz.edu.pl/event/recital-fortepianowy-tianyao-lyu/
END:VEVENT
BEGIN:VEVENT
DTSTART;TZID=Europe/Warsaw:20250924T123000
DTEND;TZID=Europe/Warsaw:20250924T133000
DTSTAMP:20260423T041246
CREATED:20250818T101304Z
LAST-MODIFIED:20250818T101304Z
UID:31626-1758717000-1758720600@bracz.edu.pl
SUMMARY:Zwiedzanie Mieszkania-Pracowni Kazimiery Iłłakowiczówny
DESCRIPTION:
URL:https://bracz.edu.pl/event/zwiedzanie-mieszkania-pracowni-kazimiery-illakowiczowny-35/
END:VEVENT
BEGIN:VEVENT
DTSTART;TZID=Europe/Warsaw:20250924T173000
DTEND;TZID=Europe/Warsaw:20250924T193000
DTSTAMP:20260423T041246
CREATED:20250818T102820Z
LAST-MODIFIED:20250818T102820Z
UID:31630-1758735000-1758742200@bracz.edu.pl
SUMMARY:Spotkanie autorskie Romana Chojnackiego oraz Krzysztofa Szymoniaka w ramach festiwalu literackiego „Rozpoznania”
DESCRIPTION:
URL:https://bracz.edu.pl/event/spotkanie-autorskie-romana-chojnackiego-oraz-krzysztofa-szymoniaka-w-ramach-festiwalu-literackiego-rozpoznania/
END:VEVENT
BEGIN:VEVENT
DTSTART;TZID=Europe/Warsaw:20250924T180000
DTEND;TZID=Europe/Warsaw:20250924T200000
DTSTAMP:20260423T041246
CREATED:20250818T105714Z
LAST-MODIFIED:20250818T105714Z
UID:31634-1758736800-1758744000@bracz.edu.pl
SUMMARY:Roland po Kowalsku
DESCRIPTION:
URL:https://bracz.edu.pl/event/roland-po-kowalsku/
END:VEVENT
BEGIN:VEVENT
DTSTART;TZID=Europe/Warsaw:20250925T170000
DTEND;TZID=Europe/Warsaw:20250925T183000
DTSTAMP:20260423T041246
CREATED:20250818T112418Z
LAST-MODIFIED:20250825T102358Z
UID:31643-1758819600-1758825000@bracz.edu.pl
SUMMARY:Wildecki Dyskusyjny Klub Książki. Rebecca F. Kuang „Yellowface”
DESCRIPTION:
URL:https://bracz.edu.pl/event/wildecki-dyskusyjny-klub-ksiazki-rebecca-f-kuang-yellowface/
END:VEVENT
BEGIN:VEVENT
DTSTART;TZID=Europe/Warsaw:20250925T180000
DTEND;TZID=Europe/Warsaw:20250925T200000
DTSTAMP:20260423T041246
CREATED:20250818T110738Z
LAST-MODIFIED:20250925T063647Z
UID:31638-1758823200-1758830400@bracz.edu.pl
SUMMARY:Operowy klub Blecanto. Dwa razy ta sama historia. O operach inspirowanych tym samym motywem
DESCRIPTION:
URL:https://bracz.edu.pl/event/operowy-klub-blecanto-dwa-razy-ta-sama-historia-o-operach-inspirowanych-tym-samym-motywem/
END:VEVENT
BEGIN:VEVENT
DTSTART;TZID=Europe/Warsaw:20250926T170000
DTEND;TZID=Europe/Warsaw:20250926T183000
DTSTAMP:20260423T041246
CREATED:20250818T120228Z
LAST-MODIFIED:20250818T120228Z
UID:31651-1758906000-1758911400@bracz.edu.pl
SUMMARY:Spotkanie autorskie i warsztaty dla dzieci z Joanną Krzyżanek
DESCRIPTION:
URL:https://bracz.edu.pl/event/spotkanie-autorskie-i-warsztaty-dla-dzieci-z-joanna-krzyzanek/
END:VEVENT
BEGIN:VEVENT
DTSTART;TZID=Europe/Warsaw:20250926T180000
DTEND;TZID=Europe/Warsaw:20250926T200000
DTSTAMP:20260423T041246
CREATED:20250818T114034Z
LAST-MODIFIED:20250818T114034Z
UID:31647-1758909600-1758916800@bracz.edu.pl
SUMMARY:Klub Książki u Raczyńskich. „Czasy secondhand. Koniec czerwonego człowieka” Swietłany Aleksijewicz
DESCRIPTION:
URL:https://bracz.edu.pl/event/klub-ksiazki-u-raczynskich-czasy-secondhand-koniec-czerwonego-czlowieka-swietlany-aleksijewicz/
END:VEVENT
BEGIN:VEVENT
DTSTART;TZID=Europe/Warsaw:20250927T120000
DTEND;TZID=Europe/Warsaw:20250927T133000
DTSTAMP:20260423T041246
CREATED:20250818T121302Z
LAST-MODIFIED:20250818T121449Z
UID:31655-1758974400-1758979800@bracz.edu.pl
SUMMARY:CZYTATY 9 Muz. Euterpe. Warsztaty poetycko-filozoficzne z pisarką Elizą Piotrowską
DESCRIPTION:
URL:https://bracz.edu.pl/event/czytaty-9-muz-euterpe-warsztaty-poetycko-filozoficzne-z-pisarka-eliza-piotrowska/
END:VEVENT
BEGIN:VEVENT
DTSTART;TZID=Europe/Warsaw:20250929T180000
DTEND;TZID=Europe/Warsaw:20250929T193000
DTSTAMP:20260423T041246
CREATED:20250818T125001Z
LAST-MODIFIED:20250818T125001Z
UID:31661-1759168800-1759174200@bracz.edu.pl
SUMMARY:12 Pieśni Kurpiowskich op. 58 Karola Szymanowskiego
DESCRIPTION:
URL:https://bracz.edu.pl/event/12-piesni-kurpiowskich-op-58-karola-szymanowskiego/
END:VEVENT
BEGIN:VEVENT
DTSTART;TZID=Europe/Warsaw:20250930T180000
DTEND;TZID=Europe/Warsaw:20250930T193000
DTSTAMP:20260423T041246
CREATED:20250818T131409Z
LAST-MODIFIED:20250818T131409Z
UID:31668-1759255200-1759260600@bracz.edu.pl
SUMMARY:Spotkanie z Krzysztofem Deszczyńskim wokół książki „Smoleń. Toksyczny duet z Laskowikiem”
DESCRIPTION:
URL:https://bracz.edu.pl/event/spotkanie-z-krzysztofem-deszczynskim-wokol-ksiazki-smolen-toksyczny-duet-z-laskowikiem/
END:VEVENT
BEGIN:VEVENT
DTSTART;TZID=Europe/Warsaw:20251001T170000
DTEND;TZID=Europe/Warsaw:20251001T183000
DTSTAMP:20260423T041246
CREATED:20250916T095414Z
LAST-MODIFIED:20250916T095414Z
UID:31951-1759338000-1759343400@bracz.edu.pl
SUMMARY:Warsztat tworzenia kartek pocztowych
DESCRIPTION:
URL:https://bracz.edu.pl/event/warsztat-tworzenia-kartek-pocztowych/
END:VEVENT
BEGIN:VEVENT
DTSTART;TZID=Europe/Warsaw:20251002T170000
DTEND;TZID=Europe/Warsaw:20251002T180000
DTSTAMP:20260423T041246
CREATED:20250916T111013Z
LAST-MODIFIED:20250916T111013Z
UID:31965-1759424400-1759428000@bracz.edu.pl
SUMMARY:Pamiętaj o czwartku. Trening pamięci
DESCRIPTION:
URL:https://bracz.edu.pl/event/pamietaj-o-czwartku-trening-pamieci-4/
END:VEVENT
BEGIN:VEVENT
DTSTART;TZID=Europe/Warsaw:20251003T170000
DTEND;TZID=Europe/Warsaw:20251003T183000
DTSTAMP:20260423T041246
CREATED:20250916T113200Z
LAST-MODIFIED:20250916T113200Z
UID:31973-1759510800-1759516200@bracz.edu.pl
SUMMARY:„Na Twój list czekałam z utęsknieniem”. Spotkanie poetyckie z listami Jane Austen
DESCRIPTION:
URL:https://bracz.edu.pl/event/na-twoj-list-czekalam-z-utesknieniem-spotkanie-poetyckie-z-listami-jane-austen/
END:VEVENT
BEGIN:VEVENT
DTSTART;TZID=Europe/Warsaw:20251004T110000
DTEND;TZID=Europe/Warsaw:20251004T130000
DTSTAMP:20260423T041246
CREATED:20250916T114332Z
LAST-MODIFIED:20250916T114555Z
UID:31977-1759575600-1759582800@bracz.edu.pl
SUMMARY:Malowane winyle. Warsztaty dla dzieci z okazji Światowego Dnia Muzyki
DESCRIPTION:
URL:https://bracz.edu.pl/event/malowane-winyle-warsztaty-dla-dzieci-z-okazji-swiatowego-dnia-muzyki/
END:VEVENT
BEGIN:VEVENT
DTSTART;TZID=Europe/Warsaw:20251004T123000
DTEND;TZID=Europe/Warsaw:20251004T140000
DTSTAMP:20260423T041246
CREATED:20250916T121656Z
LAST-MODIFIED:20250916T122326Z
UID:31982-1759581000-1759586400@bracz.edu.pl
SUMMARY:Daj się wciągnąć w „Wiry” Henryka Sienkiewicza
DESCRIPTION:
URL:https://bracz.edu.pl/event/daj-sie-wciagnac-w-wiry-henryka-sienkiewicza/
END:VEVENT
BEGIN:VEVENT
DTSTART;TZID=Europe/Warsaw:20251004T150000
DTEND;TZID=Europe/Warsaw:20251004T170000
DTSTAMP:20260423T041246
CREATED:20250916T124137Z
LAST-MODIFIED:20250916T131057Z
UID:31988-1759590000-1759597200@bracz.edu.pl
SUMMARY:W małym kinie u Raczyńskich. Seans z listem w roli głównej
DESCRIPTION:
URL:https://bracz.edu.pl/event/w-malym-kinie-u-raczynskich-seans-z-listem-w-roli-glownej/
END:VEVENT
BEGIN:VEVENT
DTSTART;TZID=Europe/Warsaw:20251007T140000
DTEND;TZID=Europe/Warsaw:20251009T200000
DTSTAMP:20260423T041246
CREATED:20250917T064155Z
LAST-MODIFIED:20250917T064155Z
UID:31995-1759845600-1760040000@bracz.edu.pl
SUMMARY:Dni Kultury Czeskiej
DESCRIPTION:
URL:https://bracz.edu.pl/event/dni-kultury-czeskiej-5/
END:VEVENT
END:VCALENDAR