BEGIN:VCALENDAR
VERSION:2.0
PRODID:-//Biblioteka Raczyńskich - ECPv6.2.3//NONSGML v1.0//EN
CALSCALE:GREGORIAN
METHOD:PUBLISH
X-WR-CALNAME:Biblioteka Raczyńskich
X-ORIGINAL-URL:https://bracz.edu.pl
X-WR-CALDESC:Events for Biblioteka Raczyńskich
REFRESH-INTERVAL;VALUE=DURATION:PT1H
X-Robots-Tag:noindex
X-PUBLISHED-TTL:PT1H
BEGIN:VTIMEZONE
TZID:Europe/Warsaw
BEGIN:DAYLIGHT
TZOFFSETFROM:+0100
TZOFFSETTO:+0200
TZNAME:CEST
DTSTART:20230326T010000
END:DAYLIGHT
BEGIN:STANDARD
TZOFFSETFROM:+0200
TZOFFSETTO:+0100
TZNAME:CET
DTSTART:20231029T010000
END:STANDARD
END:VTIMEZONE
BEGIN:VEVENT
DTSTART;TZID=Europe/Warsaw:20230125T180000
DTEND;TZID=Europe/Warsaw:20230125T190000
DTSTAMP:20260420T232240
CREATED:20221214T131346Z
LAST-MODIFIED:20221214T131346Z
UID:15213-1674669600-1674673200@bracz.edu.pl
SUMMARY:Strony fotografii. Spotkanie z Olena Martynchuk
DESCRIPTION:
URL:https://bracz.edu.pl/event/strony-fotografii-spotkanie-z-olena-martynchuk/
CATEGORIES:dla Dorosłych,dla maturzystów
END:VEVENT
BEGIN:VEVENT
DTSTART;TZID=Europe/Warsaw:20230126T170000
DTEND;TZID=Europe/Warsaw:20230126T180000
DTSTAMP:20260420T232240
CREATED:20230117T072808Z
LAST-MODIFIED:20230117T072808Z
UID:15396-1674752400-1674756000@bracz.edu.pl
SUMMARY:Umundurowanie i uzbrojenie powstańców wielkopolskich
DESCRIPTION:
URL:https://bracz.edu.pl/event/umundurowanie-i-uzbrojenie-powstancow-wielkopolskich/
LOCATION:Biblioteka Raczyńskich Filia 14\,\, os. Bolesława Chrobrego 117\, Poznań
CATEGORIES:dla Dorosłych,dla maturzystów
END:VEVENT
BEGIN:VEVENT
DTSTART;TZID=Europe/Warsaw:20230130T180000
DTEND;TZID=Europe/Warsaw:20230130T193000
DTSTAMP:20260420T232240
CREATED:20221214T132243Z
LAST-MODIFIED:20221214T132243Z
UID:15222-1675101600-1675107000@bracz.edu.pl
SUMMARY:Spotkanie z Barbarą Wysoczańską
DESCRIPTION:
URL:https://bracz.edu.pl/event/spotkanie-z-barbara-wysoczanska/
LOCATION:Biblioteka Raczyńskich\, pl. Wolności 19\, Poznań\, 61-739\, Polska
CATEGORIES:dla Dorosłych
END:VEVENT
BEGIN:VEVENT
DTSTART;TZID=Europe/Warsaw:20230204T110000
DTEND;TZID=Europe/Warsaw:20230204T120000
DTSTAMP:20260420T232240
CREATED:20230118T105151Z
LAST-MODIFIED:20230118T105151Z
UID:15407-1675508400-1675512000@bracz.edu.pl
SUMMARY:Zwiedzanie Biblioteki Raczyńskich
DESCRIPTION:
URL:https://bracz.edu.pl/event/zwiedzanie-biblioteki-raczynskich-2/
LOCATION:Biblioteka Raczyńskich\, pl. Wolności 19\, Poznań\, 61-739\, Polska
END:VEVENT
BEGIN:VEVENT
DTSTART;TZID=Europe/Warsaw:20230204T123000
DTEND;TZID=Europe/Warsaw:20230204T133000
DTSTAMP:20260420T232240
CREATED:20230118T111030Z
LAST-MODIFIED:20230118T111030Z
UID:15411-1675513800-1675517400@bracz.edu.pl
SUMMARY:Zima w Muzeum Sienkiewicza: O krainie wiecznych śniegów i listach z podróży.
DESCRIPTION:
URL:https://bracz.edu.pl/event/zima-w-muzeum-sienkiewicza-o-krainie-wiecznych-sniegow-i-listach-z-podrozy/
LOCATION:Muzeum Literackie Henryka Sienkiewicza\, Stary Rynek 84\, Poznań\, 61-772
CATEGORIES:dla Dzieci
END:VEVENT
BEGIN:VEVENT
DTSTART;TZID=Europe/Warsaw:20230206T180000
DTEND;TZID=Europe/Warsaw:20230206T193000
DTSTAMP:20260420T232240
CREATED:20230119T091055Z
LAST-MODIFIED:20230119T092634Z
UID:15424-1675706400-1675711800@bracz.edu.pl
SUMMARY:Kultura bez barier.Spotkanie z Radkiem Rakiem
DESCRIPTION:
URL:https://bracz.edu.pl/event/spotkanie-z-radkiem-rakiem/
LOCATION:Biblioteka Raczyńskich\, pl. Wolności 19\, Poznań\, 61-739\, Polska
CATEGORIES:dla Dorosłych,dla maturzystów
END:VEVENT
BEGIN:VEVENT
DTSTART;TZID=Europe/Warsaw:20230207T180000
DTEND;TZID=Europe/Warsaw:20230207T190000
DTSTAMP:20260420T232240
CREATED:20230119T092937Z
LAST-MODIFIED:20230119T092937Z
UID:15436-1675792800-1675796400@bracz.edu.pl
SUMMARY:Bookclub We need YA: Lubisz czytać? Przyjdź i pogadaj z nami o Twoich ulubionych książkach!
DESCRIPTION:
URL:https://bracz.edu.pl/event/bookclub-we-need-ya-lubisz-czytac-przyjdz-i-pogadaj-z-nami-o-twoich-ulubionych-ksiazkach/
LOCATION:Filia Sztuki\, Pl. Wolności 19\, Poznań\, Wielkopolskie\, 61-739\, Polska
CATEGORIES:dla maturzystów
END:VEVENT
BEGIN:VEVENT
DTSTART;TZID=Europe/Warsaw:20230209T180000
DTEND;TZID=Europe/Warsaw:20230209T190000
DTSTAMP:20260420T232240
CREATED:20230119T093813Z
LAST-MODIFIED:20230119T093813Z
UID:15444-1675965600-1675969200@bracz.edu.pl
SUMMARY:Tradycyjny Klub Dyskusyjny. O masce
DESCRIPTION:
URL:https://bracz.edu.pl/event/tradycyjny-klub-dyskusyjny-o-masce/
LOCATION:Filia Sztuki\, Pl. Wolności 19\, Poznań\, Wielkopolskie\, 61-739\, Polska
CATEGORIES:dla wszystkich
END:VEVENT
BEGIN:VEVENT
DTSTART;TZID=Europe/Warsaw:20230214T180000
DTEND;TZID=Europe/Warsaw:20230214T190000
DTSTAMP:20260420T232240
CREATED:20230119T100038Z
LAST-MODIFIED:20230119T100038Z
UID:15455-1676397600-1676401200@bracz.edu.pl
SUMMARY:Czytanie przestrzeni. Retroprzyszłości
DESCRIPTION:
URL:https://bracz.edu.pl/event/czytanie-przestrzeni-retroprzyszlosci/
LOCATION:Filia Sztuki\, Pl. Wolności 19\, Poznań\, Wielkopolskie\, 61-739\, Polska
CATEGORIES:dla wszystkich
END:VEVENT
BEGIN:VEVENT
DTSTART;TZID=Europe/Warsaw:20230215T110000
DTEND;TZID=Europe/Warsaw:20230215T120000
DTSTAMP:20260420T232240
CREATED:20230119T100644Z
LAST-MODIFIED:20230119T100644Z
UID:15464-1676458800-1676462400@bracz.edu.pl
SUMMARY:Zwiedzanie Biblioteki dla seniorów
DESCRIPTION:
URL:https://bracz.edu.pl/event/zwiedzanie-biblioteki-dla-seniorow-8/
LOCATION:Biblioteka Raczyńskich\, pl. Wolności 19\, Poznań\, 61-739\, Polska
CATEGORIES:dla Dorosłych
END:VEVENT
BEGIN:VEVENT
DTSTART;TZID=Europe/Warsaw:20230215T180000
DTEND;TZID=Europe/Warsaw:20230215T190000
DTSTAMP:20260420T232240
CREATED:20230119T101011Z
LAST-MODIFIED:20230119T101037Z
UID:15470-1676484000-1676487600@bracz.edu.pl
SUMMARY:Kultura bez barier. Spotkanie z Maciejem Siembiedą
DESCRIPTION:
URL:https://bracz.edu.pl/event/kultura-bez-barier-spotkanie-z-maciejem-siembieda/
LOCATION:Biblioteka Raczyńskich\, pl. Wolności 19\, Poznań\, 61-739\, Polska
CATEGORIES:dla wszystkich
END:VEVENT
BEGIN:VEVENT
DTSTART;TZID=Europe/Warsaw:20230216T180000
DTEND;TZID=Europe/Warsaw:20230216T190000
DTSTAMP:20260420T232240
CREATED:20230119T101702Z
LAST-MODIFIED:20230119T101702Z
UID:15481-1676570400-1676574000@bracz.edu.pl
SUMMARY:Sztuk-mistrze: spotkanie z Anną Szymczak
DESCRIPTION:
URL:https://bracz.edu.pl/event/sztuk-mistrze-spotkanie-z-anna-szymczak/
LOCATION:Filia Sztuki\, Pl. Wolności 19\, Poznań\, Wielkopolskie\, 61-739\, Polska
CATEGORIES:dla wszystkich
END:VEVENT
BEGIN:VEVENT
DTSTART;TZID=Europe/Warsaw:20230218T110000
DTEND;TZID=Europe/Warsaw:20230218T120000
DTSTAMP:20260420T232240
CREATED:20230119T101832Z
LAST-MODIFIED:20230119T101832Z
UID:15485-1676718000-1676721600@bracz.edu.pl
SUMMARY:Zwiedzanie Biblioteki Raczyńskich
DESCRIPTION:
URL:https://bracz.edu.pl/event/zwiedzanie-biblioteki-raczynskich-3/
END:VEVENT
BEGIN:VEVENT
DTSTART;TZID=Europe/Warsaw:20230221T160000
DTEND;TZID=Europe/Warsaw:20230221T170000
DTSTAMP:20260420T232240
CREATED:20230119T100959Z
LAST-MODIFIED:20230119T100959Z
UID:15471-1676995200-1676998800@bracz.edu.pl
SUMMARY:Wtorek dla Seniora. Rusz głową!
DESCRIPTION:
URL:https://bracz.edu.pl/event/wtorek-dla-seniora-rusz-glowa/
END:VEVENT
BEGIN:VEVENT
DTSTART;TZID=Europe/Warsaw:20230222T123000
DTEND;TZID=Europe/Warsaw:20230222T133000
DTSTAMP:20260420T232240
CREATED:20230119T100531Z
LAST-MODIFIED:20230119T100531Z
UID:15461-1677069000-1677072600@bracz.edu.pl
SUMMARY:Poezja miłosna Kazimiery Iłłakowiczówny
DESCRIPTION:
URL:https://bracz.edu.pl/event/poezja-milosna-kazimiery-illakowiczowny/
END:VEVENT
BEGIN:VEVENT
DTSTART;TZID=Europe/Warsaw:20230222T170000
DTEND;TZID=Europe/Warsaw:20230222T180000
DTSTAMP:20260420T232240
CREATED:20230206T073701Z
LAST-MODIFIED:20230206T073701Z
UID:15553-1677085200-1677088800@bracz.edu.pl
SUMMARY:Wystawa i prelekcja "Historia Harcerstwa na Wildzie i Dębcu"  Filia 8/59
DESCRIPTION:
URL:https://bracz.edu.pl/event/wystawa-i-prelekcja-historia-harcerstwa-na-wildzie-i-debcu-filia-8-59/
LOCATION:Filia 8\, ul Osinowa 14/16\, Poznań\, wielkopolskie\, Polska
CATEGORIES:dla wszystkich
END:VEVENT
BEGIN:VEVENT
DTSTART;TZID=Europe/Warsaw:20230222T173000
DTEND;TZID=Europe/Warsaw:20230222T183000
DTSTAMP:20260420T232240
CREATED:20230131T134629Z
LAST-MODIFIED:20230131T134629Z
UID:15539-1677087000-1677090600@bracz.edu.pl
SUMMARY:Spotkanie z lekarzem i poetą Maciejem Grelą
DESCRIPTION:
URL:https://bracz.edu.pl/event/spotkanie-z-lekarzem-i-poeta-maciejem-grela/
CATEGORIES:dla Dorosłych
END:VEVENT
BEGIN:VEVENT
DTSTART;TZID=Europe/Warsaw:20230222T180000
DTEND;TZID=Europe/Warsaw:20230222T190000
DTSTAMP:20260420T232240
CREATED:20230119T095948Z
LAST-MODIFIED:20230119T095948Z
UID:15454-1677088800-1677092400@bracz.edu.pl
SUMMARY:Strony fotografii. Spotkanie z animatorami z WBPiCAK
DESCRIPTION:
URL:https://bracz.edu.pl/event/strony-fotografii-spotkanie-z-animatorami-z-wbpicak/
END:VEVENT
BEGIN:VEVENT
DTSTART;TZID=Europe/Warsaw:20230223T180000
DTEND;TZID=Europe/Warsaw:20230223T190000
DTSTAMP:20260420T232240
CREATED:20230119T094624Z
LAST-MODIFIED:20230119T094805Z
UID:15449-1677175200-1677178800@bracz.edu.pl
SUMMARY:Dramat irlandzki w Polsce. Wernisaż wystawy.
DESCRIPTION:
URL:https://bracz.edu.pl/event/dramat-irlandzki-w-polsce-wernisaz-wystawy/
END:VEVENT
BEGIN:VEVENT
DTSTART;TZID=Europe/Warsaw:20230224T170000
DTEND;TZID=Europe/Warsaw:20230224T180000
DTSTAMP:20260420T232240
CREATED:20230209T124754Z
LAST-MODIFIED:20230209T124755Z
UID:15573-1677258000-1677261600@bracz.edu.pl
SUMMARY:Tajemnice Chwaliszewa  w Filii 11
DESCRIPTION:
URL:https://bracz.edu.pl/event/tajemnice-chwaliszewa-w-filii-11/
LOCATION:Biblioteka Raczyńskich Filia 11\, ul\,. Chwaliszewo 17/23\, Poznań
CATEGORIES:dla Dorosłych
END:VEVENT
BEGIN:VEVENT
DTSTART;TZID=Europe/Warsaw:20230224T180000
DTEND;TZID=Europe/Warsaw:20230224T190000
DTSTAMP:20260420T232240
CREATED:20230119T092908Z
LAST-MODIFIED:20230119T092908Z
UID:15435-1677261600-1677265200@bracz.edu.pl
SUMMARY:Książką przez świat. Klub Książki u Raczyńskich
DESCRIPTION:
URL:https://bracz.edu.pl/event/ksiazka-przez-swiat-klub-ksiazki-u-raczynskich/
END:VEVENT
BEGIN:VEVENT
DTSTART;TZID=Europe/Warsaw:20230227T180000
DTEND;TZID=Europe/Warsaw:20230227T190000
DTSTAMP:20260420T232240
CREATED:20230119T092154Z
LAST-MODIFIED:20230119T092154Z
UID:15429-1677520800-1677524400@bracz.edu.pl
SUMMARY:Kultura bez barier. Spotkanie z Adamem Faberem
DESCRIPTION:
URL:https://bracz.edu.pl/event/kultura-bez-barier-spotkanie-z-adamem-faberem/
END:VEVENT
BEGIN:VEVENT
DTSTART;TZID=Europe/Warsaw:20230228T180000
DTEND;TZID=Europe/Warsaw:20230228T200000
DTSTAMP:20260420T232240
CREATED:20230130T120407Z
LAST-MODIFIED:20230130T120407Z
UID:15533-1677607200-1677614400@bracz.edu.pl
SUMMARY:Spotkanie autorskie Andrzeja Wilowskiego w Domu Literatury
DESCRIPTION:
URL:https://bracz.edu.pl/event/spotkanie-autorskie-andrzeja-wilowskiego-w-domu-literatury/
LOCATION:Pracownia-Muzeum Józefa Ignacego Kraszewskiego\, ul. Wroniecka 14\, Poznań
CATEGORIES:dla wszystkich
END:VEVENT
BEGIN:VEVENT
DTSTART;TZID=Europe/Warsaw:20230302T180000
DTEND;TZID=Europe/Warsaw:20230302T190000
DTSTAMP:20260420T232240
CREATED:20230217T095305Z
LAST-MODIFIED:20230217T095305Z
UID:15610-1677780000-1677783600@bracz.edu.pl
SUMMARY:Tradycyjny Klub Dyskusyjny. Kobiety\, które mają moc: o znachorkach i zielarkach w kulturze ludowej
DESCRIPTION:
URL:https://bracz.edu.pl/event/tradycyjny-klub-dyskusyjny-kobiety-ktore-maja-moc-o-znachorkach-i-zielarkach-w-kulturze-ludowej/
END:VEVENT
BEGIN:VEVENT
DTSTART;TZID=Europe/Warsaw:20230304T110000
DTEND;TZID=Europe/Warsaw:20230304T120000
DTSTAMP:20260420T232240
CREATED:20230217T095349Z
LAST-MODIFIED:20230217T095349Z
UID:15612-1677927600-1677931200@bracz.edu.pl
SUMMARY:Konstancja Raczyńska – pani biblioteki. Zwiedzanie Biblioteki Raczyńskich
DESCRIPTION:
URL:https://bracz.edu.pl/event/konstancja-raczynska-pani-biblioteki-zwiedzanie-biblioteki-raczynskich/
END:VEVENT
BEGIN:VEVENT
DTSTART;TZID=Europe/Warsaw:20230304T120000
DTEND;TZID=Europe/Warsaw:20230304T130000
DTSTAMP:20260420T232240
CREATED:20230217T095442Z
LAST-MODIFIED:20230217T095600Z
UID:15614-1677931200-1677934800@bracz.edu.pl
SUMMARY:Rodzinne czytanie z asz.teatrem. „Bal u lamorożca. Polsko-ukraińskie bajki o przyjaźni” i warsztaty z Agatą Romaniuk
DESCRIPTION:
URL:https://bracz.edu.pl/event/rodzinne-czytanie-z-asz-teatrem-bal-u-lamorozca-polsko-ukrainskie-bajki-o-przyjazni-i-warsztaty-z-agata-romaniuk/
END:VEVENT
BEGIN:VEVENT
DTSTART;TZID=Europe/Warsaw:20230306T180000
DTEND;TZID=Europe/Warsaw:20230306T193000
DTSTAMP:20260420T232240
CREATED:20230217T095653Z
LAST-MODIFIED:20230217T095653Z
UID:15616-1678125600-1678131000@bracz.edu.pl
SUMMARY:Biblioteka dostępna. Spotkanie z Agatą Romaniuk
DESCRIPTION:
URL:https://bracz.edu.pl/event/biblioteka-dostepna-spotkanie-z-agata-romaniuk/
END:VEVENT
BEGIN:VEVENT
DTSTART;TZID=Europe/Warsaw:20230307T100000
DTEND;TZID=Europe/Warsaw:20230307T140000
DTSTAMP:20260420T232240
CREATED:20230217T111007Z
LAST-MODIFIED:20230217T120256Z
UID:15631-1678183200-1678197600@bracz.edu.pl
SUMMARY:Poznańska kultura dla Ukrainy. Panele dyskusyjne
DESCRIPTION:
URL:https://bracz.edu.pl/event/poznanska-kultura-dla-ukrainy-panele-dyskusyjne/
END:VEVENT
BEGIN:VEVENT
DTSTART;TZID=Europe/Warsaw:20230307T180000
DTEND;TZID=Europe/Warsaw:20230307T200000
DTSTAMP:20260420T232240
CREATED:20230217T113713Z
LAST-MODIFIED:20230217T113713Z
UID:15642-1678212000-1678219200@bracz.edu.pl
SUMMARY:Poznańska kultura dla Ukrainy. Spotkanie z Oksaną Zabużko
DESCRIPTION:
URL:https://bracz.edu.pl/event/poznanska-kultura-dla-ukrainy-spotkanie-z-oksana-zabuzko/
END:VEVENT
BEGIN:VEVENT
DTSTART;TZID=Europe/Warsaw:20230308T180000
DTEND;TZID=Europe/Warsaw:20230308T200000
DTSTAMP:20260420T232240
CREATED:20230217T114555Z
LAST-MODIFIED:20230217T120021Z
UID:15646-1678298400-1678305600@bracz.edu.pl
SUMMARY:Poznańska kultura dla Ukrainy. Koncert Kołomyja
DESCRIPTION:
URL:https://bracz.edu.pl/event/koncert-kolomyja/
END:VEVENT
END:VCALENDAR