BEGIN:VCALENDAR
VERSION:2.0
PRODID:-//Biblioteka Raczyńskich - ECPv6.2.3//NONSGML v1.0//EN
CALSCALE:GREGORIAN
METHOD:PUBLISH
X-WR-CALNAME:Biblioteka Raczyńskich
X-ORIGINAL-URL:https://bracz.edu.pl
X-WR-CALDESC:Events for Biblioteka Raczyńskich
REFRESH-INTERVAL;VALUE=DURATION:PT1H
X-Robots-Tag:noindex
X-PUBLISHED-TTL:PT1H
BEGIN:VTIMEZONE
TZID:Europe/Warsaw
BEGIN:DAYLIGHT
TZOFFSETFROM:+0100
TZOFFSETTO:+0200
TZNAME:CEST
DTSTART:20190331T010000
END:DAYLIGHT
BEGIN:STANDARD
TZOFFSETFROM:+0200
TZOFFSETTO:+0100
TZNAME:CET
DTSTART:20191027T010000
END:STANDARD
END:VTIMEZONE
BEGIN:VEVENT
DTSTART;TZID=Europe/Warsaw:20191015T170000
DTEND;TZID=Europe/Warsaw:20191015T183000
DTSTAMP:20260421T060407
CREATED:20190919T104315Z
LAST-MODIFIED:20190919T104315Z
UID:6132-1571158800-1571164200@bracz.edu.pl
SUMMARY:Indochiny. Spotkanie z podróżnikiem Piotrem Wnukiem w Filii Wildeckiej
DESCRIPTION:
URL:https://bracz.edu.pl/event/indochiny-spotkanie-z-podroznikiem-piotrem-wnukiem-w-filii-wildeckiej-2/
LOCATION:Biblioteka Raczyńskich Filia Wildecka ul. Hetmańska 91\, ul. Hetmańska 91\, Poznań\, Wielkopolskie
END:VEVENT
BEGIN:VEVENT
DTSTART;TZID=Europe/Warsaw:20191012T120000
DTEND;TZID=Europe/Warsaw:20191012T133000
DTSTAMP:20260421T060407
CREATED:20190918T061025Z
LAST-MODIFIED:20190918T061025Z
UID:6092-1570881600-1570887000@bracz.edu.pl
SUMMARY:3TATY\, 4 ŻYWIOŁY. Tli się ogień pomysłu!
DESCRIPTION:
URL:https://bracz.edu.pl/event/3taty-4-zywioly-tli-sie-ogien-pomyslu-2/
LOCATION:Biblioteka Raczyńskich Filia Naramowicka\, ul. Rubież 14a\, Poznań
END:VEVENT
BEGIN:VEVENT
DTSTART;TZID=Europe/Warsaw:20191012T110000
DTEND;TZID=Europe/Warsaw:20191012T120000
DTSTAMP:20260421T060407
CREATED:20190916T090735Z
LAST-MODIFIED:20190916T090735Z
UID:6041-1570878000-1570881600@bracz.edu.pl
SUMMARY:Rodzinne czytanie z okazji Dni kultury czeskiej
DESCRIPTION:
URL:https://bracz.edu.pl/event/rodzinne-czytanie-z-okazji-dni-kultury-czeskiej/
END:VEVENT
BEGIN:VEVENT
DTSTART;TZID=Europe/Warsaw:20191011T180000
DTEND;TZID=Europe/Warsaw:20191011T190000
DTSTAMP:20260421T060407
CREATED:20190926T122934Z
LAST-MODIFIED:20190927T125229Z
UID:6264-1570816800-1570820400@bracz.edu.pl
SUMMARY:Iran - perska przygoda. Spotkanie z podróżnikiem Piotrem Wnukiem w Filii 8
DESCRIPTION:
URL:https://bracz.edu.pl/event/iran-perska-przygoda-spotkanie-z-podroznikiem-piotrem-wnukiem/
LOCATION:Biblioteka Raczyńskich Filia 8\, ul. Osinowa 14/16\, Poznań\, Wielkopolskie\, Polska
END:VEVENT
BEGIN:VEVENT
DTSTART;TZID=Europe/Warsaw:20191009T173000
DTEND;TZID=Europe/Warsaw:20191009T190000
DTSTAMP:20260421T060407
CREATED:20190924T074634Z
LAST-MODIFIED:20191001T123918Z
UID:6180-1570642200-1570647600@bracz.edu.pl
SUMMARY:Majówka we Lwowie. Spotkanie z podróżnikiem Andrzejem Pasławskim
DESCRIPTION:
URL:https://bracz.edu.pl/event/majowka-we-lwowie-spotkanie-z-podroznikiem-andrzejem-paslawskim/
END:VEVENT
BEGIN:VEVENT
DTSTART;TZID=Europe/Warsaw:20191009T173000
DTEND;TZID=Europe/Warsaw:20191009T190000
DTSTAMP:20260421T060407
CREATED:20190924T073621Z
LAST-MODIFIED:20190924T073621Z
UID:6174-1570642200-1570647600@bracz.edu.pl
SUMMARY:Spotkanie z Martą Radomską
DESCRIPTION:
URL:https://bracz.edu.pl/event/spotkanie-z-marta-radomska/
LOCATION:Biblioteka Raczyńskich Filia 62\, os. Jana III Sobieskiego 103
END:VEVENT
BEGIN:VEVENT
DTSTART;VALUE=DATE:20191007
DTEND;VALUE=DATE:20191010
DTSTAMP:20260421T060407
CREATED:20190916T084628Z
LAST-MODIFIED:20190916T084628Z
UID:6032-1570406400-1570665599@bracz.edu.pl
SUMMARY:Dni kultury czeskiej w Bibliotece Raczyńskich
DESCRIPTION:
URL:https://bracz.edu.pl/event/dni-kultury-czeskiej-w-bibliotece-raczynskich/
END:VEVENT
BEGIN:VEVENT
DTSTART;VALUE=DATE:20191005
DTEND;VALUE=DATE:20191006
DTSTAMP:20260421T060407
CREATED:20190912T111123Z
LAST-MODIFIED:20190923T065550Z
UID:5975-1570233600-1570319999@bracz.edu.pl
SUMMARY:Noc Bibliotek. Znajdźmy wspólny język
DESCRIPTION:
URL:https://bracz.edu.pl/event/noc-bibliotek-znajdzmy-wspolny-jezyk/
LOCATION:Biblioteka Raczyńskich\, pl. Wolności 19\, Poznań\, 61-739\, Polska
END:VEVENT
BEGIN:VEVENT
DTSTART;TZID=Europe/Warsaw:20191004T190000
DTEND;TZID=Europe/Warsaw:20191004T200000
DTSTAMP:20260421T060407
CREATED:20190925T092911Z
LAST-MODIFIED:20190925T092911Z
UID:6237-1570215600-1570219200@bracz.edu.pl
SUMMARY:Noc Bibliotek w Filii Naramowickiej
DESCRIPTION:
URL:https://bracz.edu.pl/event/noc-bibliotek-w-filii-naramowickiej/
END:VEVENT
BEGIN:VEVENT
DTSTART;TZID=Europe/Warsaw:20191004T180000
DTEND;TZID=Europe/Warsaw:20191004T200000
DTSTAMP:20260421T060407
CREATED:20190923T064232Z
LAST-MODIFIED:20190923T064232Z
UID:6140-1570212000-1570219200@bracz.edu.pl
SUMMARY:Noc Bibliotek w Filii Wildeckiej
DESCRIPTION:
URL:https://bracz.edu.pl/event/noc-bibliotek-w-filii-wildeckiej/
END:VEVENT
BEGIN:VEVENT
DTSTART;TZID=Europe/Warsaw:20191003T180000
DTEND;TZID=Europe/Warsaw:20191003T200000
DTSTAMP:20260421T060407
CREATED:20190912T103156Z
LAST-MODIFIED:20190912T104628Z
UID:5961-1570125600-1570132800@bracz.edu.pl
SUMMARY:CZY TA PANI CZYTA. Spotkanie z Joanną Opiat-Bojarską
DESCRIPTION:
URL:https://bracz.edu.pl/event/czyta-pani-czyta-spotkanie-z-joanna-opiat-bojarska/
LOCATION:Biblioteka Raczyńskich\, pl. Wolności 19\, Poznań\, 61-739\, Polska
END:VEVENT
BEGIN:VEVENT
DTSTART;TZID=Europe/Warsaw:20191002T180000
DTEND;TZID=Europe/Warsaw:20191002T193000
DTSTAMP:20260421T060407
CREATED:20190912T102135Z
LAST-MODIFIED:20190912T102939Z
UID:5954-1570039200-1570044600@bracz.edu.pl
SUMMARY:Jubileuszowy wieczór autorski Konrada Sutarskiego
DESCRIPTION:
URL:https://bracz.edu.pl/event/spotkanie-z-konradem-sutarskim/
LOCATION:Pracownia-Muzeum Józefa Ignacego Kraszewskiego\, ul. Wroniecka 14\, Poznań
END:VEVENT
BEGIN:VEVENT
DTSTART;TZID=Europe/Warsaw:20191002T173000
DTEND;TZID=Europe/Warsaw:20191002T183000
DTSTAMP:20260421T060407
CREATED:20190930T095145Z
LAST-MODIFIED:20190930T095145Z
UID:6315-1570037400-1570041000@bracz.edu.pl
SUMMARY:Cykl spotkań komputerowych dla seniorów w Filii 42
DESCRIPTION:
URL:https://bracz.edu.pl/event/cykl-spotkan-komputerowych-dla-seniorow-w-filii-42/
END:VEVENT
BEGIN:VEVENT
DTSTART;TZID=Europe/Warsaw:20190928T130000
DTEND;TZID=Europe/Warsaw:20190928T140000
DTSTAMP:20260421T060407
CREATED:20190812T110051Z
LAST-MODIFIED:20190917T094555Z
UID:5665-1569675600-1569679200@bracz.edu.pl
SUMMARY:60+ Kultura: Wszyscy znali Sienkiewicza. Kogo znał Sienkiewicz? O XIX-wiecznych kręgach towarzyskich
DESCRIPTION:
URL:https://bracz.edu.pl/event/wszyscy-znali-sienkiewicza-kogo-znal-sienkiewicz-o-xix-wiecznych-kregach-towarzyskich/
END:VEVENT
BEGIN:VEVENT
DTSTART;TZID=Europe/Warsaw:20190928T120000
DTEND;TZID=Europe/Warsaw:20190928T133000
DTSTAMP:20260421T060407
CREATED:20190812T105102Z
LAST-MODIFIED:20190812T105102Z
UID:5660-1569672000-1569677400@bracz.edu.pl
SUMMARY:3TATY\, 4 ŻYWIOŁY. Z Polski na szerokie wody
DESCRIPTION:
URL:https://bracz.edu.pl/event/3taty-4-zywioly-z-polski-na-szerokie-wody-2/
END:VEVENT
BEGIN:VEVENT
DTSTART;VALUE=DATE:20190927
DTEND;VALUE=DATE:20190929
DTSTAMP:20260421T060407
CREATED:20190917T094848Z
LAST-MODIFIED:20190917T094848Z
UID:6070-1569542400-1569715199@bracz.edu.pl
SUMMARY:60+ Kultura. Weekend Seniora z kulturą w naszych muzeach
DESCRIPTION:
URL:https://bracz.edu.pl/event/60-kultura-weekend-seniora-z-kultura-w-naszych-muzeach/
END:VEVENT
BEGIN:VEVENT
DTSTART;TZID=Europe/Warsaw:20190925T180000
DTEND;TZID=Europe/Warsaw:20190925T193000
DTSTAMP:20260421T060407
CREATED:20190912T084854Z
LAST-MODIFIED:20190912T084854Z
UID:5938-1569434400-1569439800@bracz.edu.pl
SUMMARY:Gruzja. Kraj wielu kontrastów. Spotkanie z podróżnikiem Maciejem Lelonkiewiczem
DESCRIPTION:
URL:https://bracz.edu.pl/event/gruzja-kraj-wielu-kontrastow-spotkanie-z-podroznikiem-maciejem-lelonkiewiczem/
LOCATION:Filia 42\, ODK „Pod Lipami”\, os. Pod Lipami 108 A\, Poznań
END:VEVENT
BEGIN:VEVENT
DTSTART;TZID=Europe/Warsaw:20190925T160000
DTEND;TZID=Europe/Warsaw:20190925T170000
DTSTAMP:20260421T060407
CREATED:20190809T074320Z
LAST-MODIFIED:20190809T074320Z
UID:5532-1569427200-1569430800@bracz.edu.pl
SUMMARY:Zdradzamy tajemnice Iłły - oprowadzanie po Mieszkaniu-Pracowni Kazimiery Iłłakowiczówny
DESCRIPTION:
URL:https://bracz.edu.pl/event/zdradzamy-tajemnice-illy-oprowadzanie-po-mieszkaniu-pracowni-kazimiery-illakowiczowny/
END:VEVENT
BEGIN:VEVENT
DTSTART;TZID=Europe/Warsaw:20190924T140000
DTEND;TZID=Europe/Warsaw:20190924T170000
DTSTAMP:20260421T060407
CREATED:20190911T130452Z
LAST-MODIFIED:20190911T130913Z
UID:5934-1569333600-1569344400@bracz.edu.pl
SUMMARY:Sympozjum ORP „Orzeł”. Poszukiwanie wraku
DESCRIPTION:
URL:https://bracz.edu.pl/event/sympozjum-orp-orzel-%cc%b6-poszukiwanie-wraku/
END:VEVENT
BEGIN:VEVENT
DTSTART;TZID=Europe/Warsaw:20190921T130000
DTEND;TZID=Europe/Warsaw:20190921T143000
DTSTAMP:20260421T060407
CREATED:20190809T072753Z
LAST-MODIFIED:20190809T072753Z
UID:5525-1569070800-1569076200@bracz.edu.pl
SUMMARY:Powszechna Wystawa Krajowa: sukces czy klęska? Wykład Andrzeja Zarzyckiego
DESCRIPTION:
URL:https://bracz.edu.pl/event/powszechna-wystawa-krajowa-sukces-czy-kleska-wyklad-andrzeja-zarzyckiego/
END:VEVENT
BEGIN:VEVENT
DTSTART;TZID=Europe/Warsaw:20190920T180000
DTEND;TZID=Europe/Warsaw:20190920T193000
DTSTAMP:20260421T060407
CREATED:20190808T134447Z
LAST-MODIFIED:20190808T134447Z
UID:5518-1569002400-1569007800@bracz.edu.pl
SUMMARY:Seryjni mordercy – spotkanie z pisarzami
DESCRIPTION:
URL:https://bracz.edu.pl/event/seryjni-mordercy-spotkanie-z-pisarzami/
END:VEVENT
BEGIN:VEVENT
DTSTART;TZID=Europe/Warsaw:20190914T130000
DTEND;TZID=Europe/Warsaw:20190914T143000
DTSTAMP:20260421T060407
CREATED:20190808T132026Z
LAST-MODIFIED:20190808T132026Z
UID:5514-1568466000-1568471400@bracz.edu.pl
SUMMARY:„Ważne\, że Polska jest” – Kazimiera Iłłakowiczówna w splocie życia i historii
DESCRIPTION:
URL:https://bracz.edu.pl/event/wazne-ze-polska-jest-kazimiera-illakowiczowna-w-splocie-zycia-i-historii/
END:VEVENT
BEGIN:VEVENT
DTSTART;TZID=Europe/Warsaw:20190914T120000
DTEND;TZID=Europe/Warsaw:20190914T140000
DTSTAMP:20260421T060407
CREATED:20190808T123207Z
LAST-MODIFIED:20190808T123207Z
UID:5507-1568462400-1568469600@bracz.edu.pl
SUMMARY:3TATY\, 4 ŻYWIOŁY. Na początku był las
DESCRIPTION:
URL:https://bracz.edu.pl/event/3taty-4-zywioly-na-poczatku-byl-las-2/
END:VEVENT
BEGIN:VEVENT
DTSTART;TZID=Europe/Warsaw:20190911T180000
DTEND;TZID=Europe/Warsaw:20190911T193000
DTSTAMP:20260421T060407
CREATED:20190808T120153Z
LAST-MODIFIED:20190808T120153Z
UID:5499-1568224800-1568230200@bracz.edu.pl
SUMMARY:Kanon lektur nieczytanych – jak „przerabiać” lektury?
DESCRIPTION:
URL:https://bracz.edu.pl/event/kanon-lektur-nieczytanych-jak-przerabiac-lektury/
END:VEVENT
BEGIN:VEVENT
DTSTART;TZID=Europe/Warsaw:20190910T163000
DTEND;TZID=Europe/Warsaw:20190910T180000
DTSTAMP:20260421T060407
CREATED:20190808T114505Z
LAST-MODIFIED:20190808T114505Z
UID:5493-1568133000-1568138400@bracz.edu.pl
SUMMARY:Wtorek dla seniora. „Każdy swoje 10 minut ma…” O piosenkach Seweryna Krajewskiego
DESCRIPTION:
URL:https://bracz.edu.pl/event/wtorek-dla-seniora-kazdy-swoje-10-minut-ma-o-piosenkach-seweryna-krajewskiego/
END:VEVENT
BEGIN:VEVENT
DTSTART;TZID=Europe/Warsaw:20190907T110000
DTEND;TZID=Europe/Warsaw:20190907T140000
DTSTAMP:20260421T060407
CREATED:20190808T114317Z
LAST-MODIFIED:20190808T114317Z
UID:5491-1567854000-1567864800@bracz.edu.pl
SUMMARY:Narodowe Czytanie
DESCRIPTION:
URL:https://bracz.edu.pl/event/narodowe-czytanie/
END:VEVENT
BEGIN:VEVENT
DTSTART;TZID=Europe/Warsaw:20190903T113000
DTEND;TZID=Europe/Warsaw:20190903T123000
DTSTAMP:20260421T060407
CREATED:20190826T082642Z
LAST-MODIFIED:20190826T082642Z
UID:5717-1567510200-1567513800@bracz.edu.pl
SUMMARY:Spotkanie z Arkadym Pawłem Fiedlerem
DESCRIPTION:
URL:https://bracz.edu.pl/event/spotkanie-z-arkadym-pawlem-fiedlerem/
LOCATION:Filia 17\, ul. 28 Czerwca 1956 r. 213/215\, Poznań\, Polska
END:VEVENT
BEGIN:VEVENT
DTSTART;TZID=Europe/Warsaw:20190828T160000
DTEND;TZID=Europe/Warsaw:20190828T170000
DTSTAMP:20260421T060407
CREATED:20190723T071207Z
LAST-MODIFIED:20190723T071207Z
UID:5392-1567008000-1567011600@bracz.edu.pl
SUMMARY:Oprowadzanie po Mieszkaniu-Pracowni Kazimiery Iłłakowiczówny
DESCRIPTION:
URL:https://bracz.edu.pl/event/oprowadzanie-po-mieszkaniu-pracowni-kazimiery-illakowiczowny/
LOCATION:Mieszkanie-Pracownia Kazimiery Iłłakowiczówny\, ul. Gajowa 8/4\, Poznań\, 60-815\, Polska
END:VEVENT
BEGIN:VEVENT
DTSTART;TZID=Europe/Warsaw:20190731T160000
DTEND;TZID=Europe/Warsaw:20190731T173000
DTSTAMP:20260421T060407
CREATED:20190718T061612Z
LAST-MODIFIED:20190718T061612Z
UID:5359-1564588800-1564594200@bracz.edu.pl
SUMMARY:Zdradzamy tajemnice Iłły -oprowadzanie po Muzeum
DESCRIPTION:
URL:https://bracz.edu.pl/event/zdradzamy-tajemnice-illy-oprowadzanie-po-muzeum/
LOCATION:Mieszkanie-Pracownia Kazimiery Iłłakowiczówny\, ul. Gajowa 8/4\, Poznań\, 60-815\, Polska
END:VEVENT
BEGIN:VEVENT
DTSTART;TZID=Europe/Warsaw:20190725T180000
DTEND;TZID=Europe/Warsaw:20190725T190000
DTSTAMP:20260421T060407
CREATED:20190708T090025Z
LAST-MODIFIED:20190708T090025Z
UID:5316-1564077600-1564081200@bracz.edu.pl
SUMMARY:Sarajewo-bałkańska perła
DESCRIPTION:
URL:https://bracz.edu.pl/event/sarajewo-balkanska-perla/
LOCATION:Biblioteka Raczyńskich Filia Naramowicka\, ul. Rubież 14a\, Poznań
CATEGORIES:dla wszystkich
END:VEVENT
END:VCALENDAR