BEGIN:VCALENDAR
VERSION:2.0
PRODID:-//Biblioteka Raczyńskich - ECPv6.2.3//NONSGML v1.0//EN
CALSCALE:GREGORIAN
METHOD:PUBLISH
X-WR-CALNAME:Biblioteka Raczyńskich
X-ORIGINAL-URL:https://bracz.edu.pl
X-WR-CALDESC:Events for Biblioteka Raczyńskich
REFRESH-INTERVAL;VALUE=DURATION:PT1H
X-Robots-Tag:noindex
X-PUBLISHED-TTL:PT1H
BEGIN:VTIMEZONE
TZID:Europe/Warsaw
BEGIN:DAYLIGHT
TZOFFSETFROM:+0100
TZOFFSETTO:+0200
TZNAME:CEST
DTSTART:20240331T010000
END:DAYLIGHT
BEGIN:STANDARD
TZOFFSETFROM:+0200
TZOFFSETTO:+0100
TZNAME:CET
DTSTART:20241027T010000
END:STANDARD
END:VTIMEZONE
BEGIN:VEVENT
DTSTART;TZID=Europe/Warsaw:20240522T180000
DTEND;TZID=Europe/Warsaw:20240522T193000
DTSTAMP:20260421T070143
CREATED:20240425T064424Z
LAST-MODIFIED:20240425T064424Z
UID:25710-1716400800-1716406200@bracz.edu.pl
SUMMARY:Strony fotografii. Spotkanie z Joanną Czarnotą
DESCRIPTION:
URL:https://bracz.edu.pl/event/strony-fotografii-spotkanie-z-joanna-czarnota/
END:VEVENT
BEGIN:VEVENT
DTSTART;TZID=Europe/Warsaw:20240523T180000
DTEND;TZID=Europe/Warsaw:20240523T193000
DTSTAMP:20260421T070143
CREATED:20240425T065646Z
LAST-MODIFIED:20240425T065646Z
UID:25714-1716487200-1716492600@bracz.edu.pl
SUMMARY:Sztuk-mistrze. Nie tylko o Pyrkonie! Spotkanie z Klubem Fantastyki Druga Era
DESCRIPTION:
URL:https://bracz.edu.pl/event/sztuk-mistrze-nie-tylko-o-pyrkonie-spotkanie-z-klubem-fantastyki-druga-era/
END:VEVENT
BEGIN:VEVENT
DTSTART;TZID=Europe/Warsaw:20240524T170000
DTEND;TZID=Europe/Warsaw:20240524T183000
DTSTAMP:20260421T070143
CREATED:20240425T070409Z
LAST-MODIFIED:20240425T070409Z
UID:25718-1716570000-1716575400@bracz.edu.pl
SUMMARY:Spotkanie dla dzieci z Agatą Widzowską
DESCRIPTION:
URL:https://bracz.edu.pl/event/spotkanie-dla-dzieci-z-agata-widzowska/
END:VEVENT
BEGIN:VEVENT
DTSTART;TZID=Europe/Warsaw:20240524T180000
DTEND;TZID=Europe/Warsaw:20240524T193000
DTSTAMP:20260421T070143
CREATED:20240425T075544Z
LAST-MODIFIED:20240430T081517Z
UID:25735-1716573600-1716579000@bracz.edu.pl
SUMMARY:Klub Książki u Raczyńskich „Klaśnięcie jednej dłoni” Richarda Flanagana
DESCRIPTION:
URL:https://bracz.edu.pl/event/klub-ksiazki-u-raczynskich-klasniecie-jednej-dloni-richarda-flanagana/
END:VEVENT
BEGIN:VEVENT
DTSTART;TZID=Europe/Warsaw:20240527T180000
DTEND;TZID=Europe/Warsaw:20240527T193000
DTSTAMP:20260421T070143
CREATED:20240425T072912Z
LAST-MODIFIED:20240425T072912Z
UID:25722-1716832800-1716838200@bracz.edu.pl
SUMMARY:Wschód: kierunek czy ocena?
DESCRIPTION:
URL:https://bracz.edu.pl/event/wschod-kierunek-czy-ocena/
END:VEVENT
BEGIN:VEVENT
DTSTART;TZID=Europe/Warsaw:20240528T180000
DTEND;TZID=Europe/Warsaw:20240528T200000
DTSTAMP:20260421T070143
CREATED:20240425T074145Z
LAST-MODIFIED:20240425T074145Z
UID:25727-1716919200-1716926400@bracz.edu.pl
SUMMARY:Spotkanie z Donatą Dominik-Stawicką i promocja książki „Bartosz rycerz z Wielkiej Polski”
DESCRIPTION:
URL:https://bracz.edu.pl/event/spotkanie-z-donata-dominik-stawicka-i-promocja-ksiazki-bartosz-rycerz-z-wielkiej-polski/
END:VEVENT
BEGIN:VEVENT
DTSTART;TZID=Europe/Warsaw:20240529T123000
DTEND;TZID=Europe/Warsaw:20240529T123000
DTSTAMP:20260421T070143
CREATED:20240507T125137Z
LAST-MODIFIED:20240507T125137Z
UID:25863-1716985800-1716985800@bracz.edu.pl
SUMMARY:Zwiedzanie Mieszkania-Pracowni Kazimiery Iłłakowiczówny
DESCRIPTION:
URL:https://bracz.edu.pl/event/zwiedzanie-mieszkania-pracowni-kazimiery-illakowiczowny-9/
END:VEVENT
BEGIN:VEVENT
DTSTART;TZID=Europe/Warsaw:20240529T170000
DTEND;TZID=Europe/Warsaw:20240529T180000
DTSTAMP:20260421T070143
CREATED:20240527T132458Z
LAST-MODIFIED:20240527T132458Z
UID:26192-1717002000-1717005600@bracz.edu.pl
SUMMARY:„Fredro dla dzieci”  - spektakl w Filii 59
DESCRIPTION:
URL:https://bracz.edu.pl/event/fredro-dla-dzieci-spektakl-w-filii-59/
LOCATION:Filia 8\, ul Osinowa 14/16\, Poznań\, wielkopolskie\, Polska
END:VEVENT
BEGIN:VEVENT
DTSTART;TZID=Europe/Warsaw:20240529T173000
DTEND;TZID=Europe/Warsaw:20240529T193000
DTSTAMP:20260421T070143
CREATED:20240425T074655Z
LAST-MODIFIED:20240425T074655Z
UID:25731-1717003800-1717011000@bracz.edu.pl
SUMMARY:W małym kinie u Raczyńskich. Greta symfonicznie
DESCRIPTION:
URL:https://bracz.edu.pl/event/w-malym-kinie-u-raczynskich-greta-symfonicznie/
END:VEVENT
BEGIN:VEVENT
DTSTART;TZID=Europe/Warsaw:20240601T110000
DTEND;TZID=Europe/Warsaw:20240601T140000
DTSTAMP:20260421T070143
CREATED:20240520T114417Z
LAST-MODIFIED:20240520T114417Z
UID:25974-1717239600-1717250400@bracz.edu.pl
SUMMARY:Gra miejska. WierszoKlepki
DESCRIPTION:
URL:https://bracz.edu.pl/event/gra-miejska-wierszoklepki/
END:VEVENT
BEGIN:VEVENT
DTSTART;TZID=Europe/Warsaw:20240603T170000
DTEND;TZID=Europe/Warsaw:20240603T183000
DTSTAMP:20260421T070143
CREATED:20240520T120925Z
LAST-MODIFIED:20240520T120951Z
UID:25983-1717434000-1717439400@bracz.edu.pl
SUMMARY:Spotkanie Agatą Kołakowską
DESCRIPTION:
URL:https://bracz.edu.pl/event/spotkanie-agata-kolakowska/
END:VEVENT
BEGIN:VEVENT
DTSTART;TZID=Europe/Warsaw:20240604T170000
DTEND;TZID=Europe/Warsaw:20240604T183000
DTSTAMP:20260421T070143
CREATED:20240520T123422Z
LAST-MODIFIED:20240520T123422Z
UID:25987-1717520400-1717525800@bracz.edu.pl
SUMMARY:Spotkanie ze Stasią Budzisz w Filii Wildeckiej
DESCRIPTION:
URL:https://bracz.edu.pl/event/spotkanie-ze-stasia-budzisz-w-filii-wildeckiej/
END:VEVENT
BEGIN:VEVENT
DTSTART;TZID=Europe/Warsaw:20240605T170000
DTEND;TZID=Europe/Warsaw:20240605T180000
DTSTAMP:20260421T070143
CREATED:20240520T125315Z
LAST-MODIFIED:20240520T125315Z
UID:25995-1717606800-1717610400@bracz.edu.pl
SUMMARY:Spacer z Iłłą po Starym Mieście. Cz. I – Dzielnica Cesarska
DESCRIPTION:
URL:https://bracz.edu.pl/event/spacer-z-illa-po-starym-miescie-cz-i-dzielnica-cesarska/
END:VEVENT
BEGIN:VEVENT
DTSTART;TZID=Europe/Warsaw:20240605T180000
DTEND;TZID=Europe/Warsaw:20240605T193000
DTSTAMP:20260421T070143
CREATED:20240520T131910Z
LAST-MODIFIED:20240520T131910Z
UID:26000-1717610400-1717615800@bracz.edu.pl
SUMMARY:Z Archiwum Książki Dziecięcej. Książki mają moc!
DESCRIPTION:
URL:https://bracz.edu.pl/event/z-archiwum-ksiazki-dzieciecej-ksiazki-maja-moc/
END:VEVENT
BEGIN:VEVENT
DTSTART;TZID=Europe/Warsaw:20240606T170000
DTEND;TZID=Europe/Warsaw:20240606T180000
DTSTAMP:20260421T070143
CREATED:20240520T133944Z
LAST-MODIFIED:20240520T133944Z
UID:26008-1717693200-1717696800@bracz.edu.pl
SUMMARY:Pamiętaj o czwartku
DESCRIPTION:
URL:https://bracz.edu.pl/event/pamietaj-o-czwartku-6/
END:VEVENT
BEGIN:VEVENT
DTSTART;TZID=Europe/Warsaw:20240607T170000
DTEND;TZID=Europe/Warsaw:20240607T180000
DTSTAMP:20260421T070143
CREATED:20240520T134743Z
LAST-MODIFIED:20240520T134743Z
UID:26011-1717779600-1717783200@bracz.edu.pl
SUMMARY:Warsztaty dla seniorów. Trening Pamięci w Filii 3
DESCRIPTION:
URL:https://bracz.edu.pl/event/warsztaty-dla-seniorow-trening-pamieci-w-filii-3/
END:VEVENT
BEGIN:VEVENT
DTSTART;TZID=Europe/Warsaw:20240607T170000
DTEND;TZID=Europe/Warsaw:20240608T190000
DTSTAMP:20260421T070143
CREATED:20240520T090346Z
LAST-MODIFIED:20240520T090346Z
UID:25967-1717779600-1717873200@bracz.edu.pl
SUMMARY:Festiwal Ludzie Książki vol.3
DESCRIPTION:
URL:https://bracz.edu.pl/event/festiwal-ludzie-ksiazki-vol-3/
CATEGORIES:dla Dorosłych
END:VEVENT
BEGIN:VEVENT
DTSTART;TZID=Europe/Warsaw:20240610T180000
DTEND;TZID=Europe/Warsaw:20240610T193000
DTSTAMP:20260421T070143
CREATED:20240521T072105Z
LAST-MODIFIED:20240521T072105Z
UID:26018-1718042400-1718047800@bracz.edu.pl
SUMMARY:Spotkanie z prof. Gabrielą Matuszek-Stec o wydaniach dzieł Przybyszewskiego
DESCRIPTION:
URL:https://bracz.edu.pl/event/spotkanie-z-prof-gabriela-matuszek-stec-o-wydaniach-dziel-przybyszewskiego/
END:VEVENT
BEGIN:VEVENT
DTSTART;TZID=Europe/Warsaw:20240611T180000
DTEND;TZID=Europe/Warsaw:20240611T193000
DTSTAMP:20260421T070143
CREATED:20240521T073323Z
LAST-MODIFIED:20240521T073323Z
UID:26023-1718128800-1718134200@bracz.edu.pl
SUMMARY:Koncert na powitanie lata
DESCRIPTION:
URL:https://bracz.edu.pl/event/koncert-na-powitanie-lata/
END:VEVENT
BEGIN:VEVENT
DTSTART;TZID=Europe/Warsaw:20240612T123000
DTEND;TZID=Europe/Warsaw:20240612T133000
DTSTAMP:20260421T070143
CREATED:20240521T073833Z
LAST-MODIFIED:20240521T073833Z
UID:26026-1718195400-1718199000@bracz.edu.pl
SUMMARY:Zwiedzanie Mieszkania-Pracowni Kazimiery Iłłakowiczówny
DESCRIPTION:
URL:https://bracz.edu.pl/event/zwiedzanie-mieszkania-pracowni-kazimiery-illakowiczowny-10/
END:VEVENT
BEGIN:VEVENT
DTSTART;TZID=Europe/Warsaw:20240612T170000
DTEND;TZID=Europe/Warsaw:20240612T183000
DTSTAMP:20260421T070143
CREATED:20240521T085823Z
LAST-MODIFIED:20240521T085823Z
UID:26050-1718211600-1718217000@bracz.edu.pl
SUMMARY:Spotkanie z Łukaszem Wierzbickiem w Filii 20
DESCRIPTION:
URL:https://bracz.edu.pl/event/spotkanie-z-lukaszem-wierzbickiem-w-filii-20/
END:VEVENT
BEGIN:VEVENT
DTSTART;TZID=Europe/Warsaw:20240613T170000
DTEND;TZID=Europe/Warsaw:20240613T190000
DTSTAMP:20260421T070143
CREATED:20240521T092356Z
LAST-MODIFIED:20240521T120347Z
UID:26054-1718298000-1718305200@bracz.edu.pl
SUMMARY:Paryska Notre-Dame na nowo odkryta 2019-2024. Wykład Yves’a Galleta
DESCRIPTION:
URL:https://bracz.edu.pl/event/paryska-notre-dame-na-nowo-odkryta-2019-2014-wyklad-yvesa-galleta/
END:VEVENT
BEGIN:VEVENT
DTSTART;TZID=Europe/Warsaw:20240614T170000
DTEND;TZID=Europe/Warsaw:20240614T183000
DTSTAMP:20260421T070143
CREATED:20240521T101543Z
LAST-MODIFIED:20240521T101543Z
UID:26058-1718384400-1718389800@bracz.edu.pl
SUMMARY:Warsztaty dla dzieci z pop-upu
DESCRIPTION:
URL:https://bracz.edu.pl/event/warsztaty-dla-dzieci-z-pop-upu/
END:VEVENT
BEGIN:VEVENT
DTSTART;TZID=Europe/Warsaw:20240614T170000
DTEND;TZID=Europe/Warsaw:20240614T183000
DTSTAMP:20260421T070143
CREATED:20240521T102416Z
LAST-MODIFIED:20240521T102416Z
UID:26063-1718384400-1718389800@bracz.edu.pl
SUMMARY:Warsztaty rękodzielnicze dla dorosłych
DESCRIPTION:
URL:https://bracz.edu.pl/event/warsztaty-rekodzielnicze-dla-doroslych/
END:VEVENT
BEGIN:VEVENT
DTSTART;TZID=Europe/Warsaw:20240614T180000
DTEND;TZID=Europe/Warsaw:20240614T193000
DTSTAMP:20260421T070143
CREATED:20240521T102823Z
LAST-MODIFIED:20240521T102823Z
UID:26067-1718388000-1718393400@bracz.edu.pl
SUMMARY:Spotkanie z Agatą Przybyłek
DESCRIPTION:
URL:https://bracz.edu.pl/event/spotkanie-z-agata-przybylek/
END:VEVENT
BEGIN:VEVENT
DTSTART;TZID=Europe/Warsaw:20240615T110000
DTEND;TZID=Europe/Warsaw:20240615T123000
DTSTAMP:20260421T070143
CREATED:20240521T105522Z
LAST-MODIFIED:20240521T105609Z
UID:26071-1718449200-1718454600@bracz.edu.pl
SUMMARY:Mistrz i uczeń. Koncert rodzinny
DESCRIPTION:
URL:https://bracz.edu.pl/event/mistrz-i-uczen-koncert-rodzinny/
END:VEVENT
BEGIN:VEVENT
DTSTART;TZID=Europe/Warsaw:20240615T110000
DTEND;TZID=Europe/Warsaw:20240615T123000
DTSTAMP:20260421T070143
CREATED:20240521T110029Z
LAST-MODIFIED:20240521T110029Z
UID:26075-1718449200-1718454600@bracz.edu.pl
SUMMARY:Z Archiwum Książki Dziecięcej. Spacer śladami rodziny Borejków
DESCRIPTION:
URL:https://bracz.edu.pl/event/z-archiwum-ksiazki-dzieciecej-spacer-sladami-rodziny-borejkow/
END:VEVENT
BEGIN:VEVENT
DTSTART;TZID=Europe/Warsaw:20240615T123000
DTEND;TZID=Europe/Warsaw:20240615T133000
DTSTAMP:20260421T070143
CREATED:20240521T110403Z
LAST-MODIFIED:20240521T110431Z
UID:26079-1718454600-1718458200@bracz.edu.pl
SUMMARY:Oprowadzanie kuratorskie. Trójkąty miłosne u Sienkiewicza. Odsłona II „Rodzina Połanieckich”
DESCRIPTION:
URL:https://bracz.edu.pl/event/oprowadzanie-kuratorskie-trojkaty-milosne-u-sienkiewicza-odslona-ii-rodzina-polanieckich/
END:VEVENT
BEGIN:VEVENT
DTSTART;TZID=Europe/Warsaw:20240615T130000
DTEND;TZID=Europe/Warsaw:20240615T140000
DTSTAMP:20260421T070143
CREATED:20240521T111047Z
LAST-MODIFIED:20240521T111047Z
UID:26083-1718456400-1718460000@bracz.edu.pl
SUMMARY:Tęczowe Seniorki czytają tęczowe bajki
DESCRIPTION:
URL:https://bracz.edu.pl/event/teczowe-seniorki-czytaja-teczowe-bajki/
END:VEVENT
BEGIN:VEVENT
DTSTART;TZID=Europe/Warsaw:20240617T170000
DTEND;TZID=Europe/Warsaw:20240617T183000
DTSTAMP:20260421T070143
CREATED:20240521T112057Z
LAST-MODIFIED:20240521T112057Z
UID:26087-1718643600-1718649000@bracz.edu.pl
SUMMARY:Spotkanie ze Zbigniewem Zachariasikiem\, autorem książki „Klatki schodowe w Poznaniu. Centrum\, Jeżyce\, Łazarz”
DESCRIPTION:
URL:https://bracz.edu.pl/event/spotkanie-ze-zbigniewem-zachariasikiem-autorem-ksiazki-klatki-schodowe-w-poznaniu-centrum-jezyce-lazarz/
END:VEVENT
END:VCALENDAR