BEGIN:VCALENDAR
VERSION:2.0
PRODID:-//Biblioteka Raczyńskich - ECPv6.2.3//NONSGML v1.0//EN
CALSCALE:GREGORIAN
METHOD:PUBLISH
X-WR-CALNAME:Biblioteka Raczyńskich
X-ORIGINAL-URL:https://bracz.edu.pl
X-WR-CALDESC:Events for Biblioteka Raczyńskich
REFRESH-INTERVAL;VALUE=DURATION:PT1H
X-Robots-Tag:noindex
X-PUBLISHED-TTL:PT1H
BEGIN:VTIMEZONE
TZID:Europe/Warsaw
BEGIN:DAYLIGHT
TZOFFSETFROM:+0100
TZOFFSETTO:+0200
TZNAME:CEST
DTSTART:20180325T010000
END:DAYLIGHT
BEGIN:STANDARD
TZOFFSETFROM:+0200
TZOFFSETTO:+0100
TZNAME:CET
DTSTART:20181028T010000
END:STANDARD
END:VTIMEZONE
BEGIN:VEVENT
DTSTART;TZID=Europe/Warsaw:20180925T180000
DTEND;TZID=Europe/Warsaw:20180925T193000
DTSTAMP:20260421T230152
CREATED:20181012T092840Z
LAST-MODIFIED:20181012T092840Z
UID:1713-1537898400-1537903800@bracz.edu.pl
SUMMARY:W drodze ku niepodległości. Wykłady i spacery. Wykład 1
DESCRIPTION:
URL:https://bracz.edu.pl/event/w-drodze-ku-niepodleglosci-wyklady-i-spacery-wyklad-1/
END:VEVENT
BEGIN:VEVENT
DTSTART;TZID=Europe/Warsaw:20180922T150000
DTEND;TZID=Europe/Warsaw:20180922T163000
DTSTAMP:20260421T230152
CREATED:20181012T083550Z
LAST-MODIFIED:20181012T083628Z
UID:1705-1537628400-1537633800@bracz.edu.pl
SUMMARY:W drodze ku niepodległości. Wykłady i spacery. Spacer 2
DESCRIPTION:
URL:https://bracz.edu.pl/event/w-drodze-ku-niepodleglosci-wyklady-i-spacery-spacer-2/
END:VEVENT
BEGIN:VEVENT
DTSTART;TZID=Europe/Warsaw:20180915T150000
DTEND;TZID=Europe/Warsaw:20180915T163000
DTSTAMP:20260421T230152
CREATED:20181012T082925Z
LAST-MODIFIED:20181012T082925Z
UID:1694-1537023600-1537029000@bracz.edu.pl
SUMMARY:W drodze ku niepodległości. Wykłady i spacery. Spacer 1
DESCRIPTION:
URL:https://bracz.edu.pl/event/w-drodze-ku-niepodleglosci-wyklady-i-spacery-spacer-1/
END:VEVENT
BEGIN:VEVENT
DTSTART;TZID=Europe/Warsaw:20180915T120000
DTEND;TZID=Europe/Warsaw:20180915T133000
DTSTAMP:20260421T230152
CREATED:20180829T132349Z
LAST-MODIFIED:20181010T075348Z
UID:1038-1537012800-1537018200@bracz.edu.pl
SUMMARY:CZYTATY2 na Naramowicach
DESCRIPTION:
URL:https://bracz.edu.pl/event/czytaty2-na-naramowicach/
LOCATION:Biblioteka Raczyńskich Filia Naramowicka\, ul. Rubież 14a\, Poznań
CATEGORIES:dla Dzieci
END:VEVENT
BEGIN:VEVENT
DTSTART;TZID=Europe/Warsaw:20180908T100000
DTEND;TZID=Europe/Warsaw:20180908T140000
DTSTAMP:20260421T230152
CREATED:20180727T090354Z
LAST-MODIFIED:20180820T134825Z
UID:999-1536400800-1536415200@bracz.edu.pl
SUMMARY:Narodowe czytanie. "Przedwiośnie" Stefana Żeromskiego
DESCRIPTION:
URL:https://bracz.edu.pl/event/narodowe-czytanie-przedwiosnie-stefana-zeromskiego/
END:VEVENT
BEGIN:VEVENT
DTSTART;TZID=Europe/Warsaw:20180727T085814
DTEND;TZID=Europe/Warsaw:20180727T085814
DTSTAMP:20260421T230152
CREATED:20180727T083633Z
LAST-MODIFIED:20180727T085814Z
UID:987-1532681894-1532681894@bracz.edu.pl
SUMMARY:Spektakl Pan Kuleczka
DESCRIPTION:Pan Kuleczka\, postać stworzona przez Wojciecha Widłaka\, to jeden z najbardziej lubianych bohaterów literatury dziecięcej. Na spektakl Piotra Witonia inspirowany książką zapraszamy małych i dużych wielbicieli spokojnego optymizmu Pana Kuleczki oraz jego wspaniałych towarzyszy: Kaczki Katastrofy\, Psa Pypcia i Muchy Bzyk-Bzyk. Wstęp na spektakl jest wolny.
URL:https://bracz.edu.pl/event/spektakl-pan-kuleczka/
LOCATION:Biblioteka Raczyńskich Filia 2\, os. Oświecenia 59\, Poznań\, Polska
CATEGORIES:dla Dzieci
END:VEVENT
BEGIN:VEVENT
DTSTART;TZID=Europe/Warsaw:20180626T163000
DTEND;TZID=Europe/Warsaw:20180626T173000
DTSTAMP:20260421T230152
CREATED:20180511T073257Z
LAST-MODIFIED:20180622T100345Z
UID:344-1530030600-1530034200@bracz.edu.pl
SUMMARY:Wtorek dla seniora: „Już taki jestem…” Eugeniusz Bodo
DESCRIPTION:No Images.Please upload images in images manager section. Click on Manage Images button on the right side of the gallery settings.Please make sure that you didn't enabled option: Images of the Current Gallery. Option should have Show value to show images.
URL:https://bracz.edu.pl/event/wtorek-dla-seniora-juz-taki-jestem-eugeniusz-bodo/
CATEGORIES:dla Dorosłych
END:VEVENT
BEGIN:VEVENT
DTSTART;TZID=Europe/Warsaw:20180616T120000
DTEND;TZID=Europe/Warsaw:20180616T130000
DTSTAMP:20260421T230152
CREATED:20180622T094135Z
LAST-MODIFIED:20180622T095709Z
UID:874-1529150400-1529154000@bracz.edu.pl
SUMMARY:Wystawa: Marceli Motty (1818-1898) i Poznań jego czasów
DESCRIPTION:
URL:https://bracz.edu.pl/event/wystawa-marceli-motty-1818-1898-i-poznan-jego-czasow/
LOCATION:Biblioteka Raczyńskich\, pl. Wolności 19\, Poznań\, 61-739\, Polska
END:VEVENT
BEGIN:VEVENT
DTSTART;TZID=Europe/Warsaw:20180609T170000
DTEND;TZID=Europe/Warsaw:20180609T210000
DTSTAMP:20260421T230152
CREATED:20180517T130050Z
LAST-MODIFIED:20180517T130105Z
UID:589-1528563600-1528578000@bracz.edu.pl
SUMMARY:Noc Bibliotek
DESCRIPTION:
URL:https://bracz.edu.pl/event/http-kozakoz2-ayz-pl-event-noc-bibliotek/
END:VEVENT
BEGIN:VEVENT
DTSTART;TZID=Europe/Warsaw:20180609T120000
DTEND;TZID=Europe/Warsaw:20180609T120000
DTSTAMP:20260421T230152
CREATED:20180510T130955Z
LAST-MODIFIED:20180511T075810Z
UID:323-1528545600-1528545600@bracz.edu.pl
SUMMARY:CZYTATY2 Hobbici w starej szafie. Nowe baśnie
DESCRIPTION:O tym\,  czy współcześnie pisze się baśnie\, a także co z baśniowym światem łączy twórczość Tolkiena i Lewisa opowie bajarz\, poszukiwacz opowieści  Łukasz Bernady. Dodatkową atrakcją spotkania będzie bajeczny pokaz  malowania na wodzie\, przeprowadzony przez  Katarzynę Hertmanowską.
URL:https://bracz.edu.pl/event/czytaty2-hobbici-w-starej-szafie-nowe-basnie/
CATEGORIES:dla Dzieci
END:VEVENT
BEGIN:VEVENT
DTSTART;TZID=Europe/Warsaw:20180604T120000
DTEND;TZID=Europe/Warsaw:20180604T200000
DTSTAMP:20260421T230152
CREATED:20180525T134810Z
LAST-MODIFIED:20180622T101111Z
UID:794-1528113600-1528142400@bracz.edu.pl
SUMMARY:Natasza Goerke - wręczenie Nagrody Bursztynowego Motyla i spotkanie z laureatką
DESCRIPTION:
URL:https://bracz.edu.pl/event/natasza-goerke-wreczenie-nagrody-bursztynowego-motyla-i-spotkanie-z-laureatka/
LOCATION:Muzeum Pracownia Literacka Arkadego Fiedlera\, ul. Słowackiego 1\, Puszczykowo\, Polska
ORGANIZER;CN="Biblioteka Raczy%C5%84skich":MAILTO:promocja@bracz.edu.pl
END:VEVENT
BEGIN:VEVENT
DTSTART;TZID=Europe/Warsaw:20180529T100000
DTEND;TZID=Europe/Warsaw:20180529T100000
DTSTAMP:20260421T230152
CREATED:20180510T141432Z
LAST-MODIFIED:20180510T142448Z
UID:331-1527588000-1527588000@bracz.edu.pl
SUMMARY:Meksykańskie spotkanie z Szymonem Góralczykiem
DESCRIPTION:
URL:https://bracz.edu.pl/event/meksykanskie-spotkanie-z-szymonem-goralczykiem/
CATEGORIES:dla Dzieci
END:VEVENT
BEGIN:VEVENT
DTSTART;TZID=Europe/Warsaw:20180528T180000
DTEND;TZID=Europe/Warsaw:20180528T200000
DTSTAMP:20260421T230152
CREATED:20180510T111723Z
LAST-MODIFIED:20180510T125316Z
UID:292-1527530400-1527537600@bracz.edu.pl
SUMMARY:Spotkanie z laureatami Bursztynowego Motyla
DESCRIPTION:
URL:https://bracz.edu.pl/event/spotkanie-z-laureatami-bursztynowego-motyla/
CATEGORIES:dla Dorosłych
END:VEVENT
BEGIN:VEVENT
DTSTART;TZID=Europe/Warsaw:20180528T180000
DTEND;TZID=Europe/Warsaw:20180528T180000
DTSTAMP:20260421T230152
CREATED:20180510T141641Z
LAST-MODIFIED:20180510T142456Z
UID:335-1527530400-1527530400@bracz.edu.pl
SUMMARY:Spotkanie autorskie z Ryszardem Ćwirlejem
DESCRIPTION:
URL:https://bracz.edu.pl/event/spotkanie-autorskie-z-ryszardem-cwirlejem/
CATEGORIES:dla Dorosłych
END:VEVENT
BEGIN:VEVENT
DTSTART;TZID=Europe/Warsaw:20180528T100000
DTEND;TZID=Europe/Warsaw:20180528T100000
DTSTAMP:20260421T230152
CREATED:20180510T141542Z
LAST-MODIFIED:20180510T142503Z
UID:333-1527501600-1527501600@bracz.edu.pl
SUMMARY:Spotkanie autorskie z Zofią Staniszewską
DESCRIPTION:
URL:https://bracz.edu.pl/event/spotkanie-autorskie-z-zofia-staniszewska/
CATEGORIES:dla Dorosłych
END:VEVENT
BEGIN:VEVENT
DTSTART;TZID=Europe/Warsaw:20180526T120000
DTEND;TZID=Europe/Warsaw:20180526T120000
DTSTAMP:20260421T230152
CREATED:20180515T122714Z
LAST-MODIFIED:20181109T120705Z
UID:465-1527336000-1527336000@bracz.edu.pl
SUMMARY:Czytaty2 Baśnie Harry’ego na Naramowicach
DESCRIPTION:
URL:https://bracz.edu.pl/event/czytaty2-basnie-harryego-na-naramowicach/
END:VEVENT
BEGIN:VEVENT
DTSTART;TZID=Europe/Warsaw:20180523T180000
DTEND;TZID=Europe/Warsaw:20180523T180000
DTSTAMP:20260421T230152
CREATED:20180510T142147Z
LAST-MODIFIED:20180510T142511Z
UID:337-1527098400-1527098400@bracz.edu.pl
SUMMARY:XXIV Spotkanie z Arcydziełem
DESCRIPTION:
URL:https://bracz.edu.pl/event/xxiv-spotkanie-z-arcydzielem/
CATEGORIES:dla Dorosłych
END:VEVENT
BEGIN:VEVENT
DTSTART;TZID=Europe/Warsaw:20180519T170000
DTEND;TZID=Europe/Warsaw:20180519T170000
DTSTAMP:20260421T230152
CREATED:20180510T104630Z
LAST-MODIFIED:20180510T142528Z
UID:283-1526749200-1526749200@bracz.edu.pl
SUMMARY:Noc Muzeów
DESCRIPTION:
URL:https://bracz.edu.pl/event/noc-muzeow/
LOCATION:Biblioteka Raczyńskich\, pl. Wolności 19\, Poznań\, 61-739\, Polska
CATEGORIES:dla Dorosłych,dla Dzieci
END:VEVENT
BEGIN:VEVENT
DTSTART;TZID=Europe/Warsaw:20180517T180000
DTEND;TZID=Europe/Warsaw:20180517T180000
DTSTAMP:20260421T230152
CREATED:20180515T140140Z
LAST-MODIFIED:20180515T140140Z
UID:499-1526580000-1526580000@bracz.edu.pl
SUMMARY:spotkanie wokół książki
DESCRIPTION:
URL:https://bracz.edu.pl/event/spotkanie-wokol-ksiazki/
END:VEVENT
BEGIN:VEVENT
DTSTART;TZID=Europe/Warsaw:20180516T180000
DTEND;TZID=Europe/Warsaw:20180516T180000
DTSTAMP:20260421T230152
CREATED:20180511T103949Z
LAST-MODIFIED:20180511T103949Z
UID:380-1526493600-1526493600@bracz.edu.pl
SUMMARY:Wystawa: Kuchnia wielkopolska w XIX wieku
DESCRIPTION:
URL:https://bracz.edu.pl/event/wystawa-kuchnia-wielkopolska-w-xix-wieku/
END:VEVENT
BEGIN:VEVENT
DTSTART;TZID=Europe/Warsaw:20180512T110000
DTEND;TZID=Europe/Warsaw:20180512T110000
DTSTAMP:20260421T230152
CREATED:20180510T142250Z
LAST-MODIFIED:20180510T142519Z
UID:339-1526122800-1526122800@bracz.edu.pl
SUMMARY:Rodzinne czytanie z asz.teatrem
DESCRIPTION:
URL:https://bracz.edu.pl/event/rodzinne-czytanie-z-asz-teatrem/
CATEGORIES:dla Dzieci
END:VEVENT
BEGIN:VEVENT
DTSTART;TZID=Europe/Warsaw:20180218T080000
DTEND;TZID=Europe/Warsaw:20180218T170000
DTSTAMP:20260421T230152
CREATED:20180217T201216Z
LAST-MODIFIED:20180226T212544Z
UID:69-1518940800-1518973200@bracz.edu.pl
SUMMARY:Wydarzenie testowe
DESCRIPTION:Testowe wydarzenie
URL:https://bracz.edu.pl/event/wydarzenie-testowe/
CATEGORIES:dla Dzieci
END:VEVENT
END:VCALENDAR