BEGIN:VCALENDAR
VERSION:2.0
PRODID:-//Biblioteka Raczyńskich - ECPv6.2.3//NONSGML v1.0//EN
CALSCALE:GREGORIAN
METHOD:PUBLISH
X-WR-CALNAME:Biblioteka Raczyńskich
X-ORIGINAL-URL:https://bracz.edu.pl
X-WR-CALDESC:Events for Biblioteka Raczyńskich
REFRESH-INTERVAL;VALUE=DURATION:PT1H
X-Robots-Tag:noindex
X-PUBLISHED-TTL:PT1H
BEGIN:VTIMEZONE
TZID:Europe/Warsaw
BEGIN:DAYLIGHT
TZOFFSETFROM:+0100
TZOFFSETTO:+0200
TZNAME:CEST
DTSTART:20190331T010000
END:DAYLIGHT
BEGIN:STANDARD
TZOFFSETFROM:+0200
TZOFFSETTO:+0100
TZNAME:CET
DTSTART:20191027T010000
END:STANDARD
END:VTIMEZONE
BEGIN:VEVENT
DTSTART;TZID=Europe/Warsaw:20190427T120000
DTEND;TZID=Europe/Warsaw:20190427T140000
DTSTAMP:20260422T041624
CREATED:20190315T110633Z
LAST-MODIFIED:20190315T110633Z
UID:3796-1556366400-1556373600@bracz.edu.pl
SUMMARY:3TATY\, 4 ŻYWIOŁY Chwytam w lot!
DESCRIPTION:
URL:https://bracz.edu.pl/event/3taty-4-zywioly-chwytam-w-lot/
LOCATION:Biblioteka Raczyńskich\, pl. Wolności 19\, Poznań\, 61-739\, Polska
CATEGORIES:dla Dzieci
END:VEVENT
BEGIN:VEVENT
DTSTART;TZID=Europe/Warsaw:20190430T163000
DTEND;TZID=Europe/Warsaw:20190430T173000
DTSTAMP:20260422T041624
CREATED:20190321T150651Z
LAST-MODIFIED:20190418T115850Z
UID:3869-1556641800-1556645400@bracz.edu.pl
SUMMARY:WTOREK DLA SENIORA. Czas na relaks. O piosenkach na majówkę
DESCRIPTION:
URL:https://bracz.edu.pl/event/wtorek-dla-seniora-czas-na-relaks-o-piosenkach-na-majowke/
LOCATION:Biblioteka Raczyńskich\, pl. Wolności 19\, Poznań\, 61-739\, Polska
END:VEVENT
BEGIN:VEVENT
DTSTART;TZID=Europe/Warsaw:20190507T180000
DTEND;TZID=Europe/Warsaw:20190507T200000
DTSTAMP:20260422T041624
CREATED:20190410T074047Z
LAST-MODIFIED:20190410T074047Z
UID:4171-1557252000-1557259200@bracz.edu.pl
SUMMARY:Spotkanie z Andrzejem Poniedzielskim
DESCRIPTION:
URL:https://bracz.edu.pl/event/spotkanie-z-andrzejem-poniedzielskim/
LOCATION:Biblioteka Raczyńskich\, pl. Wolności 19\, Poznań\, 61-739\, Polska
CATEGORIES:dla Dorosłych,dla maturzystów,dla wszystkich
END:VEVENT
BEGIN:VEVENT
DTSTART;TZID=Europe/Warsaw:20190508T180000
DTEND;TZID=Europe/Warsaw:20190508T200000
DTSTAMP:20260422T041624
CREATED:20190410T074938Z
LAST-MODIFIED:20190410T074938Z
UID:4176-1557338400-1557345600@bracz.edu.pl
SUMMARY:Wernisaż wystawy „Polonica XVI wieku w Bibliotece Raczyńskich”
DESCRIPTION:
URL:https://bracz.edu.pl/event/wernisaz-wystawy-polonica-xvi-wieku-w-bibliotece-raczynskich/
CATEGORIES:dla Dorosłych,dla wszystkich
ORGANIZER;CN="Biblioteka Raczy%C5%84skich":MAILTO:promocja@bracz.edu.pl
END:VEVENT
BEGIN:VEVENT
DTSTART;TZID=Europe/Warsaw:20190509T180000
DTEND;TZID=Europe/Warsaw:20190509T200000
DTSTAMP:20260422T041624
CREATED:20190410T085458Z
LAST-MODIFIED:20190410T085458Z
UID:4227-1557424800-1557432000@bracz.edu.pl
SUMMARY:Spotkanie z Jakubem Ćwiekiem
DESCRIPTION:
URL:https://bracz.edu.pl/event/spotkanie-z-jakubem-cwiekiem/
LOCATION:Biblioteka Raczyńskich\, pl. Wolności 19\, Poznań\, 61-739\, Polska
CATEGORIES:dla Dorosłych,dla maturzystów
END:VEVENT
BEGIN:VEVENT
DTSTART;TZID=Europe/Warsaw:20190510T180000
DTEND;TZID=Europe/Warsaw:20190510T200000
DTSTAMP:20260422T041624
CREATED:20190410T075541Z
LAST-MODIFIED:20190912T110039Z
UID:4181-1557511200-1557518400@bracz.edu.pl
SUMMARY:CZY TA PANI CZYTA. Spotkanie z Ałbeną Grabowską
DESCRIPTION:
URL:https://bracz.edu.pl/event/czy-ta-pani-czyta-spotkanie-z-albena-grabowska/
CATEGORIES:dla Dorosłych,dla maturzystów,dla wszystkich
END:VEVENT
BEGIN:VEVENT
DTSTART;TZID=Europe/Warsaw:20190511T100000
DTEND;TZID=Europe/Warsaw:20190511T110000
DTSTAMP:20260422T041624
CREATED:20190410T092728Z
LAST-MODIFIED:20190410T092728Z
UID:4246-1557568800-1557572400@bracz.edu.pl
SUMMARY:Oprowadzanie po Bibliotece Raczyńskich
DESCRIPTION:
URL:https://bracz.edu.pl/event/oprowadzanie-po-bibliotece-raczynskich/
LOCATION:Biblioteka Raczyńskich\, pl. Wolności 19\, Poznań\, 61-739\, Polska
CATEGORIES:dla Dorosłych,dla Dzieci,dla maturzystów,dla wszystkich
END:VEVENT
BEGIN:VEVENT
DTSTART;TZID=Europe/Warsaw:20190511T110000
DTEND;TZID=Europe/Warsaw:20190511T120000
DTSTAMP:20260422T041624
CREATED:20190410T081312Z
LAST-MODIFIED:20190410T081312Z
UID:4186-1557572400-1557576000@bracz.edu.pl
SUMMARY:Rodzinne czytanie: „Pchła Szachrajka”
DESCRIPTION:
URL:https://bracz.edu.pl/event/rodzinne-czytanie-pchla-szachrajka/
CATEGORIES:dla Dzieci
END:VEVENT
BEGIN:VEVENT
DTSTART;TZID=Europe/Warsaw:20190511T120000
DTEND;TZID=Europe/Warsaw:20190511T130000
DTSTAMP:20260422T041624
CREATED:20190410T091735Z
LAST-MODIFIED:20190410T091735Z
UID:4241-1557576000-1557579600@bracz.edu.pl
SUMMARY:„Tajemnica biblioteki”. Literacka gra terenowa
DESCRIPTION:
URL:https://bracz.edu.pl/event/tajemnica-biblioteki-literacka-gra-terenowa/
LOCATION:Biblioteka Raczyńskich Filia Naramowicka\, ul. Rubież 14a\, Poznań
CATEGORIES:dla Dzieci
END:VEVENT
BEGIN:VEVENT
DTSTART;TZID=Europe/Warsaw:20190511T120000
DTEND;TZID=Europe/Warsaw:20190511T140000
DTSTAMP:20260422T041624
CREATED:20190410T090005Z
LAST-MODIFIED:20190410T090005Z
UID:4232-1557576000-1557583200@bracz.edu.pl
SUMMARY:3TATY\, 4 ŻYWIOŁY Z poradnika młodego zielarza
DESCRIPTION:
URL:https://bracz.edu.pl/event/3taty-4-zywioly-z-poradnika-mlodego-zielarza/
LOCATION:Biblioteka Raczyńskich\, pl. Wolności 19\, Poznań\, 61-739\, Polska
CATEGORIES:dla Dzieci
END:VEVENT
BEGIN:VEVENT
DTSTART;TZID=Europe/Warsaw:20190511T130000
DTEND;TZID=Europe/Warsaw:20190511T143000
DTSTAMP:20260422T041624
CREATED:20190508T104753Z
LAST-MODIFIED:20190508T104912Z
UID:4509-1557579600-1557585000@bracz.edu.pl
SUMMARY:Dni Otwarte Funduszy Europejskich: Jeden cel\, wiele dróg. Sienkiewicza pomysł na niepodległość
DESCRIPTION:
URL:https://bracz.edu.pl/event/dni-otwarte-funduszy-europejskich-jeden-cel-wiele-drog-sienkiewicza-pomysl-na-niepodleglosc/
END:VEVENT
BEGIN:VEVENT
DTSTART;TZID=Europe/Warsaw:20190514T170000
DTEND;TZID=Europe/Warsaw:20190514T180000
DTSTAMP:20260422T041624
CREATED:20190416T132214Z
LAST-MODIFIED:20190416T132520Z
UID:4343-1557853200-1557856800@bracz.edu.pl
SUMMARY:Bajka pachnąca truskawkami\, czyli biblioteka pana Apli
DESCRIPTION:
URL:https://bracz.edu.pl/event/bajka-pachnaca-truskawkami-czyli-biblioteka-pana-apli/
END:VEVENT
BEGIN:VEVENT
DTSTART;TZID=Europe/Warsaw:20190514T180000
DTEND;TZID=Europe/Warsaw:20190514T200000
DTSTAMP:20260422T041624
CREATED:20190410T081741Z
LAST-MODIFIED:20190410T081741Z
UID:4192-1557856800-1557864000@bracz.edu.pl
SUMMARY:Spotkanie z Bogusławą Latawiec
DESCRIPTION:
URL:https://bracz.edu.pl/event/spotkanie-z-boguslawa-latawiec/
LOCATION:Pracownia-Muzeum Józefa Ignacego Kraszewskiego\, ul. Wroniecka 14\, Poznań
CATEGORIES:dla Dorosłych
END:VEVENT
BEGIN:VEVENT
DTSTART;TZID=Europe/Warsaw:20190515T180000
DTEND;TZID=Europe/Warsaw:20190515T200000
DTSTAMP:20260422T041624
CREATED:20190410T082224Z
LAST-MODIFIED:20190424T103749Z
UID:4197-1557943200-1557950400@bracz.edu.pl
SUMMARY:Wyjątkowe Polki. Spotkanie z Joanną Puchalską
DESCRIPTION:
URL:https://bracz.edu.pl/event/wyjatkowe-polki-spotkanie-z-joanna-puchalska/
LOCATION:Biblioteka Raczyńskich\, pl. Wolności 19\, Poznań\, 61-739\, Polska
END:VEVENT
BEGIN:VEVENT
DTSTART;TZID=Europe/Warsaw:20190516T170000
DTEND;TZID=Europe/Warsaw:20190516T180000
DTSTAMP:20260422T041624
CREATED:20190416T132857Z
LAST-MODIFIED:20190416T133137Z
UID:4346-1558026000-1558029600@bracz.edu.pl
SUMMARY:Spotkanie z pisarzem Łukaszem Wierzbickim
DESCRIPTION:
URL:https://bracz.edu.pl/event/spotkanie-z-pisarzem-lukaszem-wierzbickim/
END:VEVENT
BEGIN:VEVENT
DTSTART;TZID=Europe/Warsaw:20190517T170000
DTEND;TZID=Europe/Warsaw:20190517T180000
DTSTAMP:20260422T041624
CREATED:20190514T102203Z
LAST-MODIFIED:20190514T102203Z
UID:4607-1558112400-1558116000@bracz.edu.pl
SUMMARY:Mrówkojad i dziwne zwierzęta. Przedstawienie Teatru TaLALA w Filii 22
DESCRIPTION:
URL:https://bracz.edu.pl/event/mrowkojad-i-dziwne-zwierzeta-przedstawienie-teatru-talala-w-filii-22/
END:VEVENT
BEGIN:VEVENT
DTSTART;TZID=Europe/Warsaw:20190517T180000
DTEND;TZID=Europe/Warsaw:20190517T200000
DTSTAMP:20260422T041624
CREATED:20190410T083030Z
LAST-MODIFIED:20190410T083030Z
UID:4202-1558116000-1558123200@bracz.edu.pl
SUMMARY:O polskich odkrywcach. Spotkanie z Marią i Przemysławem Pilichami
DESCRIPTION:
URL:https://bracz.edu.pl/event/o-polskich-odkrywcach-spotkanie-z-maria-i-przemyslawem-pilichami/
LOCATION:Biblioteka Raczyńskich\, pl. Wolności 19\, Poznań\, 61-739\, Polska
CATEGORIES:dla Dorosłych,dla wszystkich
END:VEVENT
BEGIN:VEVENT
DTSTART;TZID=Europe/Warsaw:20190518T110000
DTEND;TZID=Europe/Warsaw:20190518T120000
DTSTAMP:20260422T041624
CREATED:20190410T093235Z
LAST-MODIFIED:20190410T093235Z
UID:4251-1558177200-1558180800@bracz.edu.pl
SUMMARY:Warsztaty z Kicią Kocią
DESCRIPTION:
URL:https://bracz.edu.pl/event/warsztaty-z-kicia-kocia/
LOCATION:Biblioteka Raczyńskich\, pl. Wolności 19\, Poznań\, 61-739\, Polska
CATEGORIES:dla Dzieci
END:VEVENT
BEGIN:VEVENT
DTSTART;TZID=Europe/Warsaw:20190518T120000
DTEND;TZID=Europe/Warsaw:20190518T130000
DTSTAMP:20260422T041624
CREATED:20190410T095349Z
LAST-MODIFIED:20190410T095349Z
UID:4259-1558180800-1558184400@bracz.edu.pl
SUMMARY:Warsztaty z Żubrem Pompikiem
DESCRIPTION:
URL:https://bracz.edu.pl/event/warsztaty-z-zubrem-pompikiem/
CATEGORIES:dla Dzieci
END:VEVENT
BEGIN:VEVENT
DTSTART;TZID=Europe/Warsaw:20190518T150000
DTEND;TZID=Europe/Warsaw:20190518T230000
DTSTAMP:20260422T041624
CREATED:20190411T085127Z
LAST-MODIFIED:20190517T115050Z
UID:4292-1558191600-1558220400@bracz.edu.pl
SUMMARY:Noc Muzeów w Bibliotece Raczyńskich i oddziałach muzealnych
DESCRIPTION:
URL:https://bracz.edu.pl/event/noc-muzeow-w-bibliotece-raczynskich-i-oddzialach-muzealnych/
END:VEVENT
BEGIN:VEVENT
DTSTART;TZID=Europe/Warsaw:20190522T180000
DTEND;TZID=Europe/Warsaw:20190522T200000
DTSTAMP:20260422T041624
CREATED:20190410T084218Z
LAST-MODIFIED:20190410T084218Z
UID:4207-1558548000-1558555200@bracz.edu.pl
SUMMARY:„Sprawa Hoffmanowej”. Spotkanie z Katarzyną Zyskowską
DESCRIPTION:
URL:https://bracz.edu.pl/event/sprawa-hoffmanowej-spotkanie-z-katarzyna-zyskowska/
LOCATION:Biblioteka Raczyńskich Filia Naramowicka\, ul. Rubież 14a\, Poznań
CATEGORIES:dla Dorosłych,dla maturzystów,dla wszystkich
END:VEVENT
BEGIN:VEVENT
DTSTART;TZID=Europe/Warsaw:20190524T170000
DTEND;TZID=Europe/Warsaw:20190524T180000
DTSTAMP:20260422T041624
CREATED:20190514T102241Z
LAST-MODIFIED:20190514T102241Z
UID:4609-1558717200-1558720800@bracz.edu.pl
SUMMARY:Mrówkojad i dziwne zwierzęta. Przedstawienie Teatru TaLALA w Filii 38
DESCRIPTION:
URL:https://bracz.edu.pl/event/mrowkojad-i-dziwne-zwierzeta-przedstawienie-teatru-talala-w-filii-38/
END:VEVENT
BEGIN:VEVENT
DTSTART;TZID=Europe/Warsaw:20190524T180000
DTEND;TZID=Europe/Warsaw:20190524T200000
DTSTAMP:20260422T041624
CREATED:20190410T084543Z
LAST-MODIFIED:20190410T084702Z
UID:4212-1558720800-1558728000@bracz.edu.pl
SUMMARY:„Borderline. Dwanaście podróży do Birmy". Spotkanie z Grzegorzem Sternem
DESCRIPTION:
URL:https://bracz.edu.pl/event/borderline-dwanascie-podrozy-do-birmy-spotkanie-z-grzegorzem-sternem/
LOCATION:Biblioteka Raczyńskich\, pl. Wolności 19\, Poznań\, 61-739\, Polska
CATEGORIES:dla Dorosłych,dla maturzystów,dla wszystkich
END:VEVENT
BEGIN:VEVENT
DTSTART;TZID=Europe/Warsaw:20190525T103000
DTEND;TZID=Europe/Warsaw:20190525T120000
DTSTAMP:20260422T041624
CREATED:20190410T100025Z
LAST-MODIFIED:20190410T100025Z
UID:4269-1558780200-1558785600@bracz.edu.pl
SUMMARY:Śladami mieszkańców Biblioteki Raczyńskich
DESCRIPTION:
URL:https://bracz.edu.pl/event/sladami-mieszkancow-biblioteki-raczynskich/
LOCATION:Biblioteka Raczyńskich\, pl. Wolności 19\, Poznań\, 61-739\, Polska
CATEGORIES:dla Dzieci
END:VEVENT
BEGIN:VEVENT
DTSTART;TZID=Europe/Warsaw:20190525T120000
DTEND;TZID=Europe/Warsaw:20190525T140000
DTSTAMP:20260422T041624
CREATED:20190410T090652Z
LAST-MODIFIED:20190410T090652Z
UID:4237-1558785600-1558792800@bracz.edu.pl
SUMMARY:3TATY\, 4 ŻYWIOŁY Bez wody nie ma życia
DESCRIPTION:
URL:https://bracz.edu.pl/event/3taty-4-zywioly-bez-wody-nie-ma-zycia/
LOCATION:Biblioteka Raczyńskich\, pl. Wolności 19\, Poznań\, 61-739\, Polska
CATEGORIES:dla Dzieci
END:VEVENT
BEGIN:VEVENT
DTSTART;TZID=Europe/Warsaw:20190527T180000
DTEND;TZID=Europe/Warsaw:20190527T200000
DTSTAMP:20260422T041624
CREATED:20190410T084934Z
LAST-MODIFIED:20190410T084934Z
UID:4217-1558980000-1558987200@bracz.edu.pl
SUMMARY:Spotkanie z Moniką Sznajderman
DESCRIPTION:
URL:https://bracz.edu.pl/event/spotkanie-z-monika-sznajderman/
LOCATION:Biblioteka Raczyńskich\, pl. Wolności 19\, Poznań\, 61-739\, Polska
CATEGORIES:dla Dorosłych,dla maturzystów
END:VEVENT
BEGIN:VEVENT
DTSTART;TZID=Europe/Warsaw:20190529T180000
DTEND;TZID=Europe/Warsaw:20190529T193000
DTSTAMP:20260422T041624
CREATED:20190508T113113Z
LAST-MODIFIED:20190508T113113Z
UID:4511-1559152800-1559158200@bracz.edu.pl
SUMMARY:Rowerem do Fatimy
DESCRIPTION:
URL:https://bracz.edu.pl/event/rowerem-do-fatimy/
END:VEVENT
BEGIN:VEVENT
DTSTART;TZID=Europe/Warsaw:20190530T180000
DTEND;TZID=Europe/Warsaw:20190530T200000
DTSTAMP:20260422T041624
CREATED:20190410T085218Z
LAST-MODIFIED:20190410T085218Z
UID:4222-1559239200-1559246400@bracz.edu.pl
SUMMARY:XXVI Spotkanie z Arcydziełem: Listy Zygmunta Augusta do Radziwiłłów
DESCRIPTION:
URL:https://bracz.edu.pl/event/xxvi-spotkanie-z-arcydzielem-listy-zygmunta-augusta-do-radziwillow/
LOCATION:Biblioteka Raczyńskich\, pl. Wolności 19\, Poznań\, 61-739\, Polska
CATEGORIES:dla Dorosłych,dla maturzystów
END:VEVENT
BEGIN:VEVENT
DTSTART;TZID=Europe/Warsaw:20190531T170000
DTEND;TZID=Europe/Warsaw:20190531T180000
DTSTAMP:20260422T041624
CREATED:20190514T102321Z
LAST-MODIFIED:20190514T102321Z
UID:4611-1559322000-1559325600@bracz.edu.pl
SUMMARY:Mrówkojad i dziwne zwierzęta. Przedstawienie Teatru TaLALA w Filii 23
DESCRIPTION:
URL:https://bracz.edu.pl/event/mrowkojad-i-dziwne-zwierzeta-przedstawienie-teatru-talala-w-filii-23/
END:VEVENT
BEGIN:VEVENT
DTSTART;TZID=Europe/Warsaw:20190605T173000
DTEND;TZID=Europe/Warsaw:20190605T190000
DTSTAMP:20260422T041624
CREATED:20190517T111959Z
LAST-MODIFIED:20190517T111959Z
UID:4693-1559755800-1559761200@bracz.edu.pl
SUMMARY:„Indie czyli świat”. Spotkanie z Markiem Pindralem
DESCRIPTION:
URL:https://bracz.edu.pl/event/indie-czyli-swiat-spotkanie-z-markiem-pindralem/
END:VEVENT
END:VCALENDAR