BEGIN:VCALENDAR
VERSION:2.0
PRODID:-//Biblioteka Raczyńskich - ECPv6.2.3//NONSGML v1.0//EN
CALSCALE:GREGORIAN
METHOD:PUBLISH
X-WR-CALNAME:Biblioteka Raczyńskich
X-ORIGINAL-URL:https://bracz.edu.pl
X-WR-CALDESC:Events for Biblioteka Raczyńskich
REFRESH-INTERVAL;VALUE=DURATION:PT1H
X-Robots-Tag:noindex
X-PUBLISHED-TTL:PT1H
BEGIN:VTIMEZONE
TZID:Europe/Warsaw
BEGIN:DAYLIGHT
TZOFFSETFROM:+0100
TZOFFSETTO:+0200
TZNAME:CEST
DTSTART:20190331T010000
END:DAYLIGHT
BEGIN:STANDARD
TZOFFSETFROM:+0200
TZOFFSETTO:+0100
TZNAME:CET
DTSTART:20191027T010000
END:STANDARD
END:VTIMEZONE
BEGIN:VEVENT
DTSTART;TZID=Europe/Warsaw:20190518T110000
DTEND;TZID=Europe/Warsaw:20190518T120000
DTSTAMP:20260422T012130
CREATED:20190410T093235Z
LAST-MODIFIED:20190410T093235Z
UID:4251-1558177200-1558180800@bracz.edu.pl
SUMMARY:Warsztaty z Kicią Kocią
DESCRIPTION:
URL:https://bracz.edu.pl/event/warsztaty-z-kicia-kocia/
LOCATION:Biblioteka Raczyńskich\, pl. Wolności 19\, Poznań\, 61-739\, Polska
CATEGORIES:dla Dzieci
END:VEVENT
BEGIN:VEVENT
DTSTART;TZID=Europe/Warsaw:20190518T120000
DTEND;TZID=Europe/Warsaw:20190518T130000
DTSTAMP:20260422T012130
CREATED:20190410T095349Z
LAST-MODIFIED:20190410T095349Z
UID:4259-1558180800-1558184400@bracz.edu.pl
SUMMARY:Warsztaty z Żubrem Pompikiem
DESCRIPTION:
URL:https://bracz.edu.pl/event/warsztaty-z-zubrem-pompikiem/
CATEGORIES:dla Dzieci
END:VEVENT
BEGIN:VEVENT
DTSTART;TZID=Europe/Warsaw:20190518T150000
DTEND;TZID=Europe/Warsaw:20190518T230000
DTSTAMP:20260422T012130
CREATED:20190411T085127Z
LAST-MODIFIED:20190517T115050Z
UID:4292-1558191600-1558220400@bracz.edu.pl
SUMMARY:Noc Muzeów w Bibliotece Raczyńskich i oddziałach muzealnych
DESCRIPTION:
URL:https://bracz.edu.pl/event/noc-muzeow-w-bibliotece-raczynskich-i-oddzialach-muzealnych/
END:VEVENT
BEGIN:VEVENT
DTSTART;TZID=Europe/Warsaw:20190522T180000
DTEND;TZID=Europe/Warsaw:20190522T200000
DTSTAMP:20260422T012130
CREATED:20190410T084218Z
LAST-MODIFIED:20190410T084218Z
UID:4207-1558548000-1558555200@bracz.edu.pl
SUMMARY:„Sprawa Hoffmanowej”. Spotkanie z Katarzyną Zyskowską
DESCRIPTION:
URL:https://bracz.edu.pl/event/sprawa-hoffmanowej-spotkanie-z-katarzyna-zyskowska/
LOCATION:Biblioteka Raczyńskich Filia Naramowicka\, ul. Rubież 14a\, Poznań
CATEGORIES:dla Dorosłych,dla maturzystów,dla wszystkich
END:VEVENT
BEGIN:VEVENT
DTSTART;TZID=Europe/Warsaw:20190524T170000
DTEND;TZID=Europe/Warsaw:20190524T180000
DTSTAMP:20260422T012130
CREATED:20190514T102241Z
LAST-MODIFIED:20190514T102241Z
UID:4609-1558717200-1558720800@bracz.edu.pl
SUMMARY:Mrówkojad i dziwne zwierzęta. Przedstawienie Teatru TaLALA w Filii 38
DESCRIPTION:
URL:https://bracz.edu.pl/event/mrowkojad-i-dziwne-zwierzeta-przedstawienie-teatru-talala-w-filii-38/
END:VEVENT
BEGIN:VEVENT
DTSTART;TZID=Europe/Warsaw:20190524T180000
DTEND;TZID=Europe/Warsaw:20190524T200000
DTSTAMP:20260422T012130
CREATED:20190410T084543Z
LAST-MODIFIED:20190410T084702Z
UID:4212-1558720800-1558728000@bracz.edu.pl
SUMMARY:„Borderline. Dwanaście podróży do Birmy". Spotkanie z Grzegorzem Sternem
DESCRIPTION:
URL:https://bracz.edu.pl/event/borderline-dwanascie-podrozy-do-birmy-spotkanie-z-grzegorzem-sternem/
LOCATION:Biblioteka Raczyńskich\, pl. Wolności 19\, Poznań\, 61-739\, Polska
CATEGORIES:dla Dorosłych,dla maturzystów,dla wszystkich
END:VEVENT
BEGIN:VEVENT
DTSTART;TZID=Europe/Warsaw:20190525T103000
DTEND;TZID=Europe/Warsaw:20190525T120000
DTSTAMP:20260422T012130
CREATED:20190410T100025Z
LAST-MODIFIED:20190410T100025Z
UID:4269-1558780200-1558785600@bracz.edu.pl
SUMMARY:Śladami mieszkańców Biblioteki Raczyńskich
DESCRIPTION:
URL:https://bracz.edu.pl/event/sladami-mieszkancow-biblioteki-raczynskich/
LOCATION:Biblioteka Raczyńskich\, pl. Wolności 19\, Poznań\, 61-739\, Polska
CATEGORIES:dla Dzieci
END:VEVENT
BEGIN:VEVENT
DTSTART;TZID=Europe/Warsaw:20190525T120000
DTEND;TZID=Europe/Warsaw:20190525T140000
DTSTAMP:20260422T012130
CREATED:20190410T090652Z
LAST-MODIFIED:20190410T090652Z
UID:4237-1558785600-1558792800@bracz.edu.pl
SUMMARY:3TATY\, 4 ŻYWIOŁY Bez wody nie ma życia
DESCRIPTION:
URL:https://bracz.edu.pl/event/3taty-4-zywioly-bez-wody-nie-ma-zycia/
LOCATION:Biblioteka Raczyńskich\, pl. Wolności 19\, Poznań\, 61-739\, Polska
CATEGORIES:dla Dzieci
END:VEVENT
BEGIN:VEVENT
DTSTART;TZID=Europe/Warsaw:20190527T180000
DTEND;TZID=Europe/Warsaw:20190527T200000
DTSTAMP:20260422T012130
CREATED:20190410T084934Z
LAST-MODIFIED:20190410T084934Z
UID:4217-1558980000-1558987200@bracz.edu.pl
SUMMARY:Spotkanie z Moniką Sznajderman
DESCRIPTION:
URL:https://bracz.edu.pl/event/spotkanie-z-monika-sznajderman/
LOCATION:Biblioteka Raczyńskich\, pl. Wolności 19\, Poznań\, 61-739\, Polska
CATEGORIES:dla Dorosłych,dla maturzystów
END:VEVENT
BEGIN:VEVENT
DTSTART;TZID=Europe/Warsaw:20190529T180000
DTEND;TZID=Europe/Warsaw:20190529T193000
DTSTAMP:20260422T012130
CREATED:20190508T113113Z
LAST-MODIFIED:20190508T113113Z
UID:4511-1559152800-1559158200@bracz.edu.pl
SUMMARY:Rowerem do Fatimy
DESCRIPTION:
URL:https://bracz.edu.pl/event/rowerem-do-fatimy/
END:VEVENT
BEGIN:VEVENT
DTSTART;TZID=Europe/Warsaw:20190530T180000
DTEND;TZID=Europe/Warsaw:20190530T200000
DTSTAMP:20260422T012130
CREATED:20190410T085218Z
LAST-MODIFIED:20190410T085218Z
UID:4222-1559239200-1559246400@bracz.edu.pl
SUMMARY:XXVI Spotkanie z Arcydziełem: Listy Zygmunta Augusta do Radziwiłłów
DESCRIPTION:
URL:https://bracz.edu.pl/event/xxvi-spotkanie-z-arcydzielem-listy-zygmunta-augusta-do-radziwillow/
LOCATION:Biblioteka Raczyńskich\, pl. Wolności 19\, Poznań\, 61-739\, Polska
CATEGORIES:dla Dorosłych,dla maturzystów
END:VEVENT
BEGIN:VEVENT
DTSTART;TZID=Europe/Warsaw:20190531T170000
DTEND;TZID=Europe/Warsaw:20190531T180000
DTSTAMP:20260422T012130
CREATED:20190514T102321Z
LAST-MODIFIED:20190514T102321Z
UID:4611-1559322000-1559325600@bracz.edu.pl
SUMMARY:Mrówkojad i dziwne zwierzęta. Przedstawienie Teatru TaLALA w Filii 23
DESCRIPTION:
URL:https://bracz.edu.pl/event/mrowkojad-i-dziwne-zwierzeta-przedstawienie-teatru-talala-w-filii-23/
END:VEVENT
BEGIN:VEVENT
DTSTART;TZID=Europe/Warsaw:20190605T173000
DTEND;TZID=Europe/Warsaw:20190605T190000
DTSTAMP:20260422T012130
CREATED:20190517T111959Z
LAST-MODIFIED:20190517T111959Z
UID:4693-1559755800-1559761200@bracz.edu.pl
SUMMARY:„Indie czyli świat”. Spotkanie z Markiem Pindralem
DESCRIPTION:
URL:https://bracz.edu.pl/event/indie-czyli-swiat-spotkanie-z-markiem-pindralem/
END:VEVENT
BEGIN:VEVENT
DTSTART;TZID=Europe/Warsaw:20190605T180000
DTEND;TZID=Europe/Warsaw:20190605T193000
DTSTAMP:20260422T012130
CREATED:20190517T113952Z
LAST-MODIFIED:20190517T113952Z
UID:4699-1559757600-1559763000@bracz.edu.pl
SUMMARY:Spotkanie z Maciejem Grelą
DESCRIPTION:
URL:https://bracz.edu.pl/event/spotkanie-z-maciejem-grela/
END:VEVENT
BEGIN:VEVENT
DTSTART;TZID=Europe/Warsaw:20190608T110000
DTEND;TZID=Europe/Warsaw:20190608T120000
DTSTAMP:20260422T012130
CREATED:20190517T114647Z
LAST-MODIFIED:20190517T114647Z
UID:4704-1559991600-1559995200@bracz.edu.pl
SUMMARY:Silva rerum czyli łacina hasa po łąkach i lasach
DESCRIPTION:
URL:https://bracz.edu.pl/event/silva-rerum-czyli-lacina-hasa-po-lakach-i-lasach/
END:VEVENT
BEGIN:VEVENT
DTSTART;TZID=Europe/Warsaw:20190608T120000
DTEND;TZID=Europe/Warsaw:20190608T133000
DTSTAMP:20260422T012130
CREATED:20190520T092455Z
LAST-MODIFIED:20190520T092455Z
UID:4747-1559995200-1560000600@bracz.edu.pl
SUMMARY:3TATY\, 4 ŻYWIOŁY. Płonące góry i gwiazdy
DESCRIPTION:
URL:https://bracz.edu.pl/event/3taty-4-zywioly-plonace-gory-i-gwiazdy/
END:VEVENT
BEGIN:VEVENT
DTSTART;TZID=Europe/Warsaw:20190611T163000
DTEND;TZID=Europe/Warsaw:20190611T180000
DTSTAMP:20260422T012130
CREATED:20190520T093619Z
LAST-MODIFIED:20190520T093619Z
UID:4750-1560270600-1560276000@bracz.edu.pl
SUMMARY:Wtorek dla seniora. „Kalinowe noce\, kalinowe dni\, kalinowe serce…” O piosenkach Kaliny Jędrusik
DESCRIPTION:
URL:https://bracz.edu.pl/event/wtorek-dla-seniora-kalinowe-noce-kalinowe-dni-kalinowe-serce-o-piosenkach-kaliny-jedrusik/
END:VEVENT
BEGIN:VEVENT
DTSTART;TZID=Europe/Warsaw:20190612T180000
DTEND;TZID=Europe/Warsaw:20190612T193000
DTSTAMP:20260422T012130
CREATED:20190528T085926Z
LAST-MODIFIED:20190528T085926Z
UID:4931-1560362400-1560367800@bracz.edu.pl
SUMMARY:Jak zorganizować podroż na własna rękę
DESCRIPTION:
URL:https://bracz.edu.pl/event/jak-zorganizowac-podroz-na-wlasna-reke/
END:VEVENT
BEGIN:VEVENT
DTSTART;TZID=Europe/Warsaw:20190613T180000
DTEND;TZID=Europe/Warsaw:20190613T193000
DTSTAMP:20260422T012130
CREATED:20190520T095131Z
LAST-MODIFIED:20190520T095131Z
UID:4757-1560448800-1560454200@bracz.edu.pl
SUMMARY:Spotkanie z Natalią Budzyńską
DESCRIPTION:
URL:https://bracz.edu.pl/event/spotkanie-z-natalia-budzynska/
END:VEVENT
BEGIN:VEVENT
DTSTART;TZID=Europe/Warsaw:20190614T170000
DTEND;TZID=Europe/Warsaw:20190614T180000
DTSTAMP:20260422T012130
CREATED:20190514T102402Z
LAST-MODIFIED:20190514T102802Z
UID:4613-1560531600-1560535200@bracz.edu.pl
SUMMARY:Mrówkojad i dziwne zwierzęta. Przedstawienie Teatru TaLALA w Filii 49
DESCRIPTION:
URL:https://bracz.edu.pl/event/mrowkojad-i-dziwne-zwierzeta-przedstawienie-teatru-talala-w-filii-49/
END:VEVENT
BEGIN:VEVENT
DTSTART;TZID=Europe/Warsaw:20190615T100000
DTEND;TZID=Europe/Warsaw:20190615T120000
DTSTAMP:20260422T012130
CREATED:20190606T132018Z
LAST-MODIFIED:20190606T132018Z
UID:5105-1560592800-1560600000@bracz.edu.pl
SUMMARY:Wielka Naramowicka
DESCRIPTION:
URL:https://bracz.edu.pl/event/wielka-naramowicka/
LOCATION:Biblioteka Raczyńskich Filia Naramowicka\, ul. Rubież 14a\, Poznań
END:VEVENT
BEGIN:VEVENT
DTSTART;TZID=Europe/Warsaw:20190615T130000
DTEND;TZID=Europe/Warsaw:20190615T143000
DTSTAMP:20260422T012130
CREATED:20190520T100926Z
LAST-MODIFIED:20190520T100926Z
UID:4761-1560603600-1560609000@bracz.edu.pl
SUMMARY:Przestrzenne konteksty Poznania i Powszechnej Wystawy Krajowej
DESCRIPTION:
URL:https://bracz.edu.pl/event/przestrzenne-konteksty-poznania-i-powszechnej-wystawy-krajowej/
END:VEVENT
BEGIN:VEVENT
DTSTART;TZID=Europe/Warsaw:20190617T160000
DTEND;TZID=Europe/Warsaw:20190617T170000
DTSTAMP:20260422T012130
CREATED:20190529T100659Z
LAST-MODIFIED:20190529T105413Z
UID:4960-1560787200-1560790800@bracz.edu.pl
SUMMARY:Prześwietlamy kanon lektur
DESCRIPTION:
URL:https://bracz.edu.pl/event/przeswietlamy-kanon-lektur/
LOCATION:Biblioteka Raczyńskich\, pl. Wolności 19\, Poznań\, 61-739\, Polska
END:VEVENT
BEGIN:VEVENT
DTSTART;TZID=Europe/Warsaw:20190622T130000
DTEND;TZID=Europe/Warsaw:20190622T140000
DTSTAMP:20260422T012130
CREATED:20190607T084354Z
LAST-MODIFIED:20190607T084354Z
UID:5113-1561208400-1561212000@bracz.edu.pl
SUMMARY:Historia pędzlem i piórem malowana - Sienkiewicz i Brandt
DESCRIPTION:
URL:https://bracz.edu.pl/event/historia-pedzlem-i-piorem-malowana-sienkiewicz-i-brandt/
LOCATION:Muzeum Literackie Henryka Sienkiewicza\, Stary Rynek 84\, Poznań\, 61-772
CATEGORIES:dla wszystkich
END:VEVENT
BEGIN:VEVENT
DTSTART;TZID=Europe/Warsaw:20190624T180000
DTEND;TZID=Europe/Warsaw:20190624T200000
DTSTAMP:20260422T012130
CREATED:20190612T062526Z
LAST-MODIFIED:20190612T062526Z
UID:5147-1561399200-1561406400@bracz.edu.pl
SUMMARY:Spotkanie z Małgorzatą Rejmer
DESCRIPTION:
URL:https://bracz.edu.pl/event/spotkanie-z-malgorzata-rejmer/
CATEGORIES:dla Dorosłych,dla wszystkich
END:VEVENT
BEGIN:VEVENT
DTSTART;TZID=Europe/Warsaw:20190626T160000
DTEND;TZID=Europe/Warsaw:20190626T170000
DTSTAMP:20260422T012130
CREATED:20190617T124111Z
LAST-MODIFIED:20190617T124111Z
UID:5190-1561564800-1561568400@bracz.edu.pl
SUMMARY:Zwiedzenie Mieszkania-Pracowni Kazimiery Iłłakowiczówny
DESCRIPTION:
URL:https://bracz.edu.pl/event/zwiedzenie-mieszkania-pracowni-kazimiery-illakowiczowny/
LOCATION:Mieszkanie-Pracownia Kazimiery Iłłakowiczówny\, ul. Gajowa 8/4\, Poznań\, 60-815\, Polska
CATEGORIES:dla wszystkich
END:VEVENT
BEGIN:VEVENT
DTSTART;TZID=Europe/Warsaw:20190629T130000
DTEND;TZID=Europe/Warsaw:20190629T153000
DTSTAMP:20260422T012130
CREATED:20190520T103929Z
LAST-MODIFIED:20190520T104726Z
UID:4770-1561813200-1561822200@bracz.edu.pl
SUMMARY:O Uniwersytecie w dwóch odsłonach
DESCRIPTION:
URL:https://bracz.edu.pl/event/o-uniwersytecie-w-dwoch-odslonach/
END:VEVENT
BEGIN:VEVENT
DTSTART;TZID=Europe/Warsaw:20190725T180000
DTEND;TZID=Europe/Warsaw:20190725T190000
DTSTAMP:20260422T012130
CREATED:20190708T090025Z
LAST-MODIFIED:20190708T090025Z
UID:5316-1564077600-1564081200@bracz.edu.pl
SUMMARY:Sarajewo-bałkańska perła
DESCRIPTION:
URL:https://bracz.edu.pl/event/sarajewo-balkanska-perla/
LOCATION:Biblioteka Raczyńskich Filia Naramowicka\, ul. Rubież 14a\, Poznań
CATEGORIES:dla wszystkich
END:VEVENT
BEGIN:VEVENT
DTSTART;TZID=Europe/Warsaw:20190731T160000
DTEND;TZID=Europe/Warsaw:20190731T173000
DTSTAMP:20260422T012130
CREATED:20190718T061612Z
LAST-MODIFIED:20190718T061612Z
UID:5359-1564588800-1564594200@bracz.edu.pl
SUMMARY:Zdradzamy tajemnice Iłły -oprowadzanie po Muzeum
DESCRIPTION:
URL:https://bracz.edu.pl/event/zdradzamy-tajemnice-illy-oprowadzanie-po-muzeum/
LOCATION:Mieszkanie-Pracownia Kazimiery Iłłakowiczówny\, ul. Gajowa 8/4\, Poznań\, 60-815\, Polska
END:VEVENT
BEGIN:VEVENT
DTSTART;TZID=Europe/Warsaw:20190828T160000
DTEND;TZID=Europe/Warsaw:20190828T170000
DTSTAMP:20260422T012130
CREATED:20190723T071207Z
LAST-MODIFIED:20190723T071207Z
UID:5392-1567008000-1567011600@bracz.edu.pl
SUMMARY:Oprowadzanie po Mieszkaniu-Pracowni Kazimiery Iłłakowiczówny
DESCRIPTION:
URL:https://bracz.edu.pl/event/oprowadzanie-po-mieszkaniu-pracowni-kazimiery-illakowiczowny/
LOCATION:Mieszkanie-Pracownia Kazimiery Iłłakowiczówny\, ul. Gajowa 8/4\, Poznań\, 60-815\, Polska
END:VEVENT
END:VCALENDAR