BEGIN:VCALENDAR
VERSION:2.0
PRODID:-//Biblioteka Raczyńskich - ECPv6.2.3//NONSGML v1.0//EN
CALSCALE:GREGORIAN
METHOD:PUBLISH
X-WR-CALNAME:Biblioteka Raczyńskich
X-ORIGINAL-URL:https://bracz.edu.pl
X-WR-CALDESC:Events for Biblioteka Raczyńskich
REFRESH-INTERVAL;VALUE=DURATION:PT1H
X-Robots-Tag:noindex
X-PUBLISHED-TTL:PT1H
BEGIN:VTIMEZONE
TZID:Europe/Warsaw
BEGIN:DAYLIGHT
TZOFFSETFROM:+0100
TZOFFSETTO:+0200
TZNAME:CEST
DTSTART:20240331T010000
END:DAYLIGHT
BEGIN:STANDARD
TZOFFSETFROM:+0200
TZOFFSETTO:+0100
TZNAME:CET
DTSTART:20241027T010000
END:STANDARD
END:VTIMEZONE
BEGIN:VEVENT
DTSTART;TZID=Europe/Warsaw:20240801T180000
DTEND;TZID=Europe/Warsaw:20240801T193000
DTSTAMP:20260421T204221
CREATED:20240716T072920Z
LAST-MODIFIED:20240716T073114Z
UID:26616-1722535200-1722540600@bracz.edu.pl
SUMMARY:Poznań i kompozytorzy. Koncert
DESCRIPTION:
URL:https://bracz.edu.pl/event/poznan-i-kompozytorzy-koncert/
END:VEVENT
BEGIN:VEVENT
DTSTART;TZID=Europe/Warsaw:20240803T120000
DTEND;TZID=Europe/Warsaw:20240803T140000
DTSTAMP:20260421T204221
CREATED:20240716T074700Z
LAST-MODIFIED:20240716T074700Z
UID:26620-1722686400-1722693600@bracz.edu.pl
SUMMARY:CZYTATY w 8 dni dookoła świata: O Inkach i o genie podróżnika. Spotkanie z Markiem Oliwierem Fiedlerem
DESCRIPTION:
URL:https://bracz.edu.pl/event/czytaty-w-8-dni-dookola-swiata-o-inkach-i-o-genie-podroznika-spotkanie-z-markiem-oliwierem-fiedlerem/
END:VEVENT
BEGIN:VEVENT
DTSTART;TZID=Europe/Warsaw:20240805T170000
DTEND;TZID=Europe/Warsaw:20240805T190000
DTSTAMP:20260421T204221
CREATED:20240716T080104Z
LAST-MODIFIED:20240716T080104Z
UID:26624-1722877200-1722884400@bracz.edu.pl
SUMMARY:Wielki Dzień Pszczół. Spotkanie z pszczelarzem
DESCRIPTION:
URL:https://bracz.edu.pl/event/wielki-dzien-pszczol-spotkanie-z-pszczelarzem/
END:VEVENT
BEGIN:VEVENT
DTSTART;TZID=Europe/Warsaw:20240808T173000
DTEND;TZID=Europe/Warsaw:20240808T193000
DTSTAMP:20260421T204221
CREATED:20240716T081123Z
LAST-MODIFIED:20240716T081123Z
UID:26628-1723138200-1723145400@bracz.edu.pl
SUMMARY:W małym kinie u Raczyńskich. Marylin i diamenty
DESCRIPTION:
URL:https://bracz.edu.pl/event/w-malym-kinie-u-raczynskich-marylin-i-diamenty/
END:VEVENT
BEGIN:VEVENT
DTSTART;TZID=Europe/Warsaw:20240809T100000
DTEND;TZID=Europe/Warsaw:20240809T150000
DTSTAMP:20260421T204221
CREATED:20240716T081931Z
LAST-MODIFIED:20240716T081931Z
UID:26632-1723197600-1723215600@bracz.edu.pl
SUMMARY:Romeo i Julia w ogrodzie\, czyli o relacjach roślin i zapylaczy. Warsztat dla seniorów
DESCRIPTION:
URL:https://bracz.edu.pl/event/romeo-i-julia-w-ogrodzie-czyli-o-relacjach-roslin-i-zapylaczy-warsztat-dla-seniorow/
END:VEVENT
BEGIN:VEVENT
DTSTART;TZID=Europe/Warsaw:20240810T120000
DTEND;TZID=Europe/Warsaw:20240810T140000
DTSTAMP:20260421T204221
CREATED:20240716T085032Z
LAST-MODIFIED:20240716T085032Z
UID:26640-1723291200-1723298400@bracz.edu.pl
SUMMARY:CZYTATY w 8 dni dookoła świata: Komiksowy sen z Ameryki. Warsztaty komiksowe z Pawłem Piechnikiem
DESCRIPTION:
URL:https://bracz.edu.pl/event/czytaty-w-8-dni-dookola-swiata-komiksowy-sen-z-ameryki-warsztaty-komiksowe-z-pawlem-piechnikiem/
END:VEVENT
BEGIN:VEVENT
DTSTART;TZID=Europe/Warsaw:20240810T123000
DTEND;TZID=Europe/Warsaw:20240810T143000
DTSTAMP:20260421T204221
CREATED:20240716T091749Z
LAST-MODIFIED:20240716T091749Z
UID:26645-1723293000-1723300200@bracz.edu.pl
SUMMARY:Zapach ziół. Warsztaty
DESCRIPTION:
URL:https://bracz.edu.pl/event/zapach-ziol-warsztaty/
END:VEVENT
BEGIN:VEVENT
DTSTART;TZID=Europe/Warsaw:20240814T170000
DTEND;TZID=Europe/Warsaw:20240814T190000
DTSTAMP:20260421T204221
CREATED:20240716T093632Z
LAST-MODIFIED:20240716T093632Z
UID:26649-1723654800-1723662000@bracz.edu.pl
SUMMARY:Wielki Dzień Pszczół. Spotkanie z pszczelarzem
DESCRIPTION:
URL:https://bracz.edu.pl/event/wielki-dzien-pszczol-spotkanie-z-pszczelarzem-2/
END:VEVENT
BEGIN:VEVENT
DTSTART;TZID=Europe/Warsaw:20240820T170000
DTEND;TZID=Europe/Warsaw:20240820T190000
DTSTAMP:20260421T204221
CREATED:20240716T094907Z
LAST-MODIFIED:20240716T132309Z
UID:26653-1724173200-1724180400@bracz.edu.pl
SUMMARY:W strefie pływów. Prezentacja książki poetki Elżbiety Tylendy
DESCRIPTION:
URL:https://bracz.edu.pl/event/w-strefie-plywow-prezentacja-ksiazki-poetki-elzbiety-tylendy/
END:VEVENT
BEGIN:VEVENT
DTSTART;TZID=Europe/Warsaw:20240822T180000
DTEND;TZID=Europe/Warsaw:20240822T193000
DTSTAMP:20260421T204221
CREATED:20240716T100113Z
LAST-MODIFIED:20240716T100113Z
UID:26658-1724349600-1724355000@bracz.edu.pl
SUMMARY:Klub Książki u Raczyńskich „Kapelusz cały w czereśniach”
DESCRIPTION:
URL:https://bracz.edu.pl/event/klub-ksiazki-u-raczynskich-kapelusz-caly-w-czeresniach/
END:VEVENT
BEGIN:VEVENT
DTSTART;TZID=Europe/Warsaw:20240823T170000
DTEND;TZID=Europe/Warsaw:20240823T190000
DTSTAMP:20260421T204221
CREATED:20240716T111101Z
LAST-MODIFIED:20240716T132649Z
UID:26662-1724432400-1724439600@bracz.edu.pl
SUMMARY:Dzień poezji ukraińskiej. Spotkanie z Julią Bair
DESCRIPTION:
URL:https://bracz.edu.pl/event/dzien-poezji-ukrainskiej-spotkanie-z-julia-bair/
END:VEVENT
BEGIN:VEVENT
DTSTART;TZID=Europe/Warsaw:20240824T120000
DTEND;TZID=Europe/Warsaw:20240824T140000
DTSTAMP:20260421T204221
CREATED:20240716T111711Z
LAST-MODIFIED:20240716T111711Z
UID:26666-1724500800-1724508000@bracz.edu.pl
SUMMARY:CZYTATY w 8 dni dookoła świata: Afrykańska przygoda. Warsztaty plastyczne z Jagodą Nie Porzeczką
DESCRIPTION:
URL:https://bracz.edu.pl/event/czytaty-w-8-dni-dookola-swiata-afrykanska-przygoda-warsztaty-plastyczne-z-jagoda-nie-porzeczka/
END:VEVENT
BEGIN:VEVENT
DTSTART;TZID=Europe/Warsaw:20240828T123000
DTEND;TZID=Europe/Warsaw:20240828T133000
DTSTAMP:20260421T204221
CREATED:20240716T114327Z
LAST-MODIFIED:20240716T114327Z
UID:26670-1724848200-1724851800@bracz.edu.pl
SUMMARY:Zwiedzanie Mieszkania-Pracowni Kazimiery Iłłakowiczówny
DESCRIPTION:
URL:https://bracz.edu.pl/event/zwiedzanie-mieszkania-pracowni-kazimiery-illakowiczowny-14/
END:VEVENT
BEGIN:VEVENT
DTSTART;TZID=Europe/Warsaw:20240829T170000
DTEND;TZID=Europe/Warsaw:20240829T200000
DTSTAMP:20260421T204221
CREATED:20240716T115752Z
LAST-MODIFIED:20240716T115752Z
UID:26674-1724950800-1724961600@bracz.edu.pl
SUMMARY:Wakacyjny warsztat skryby cz.3
DESCRIPTION:
URL:https://bracz.edu.pl/event/wakacyjny-warsztat-skryby-cz-3/
END:VEVENT
BEGIN:VEVENT
DTSTART;TZID=Europe/Warsaw:20240904T170000
DTEND;TZID=Europe/Warsaw:20240904T180000
DTSTAMP:20260421T204221
CREATED:20240809T105758Z
LAST-MODIFIED:20240809T105758Z
UID:26860-1725469200-1725472800@bracz.edu.pl
SUMMARY:Spacer z Iłłą po Jeżycach
DESCRIPTION:
URL:https://bracz.edu.pl/event/spacer-z-illa-po-jezycach/
END:VEVENT
BEGIN:VEVENT
DTSTART;TZID=Europe/Warsaw:20240905T170000
DTEND;TZID=Europe/Warsaw:20240905T183000
DTSTAMP:20260421T204221
CREATED:20240809T110319Z
LAST-MODIFIED:20240809T110319Z
UID:26864-1725555600-1725561000@bracz.edu.pl
SUMMARY:Pamiętaj o czwartku
DESCRIPTION:
URL:https://bracz.edu.pl/event/pamietaj-o-czwartku-7/
END:VEVENT
BEGIN:VEVENT
DTSTART;TZID=Europe/Warsaw:20240906T180000
DTEND;TZID=Europe/Warsaw:20240906T193000
DTSTAMP:20260421T204221
CREATED:20240809T111952Z
LAST-MODIFIED:20240809T111952Z
UID:26868-1725645600-1725651000@bracz.edu.pl
SUMMARY:Finisaż wystawy Stanisława Cholewy „Wielkie rzeczy”
DESCRIPTION:
URL:https://bracz.edu.pl/event/finisaz-wystawy-stanislawa-cholewy-wielkie-rzeczy/
END:VEVENT
BEGIN:VEVENT
DTSTART;TZID=Europe/Warsaw:20240906T180000
DTEND;TZID=Europe/Warsaw:20240906T193000
DTSTAMP:20260421T204221
CREATED:20240809T112752Z
LAST-MODIFIED:20240809T112752Z
UID:26872-1725645600-1725651000@bracz.edu.pl
SUMMARY:Spotkanie autorskie z Beatą Chomątowską wokół książki „Miasto dzieci świata”
DESCRIPTION:
URL:https://bracz.edu.pl/event/spotkanie-autorskie-z-beata-chomatowska-wokol-ksiazki-miasto-dzieci-swiata/
END:VEVENT
BEGIN:VEVENT
DTSTART;TZID=Europe/Warsaw:20240907T110000
DTEND;TZID=Europe/Warsaw:20240907T140000
DTSTAMP:20260421T204221
CREATED:20240809T114545Z
LAST-MODIFIED:20240809T114640Z
UID:26876-1725706800-1725717600@bracz.edu.pl
SUMMARY:Narodowe Czytanie. Juliusz Słowacki "Kordian"
DESCRIPTION:
URL:https://bracz.edu.pl/event/narodowe-czytanie-juliusz-slowacki-kordian/
END:VEVENT
BEGIN:VEVENT
DTSTART;TZID=Europe/Warsaw:20240910T180000
DTEND;TZID=Europe/Warsaw:20240910T193000
DTSTAMP:20260421T204221
CREATED:20240809T130631Z
LAST-MODIFIED:20240809T130631Z
UID:26880-1725991200-1725996600@bracz.edu.pl
SUMMARY:Czytanie Przestrzeni. Poznań jakiego nie było
DESCRIPTION:
URL:https://bracz.edu.pl/event/czytanie-przestrzeni-poznan-jakiego-nie-bylo/
END:VEVENT
BEGIN:VEVENT
DTSTART;TZID=Europe/Warsaw:20240911T123000
DTEND;TZID=Europe/Warsaw:20240911T133000
DTSTAMP:20260421T204221
CREATED:20240809T135110Z
LAST-MODIFIED:20240809T135110Z
UID:26889-1726057800-1726061400@bracz.edu.pl
SUMMARY:Zwiedzanie Mieszkania-Pracowni Kazimiery Iłłakowiczówny
DESCRIPTION:
URL:https://bracz.edu.pl/event/zwiedzanie-mieszkania-pracowni-kazimiery-illakowiczowny-15/
END:VEVENT
BEGIN:VEVENT
DTSTART;TZID=Europe/Warsaw:20240911T170000
DTEND;TZID=Europe/Warsaw:20240911T183000
DTSTAMP:20260421T204221
CREATED:20240809T134633Z
LAST-MODIFIED:20240809T134633Z
UID:26884-1726074000-1726079400@bracz.edu.pl
SUMMARY:Spotkanie z Łukaszem Skopem
DESCRIPTION:
URL:https://bracz.edu.pl/event/spotkanie-z-lukaszem-skopem/
END:VEVENT
BEGIN:VEVENT
DTSTART;TZID=Europe/Warsaw:20240912T180000
DTEND;TZID=Europe/Warsaw:20240912T193000
DTSTAMP:20260421T204221
CREATED:20240809T140028Z
LAST-MODIFIED:20240809T140028Z
UID:26893-1726164000-1726169400@bracz.edu.pl
SUMMARY:Zyga. Geniusz z Poznania
DESCRIPTION:
URL:https://bracz.edu.pl/event/zyga-geniusz-z-poznania/
END:VEVENT
BEGIN:VEVENT
DTSTART;TZID=Europe/Warsaw:20240914T120000
DTEND;TZID=Europe/Warsaw:20240914T140000
DTSTAMP:20260421T204221
CREATED:20240822T105750Z
LAST-MODIFIED:20240822T105750Z
UID:27005-1726315200-1726322400@bracz.edu.pl
SUMMARY:CZYTATY w 8 dni dookoła świata: Le Petit Chaperon Rouge\, Rotkäppchen i Czerwony Kapturek\, czyli skąd pochodzą baśniowe postaci. Warsztaty opowieści z Vampkiem Królem
DESCRIPTION:
URL:https://bracz.edu.pl/event/czytaty-w-8-dni-dookola-swiata-le-petit-chaperon-rouge-rotkappchen-i-czerwony-kapturek-czyli-skad-pochodza-basniowe-postaci-warsztaty-opowiesci-z-vampkiem-krolem/
LOCATION:Filia Sztuki\, Pl. Wolności 19\, Poznań\, Wielkopolskie\, 61-739\, Polska
END:VEVENT
BEGIN:VEVENT
DTSTART;TZID=Europe/Warsaw:20240916T180000
DTEND;TZID=Europe/Warsaw:20240916T193000
DTSTAMP:20260421T204221
CREATED:20240822T113754Z
LAST-MODIFIED:20240904T075340Z
UID:27017-1726509600-1726515000@bracz.edu.pl
SUMMARY:Spotkanie z Romanem Warszewskim\, laureatem Bursztynowego Motyla
DESCRIPTION:
URL:https://bracz.edu.pl/event/konkurs-im-arkadego-fiedlera-o-nagrode-bursztynowego-motyla-spotkanie-z-laureatem/
LOCATION:Biblioteka Raczyńskich\, pl. Wolności 19\, Poznań\, 61-739\, Polska
END:VEVENT
BEGIN:VEVENT
DTSTART;TZID=Europe/Warsaw:20240917T160000
DTEND;TZID=Europe/Warsaw:20240917T173000
DTSTAMP:20260421T204221
CREATED:20240822T120504Z
LAST-MODIFIED:20240822T120504Z
UID:27025-1726588800-1726594200@bracz.edu.pl
SUMMARY:Wtorek dla seniora
DESCRIPTION:
URL:https://bracz.edu.pl/event/wtorek-dla-seniora/
LOCATION:Filia Sztuki\, Pl. Wolności 19\, Poznań\, Wielkopolskie\, 61-739\, Polska
END:VEVENT
BEGIN:VEVENT
DTSTART;TZID=Europe/Warsaw:20240917T180000
DTEND;TZID=Europe/Warsaw:20240917T200000
DTSTAMP:20260421T204221
CREATED:20240822T114122Z
LAST-MODIFIED:20240827T101125Z
UID:27021-1726596000-1726603200@bracz.edu.pl
SUMMARY:Wincenty Różański\, "Idę pod wiatr" - spotkanie z prof. M. Nalepą
DESCRIPTION:
URL:https://bracz.edu.pl/event/spotkanie-z-prof-markiem-nalepa/
LOCATION:Pracownia-Muzeum Józefa Ignacego Kraszewskiego\, ul. Wroniecka 14\, Poznań
END:VEVENT
BEGIN:VEVENT
DTSTART;TZID=Europe/Warsaw:20240917T180000
DTEND;TZID=Europe/Warsaw:20240917T200000
DTSTAMP:20260421T204221
CREATED:20240822T122247Z
LAST-MODIFIED:20240822T122247Z
UID:27028-1726596000-1726603200@bracz.edu.pl
SUMMARY:Spacer architektoniczny. Centrum – historia na cztery place i cztery ulice
DESCRIPTION:
URL:https://bracz.edu.pl/event/spacer-architektoniczny-centrum-historia-na-cztery-place-i-cztery-ulice/
LOCATION:Filia Sztuki\, Pl. Wolności 19\, Poznań\, Wielkopolskie\, 61-739\, Polska
END:VEVENT
BEGIN:VEVENT
DTSTART;TZID=Europe/Warsaw:20240918T170000
DTEND;TZID=Europe/Warsaw:20240918T200000
DTSTAMP:20260421T204221
CREATED:20240822T125419Z
LAST-MODIFIED:20240822T131207Z
UID:27032-1726678800-1726689600@bracz.edu.pl
SUMMARY:Kryminał w Bibliotece – slam poetycki na Festiwalu Granda
DESCRIPTION:
URL:https://bracz.edu.pl/event/kryminal-w-bibliotece-slam-poetycki-na-festiwalu-granda/
LOCATION:Biblioteka Raczyńskich\, pl. Wolności 19\, Poznań\, 61-739\, Polska
END:VEVENT
BEGIN:VEVENT
DTSTART;TZID=Europe/Warsaw:20240918T180000
DTEND;TZID=Europe/Warsaw:20240918T193000
DTSTAMP:20260421T204221
CREATED:20240826T113308Z
LAST-MODIFIED:20240826T113308Z
UID:27116-1726682400-1726687800@bracz.edu.pl
SUMMARY:Mistrzowie i Uczeń - Jerzy Piotrowicz wobec dzieł i twórców malarstwa europejskiego
DESCRIPTION:
URL:https://bracz.edu.pl/event/mistrzowie-i-uczen-jerzy-piotrowicz-wobec-dziel-i-tworcow-malarstwa-europejskiego/
LOCATION:Pracownia-Muzeum Józefa Ignacego Kraszewskiego\, ul. Wroniecka 14\, Poznań
END:VEVENT
END:VCALENDAR