BEGIN:VCALENDAR
VERSION:2.0
PRODID:-//Biblioteka Raczyńskich - ECPv6.2.3//NONSGML v1.0//EN
CALSCALE:GREGORIAN
METHOD:PUBLISH
X-ORIGINAL-URL:https://bracz.edu.pl
X-WR-CALDESC:Events for Biblioteka Raczyńskich
REFRESH-INTERVAL;VALUE=DURATION:PT1H
X-Robots-Tag:noindex
X-PUBLISHED-TTL:PT1H
BEGIN:VTIMEZONE
TZID:Europe/Warsaw
BEGIN:DAYLIGHT
TZOFFSETFROM:+0100
TZOFFSETTO:+0200
TZNAME:CEST
DTSTART:20240331T010000
END:DAYLIGHT
BEGIN:STANDARD
TZOFFSETFROM:+0200
TZOFFSETTO:+0100
TZNAME:CET
DTSTART:20241027T010000
END:STANDARD
END:VTIMEZONE
BEGIN:VEVENT
DTSTART;TZID=Europe/Warsaw:20240704T170000
DTEND;TZID=Europe/Warsaw:20240704T200000
DTSTAMP:20260421T235032
CREATED:20240617T100847Z
LAST-MODIFIED:20240617T100847Z
UID:26384-1720112400-1720123200@bracz.edu.pl
SUMMARY:Wakacyjny warsztat skryby cz.1
DESCRIPTION:
URL:https://bracz.edu.pl/event/wakacyjny-warsztat-skryby-cz-1/
END:VEVENT
BEGIN:VEVENT
DTSTART;TZID=Europe/Warsaw:20240705T160000
DTEND;TZID=Europe/Warsaw:20240705T180000
DTSTAMP:20260421T235032
CREATED:20240617T100917Z
LAST-MODIFIED:20240617T100917Z
UID:26386-1720195200-1720202400@bracz.edu.pl
SUMMARY:Święto chusty ludowej. Wernisaż wystawy
DESCRIPTION:
URL:https://bracz.edu.pl/event/swieto-chusty-ludowej-wernisaz-wystawy/
END:VEVENT
BEGIN:VEVENT
DTSTART;TZID=Europe/Warsaw:20240706T120000
DTEND;TZID=Europe/Warsaw:20240706T140000
DTSTAMP:20260421T235032
CREATED:20240617T101000Z
LAST-MODIFIED:20240617T101000Z
UID:26388-1720267200-1720274400@bracz.edu.pl
SUMMARY:CZYTATY w 8 dni dookoła świata. Iran w obiektywie
DESCRIPTION:
URL:https://bracz.edu.pl/event/czytaty-w-8-dni-dookola-swiata-iran-w-obiektywie/
END:VEVENT
BEGIN:VEVENT
DTSTART;TZID=Europe/Warsaw:20240710T123000
DTEND;TZID=Europe/Warsaw:20240710T133000
DTSTAMP:20260421T235032
CREATED:20240617T101201Z
LAST-MODIFIED:20240617T101201Z
UID:26390-1720614600-1720618200@bracz.edu.pl
SUMMARY:Zwiedzanie Mieszkania Pracowni Kazimiery Iłłakowiczówny
DESCRIPTION:
URL:https://bracz.edu.pl/event/zwiedzanie-mieszkania-pracowni-kazimiery-illakowiczowny-12/
END:VEVENT
BEGIN:VEVENT
DTSTART;TZID=Europe/Warsaw:20240711T170000
DTEND;TZID=Europe/Warsaw:20240711T190000
DTSTAMP:20260421T235032
CREATED:20240617T101333Z
LAST-MODIFIED:20240617T101333Z
UID:26392-1720717200-1720724400@bracz.edu.pl
SUMMARY:Spotkanie z Justyną Mleczak wokół książki „Macedonia Północna. W rytmie oro”
DESCRIPTION:
URL:https://bracz.edu.pl/event/spotkanie-z-justyna-mleczak-wokol-ksiazki-macedonia-polnocna-w-rytmie-oro/
END:VEVENT
BEGIN:VEVENT
DTSTART;TZID=Europe/Warsaw:20240712T170000
DTEND;TZID=Europe/Warsaw:20240712T190000
DTSTAMP:20260421T235032
CREATED:20240617T101459Z
LAST-MODIFIED:20240618T082615Z
UID:26394-1720803600-1720810800@bracz.edu.pl
SUMMARY:Spotkanie z Moniką Raspen wokół książki „Czartoryska. Historia o marzycielce”
DESCRIPTION:
URL:https://bracz.edu.pl/event/https-bracz-edu-pl-event-spotkanie-z-monika-raspen-wokol-ksiazki-czartoryska-historia-o-marzycielce/
END:VEVENT
BEGIN:VEVENT
DTSTART;TZID=Europe/Warsaw:20240715T180000
DTEND;TZID=Europe/Warsaw:20240715T193000
DTSTAMP:20260421T235032
CREATED:20240617T101825Z
LAST-MODIFIED:20240617T101825Z
UID:26396-1721066400-1721071800@bracz.edu.pl
SUMMARY:Podróż w głąb siebie. Koncert
DESCRIPTION:
URL:https://bracz.edu.pl/event/podroz-w-glab-siebie-koncert/
END:VEVENT
BEGIN:VEVENT
DTSTART;TZID=Europe/Warsaw:20240717T180000
DTEND;TZID=Europe/Warsaw:20240717T193000
DTSTAMP:20260421T235032
CREATED:20240617T101917Z
LAST-MODIFIED:20240617T101917Z
UID:26398-1721239200-1721244600@bracz.edu.pl
SUMMARY:Spotkanie z Zofią Mąkosą
DESCRIPTION:
URL:https://bracz.edu.pl/event/spotkanie-z-zofia-makosa/
END:VEVENT
BEGIN:VEVENT
DTSTART;TZID=Europe/Warsaw:20240718T173000
DTEND;TZID=Europe/Warsaw:20240718T193000
DTSTAMP:20260421T235032
CREATED:20240617T102010Z
LAST-MODIFIED:20240617T102010Z
UID:26400-1721323800-1721331000@bracz.edu.pl
SUMMARY:W małym kinie u Raczyńskich. Audrey i włoska Vespa
DESCRIPTION:
URL:https://bracz.edu.pl/event/w-malym-kinie-u-raczynskich-audrey-i-wloska-vespa/
END:VEVENT
BEGIN:VEVENT
DTSTART;TZID=Europe/Warsaw:20240720T120000
DTEND;TZID=Europe/Warsaw:20240720T133000
DTSTAMP:20260421T235032
CREATED:20240617T103023Z
LAST-MODIFIED:20240618T112823Z
UID:26402-1721476800-1721482200@bracz.edu.pl
SUMMARY:CZYTATY W 8 dni dookoła świata. Baśnie słowiańskie
DESCRIPTION:
URL:https://bracz.edu.pl/event/czytaty-w-8-dni-dookola-swiata-basnie-slowianskie/
END:VEVENT
BEGIN:VEVENT
DTSTART;TZID=Europe/Warsaw:20240720T123000
DTEND;TZID=Europe/Warsaw:20240720T133000
DTSTAMP:20260421T235032
CREATED:20240617T103153Z
LAST-MODIFIED:20240617T103153Z
UID:26404-1721478600-1721482200@bracz.edu.pl
SUMMARY:Oprowadzanie kuratorskie: Trójkąty miłosne u Sienkiewicza. Odsłona II „Rodzina Połanieckich”
DESCRIPTION:
URL:https://bracz.edu.pl/event/oprowadzanie-kuratorskie-trojkaty-milosne-u-sienkiewicza-odslona-ii-rodzina-polanieckich-2/
END:VEVENT
BEGIN:VEVENT
DTSTART;TZID=Europe/Warsaw:20240722T170000
DTEND;TZID=Europe/Warsaw:20240725T193000
DTSTAMP:20260421T235032
CREATED:20240617T103253Z
LAST-MODIFIED:20240617T103253Z
UID:26406-1721667600-1721935800@bracz.edu.pl
SUMMARY:W małym kinie u Raczyńskich. Wakacje z Bondem
DESCRIPTION:
URL:https://bracz.edu.pl/event/w-malym-kinie-u-raczynskich-wakacje-z-bondem/
END:VEVENT
BEGIN:VEVENT
DTSTART;TZID=Europe/Warsaw:20240726T180000
DTEND;TZID=Europe/Warsaw:20240726T193000
DTSTAMP:20260421T235032
CREATED:20240617T103404Z
LAST-MODIFIED:20240617T103404Z
UID:26408-1722016800-1722022200@bracz.edu.pl
SUMMARY:Klub Książki u Raczyńskich. „Ballada ptaków i węży” Suzanne Collins
DESCRIPTION:
URL:https://bracz.edu.pl/event/klub-ksiazki-u-raczynskich-ballada-ptakow-i-wezy-suzanne-collins/
END:VEVENT
BEGIN:VEVENT
DTSTART;TZID=Europe/Warsaw:20240731T123000
DTEND;TZID=Europe/Warsaw:20240731T133000
DTSTAMP:20260421T235032
CREATED:20240617T103448Z
LAST-MODIFIED:20240617T103448Z
UID:26410-1722429000-1722432600@bracz.edu.pl
SUMMARY:Zwiedzanie Mieszkania Pracowni Kazimiery Iłłakowiczówny
DESCRIPTION:
URL:https://bracz.edu.pl/event/zwiedzanie-mieszkania-pracowni-kazimiery-illakowiczowny-13/
END:VEVENT
BEGIN:VEVENT
DTSTART;TZID=Europe/Warsaw:20240731T180000
DTEND;TZID=Europe/Warsaw:20240731T193000
DTSTAMP:20260421T235032
CREATED:20240723T060350Z
LAST-MODIFIED:20240723T083103Z
UID:26775-1722448800-1722454200@bracz.edu.pl
SUMMARY:Festiwal Tradycji Poznańskich: MAKE POLSKA I LOKALNA KUCHNIA SEXY AGAIN. Dyskusja o tradycjach kulinarnych
DESCRIPTION:
URL:https://bracz.edu.pl/event/dyskusja-o-tradycjach-kulinarnych-make-polska-i-lokalna-kuchnia-sexy-again-festiwal-tradycji-poznanskich/
LOCATION:Filia Sztuki\, Pl. Wolności 19\, Poznań\, Wielkopolskie\, 61-739\, Polska
ATTACH;FMTTYPE=image/jpeg:https://bracz.edu.pl/wp-content/uploads/2024/01/Filia-Sztuki-czytelnik.jpg
END:VEVENT
BEGIN:VEVENT
DTSTART;TZID=Europe/Warsaw:20240801T170000
DTEND;TZID=Europe/Warsaw:20240801T200000
DTSTAMP:20260421T235032
CREATED:20240716T070739Z
LAST-MODIFIED:20240716T072841Z
UID:26612-1722531600-1722542400@bracz.edu.pl
SUMMARY:Wakacyjny warsztat skryby cz.2
DESCRIPTION:
URL:https://bracz.edu.pl/event/wakacyjny-warsztat-skryby-cz-2/
END:VEVENT
BEGIN:VEVENT
DTSTART;TZID=Europe/Warsaw:20240801T180000
DTEND;TZID=Europe/Warsaw:20240801T193000
DTSTAMP:20260421T235032
CREATED:20240716T072920Z
LAST-MODIFIED:20240716T073114Z
UID:26616-1722535200-1722540600@bracz.edu.pl
SUMMARY:Poznań i kompozytorzy. Koncert
DESCRIPTION:
URL:https://bracz.edu.pl/event/poznan-i-kompozytorzy-koncert/
END:VEVENT
BEGIN:VEVENT
DTSTART;TZID=Europe/Warsaw:20240803T120000
DTEND;TZID=Europe/Warsaw:20240803T140000
DTSTAMP:20260421T235032
CREATED:20240716T074700Z
LAST-MODIFIED:20240716T074700Z
UID:26620-1722686400-1722693600@bracz.edu.pl
SUMMARY:CZYTATY w 8 dni dookoła świata: O Inkach i o genie podróżnika. Spotkanie z Markiem Oliwierem Fiedlerem
DESCRIPTION:
URL:https://bracz.edu.pl/event/czytaty-w-8-dni-dookola-swiata-o-inkach-i-o-genie-podroznika-spotkanie-z-markiem-oliwierem-fiedlerem/
END:VEVENT
BEGIN:VEVENT
DTSTART;TZID=Europe/Warsaw:20240805T170000
DTEND;TZID=Europe/Warsaw:20240805T190000
DTSTAMP:20260421T235032
CREATED:20240716T080104Z
LAST-MODIFIED:20240716T080104Z
UID:26624-1722877200-1722884400@bracz.edu.pl
SUMMARY:Wielki Dzień Pszczół. Spotkanie z pszczelarzem
DESCRIPTION:
URL:https://bracz.edu.pl/event/wielki-dzien-pszczol-spotkanie-z-pszczelarzem/
END:VEVENT
BEGIN:VEVENT
DTSTART;TZID=Europe/Warsaw:20240808T173000
DTEND;TZID=Europe/Warsaw:20240808T193000
DTSTAMP:20260421T235032
CREATED:20240716T081123Z
LAST-MODIFIED:20240716T081123Z
UID:26628-1723138200-1723145400@bracz.edu.pl
SUMMARY:W małym kinie u Raczyńskich. Marylin i diamenty
DESCRIPTION:
URL:https://bracz.edu.pl/event/w-malym-kinie-u-raczynskich-marylin-i-diamenty/
END:VEVENT
BEGIN:VEVENT
DTSTART;TZID=Europe/Warsaw:20240809T100000
DTEND;TZID=Europe/Warsaw:20240809T150000
DTSTAMP:20260421T235032
CREATED:20240716T081931Z
LAST-MODIFIED:20240716T081931Z
UID:26632-1723197600-1723215600@bracz.edu.pl
SUMMARY:Romeo i Julia w ogrodzie\, czyli o relacjach roślin i zapylaczy. Warsztat dla seniorów
DESCRIPTION:
URL:https://bracz.edu.pl/event/romeo-i-julia-w-ogrodzie-czyli-o-relacjach-roslin-i-zapylaczy-warsztat-dla-seniorow/
END:VEVENT
BEGIN:VEVENT
DTSTART;TZID=Europe/Warsaw:20240810T120000
DTEND;TZID=Europe/Warsaw:20240810T140000
DTSTAMP:20260421T235032
CREATED:20240716T085032Z
LAST-MODIFIED:20240716T085032Z
UID:26640-1723291200-1723298400@bracz.edu.pl
SUMMARY:CZYTATY w 8 dni dookoła świata: Komiksowy sen z Ameryki. Warsztaty komiksowe z Pawłem Piechnikiem
DESCRIPTION:
URL:https://bracz.edu.pl/event/czytaty-w-8-dni-dookola-swiata-komiksowy-sen-z-ameryki-warsztaty-komiksowe-z-pawlem-piechnikiem/
END:VEVENT
BEGIN:VEVENT
DTSTART;TZID=Europe/Warsaw:20240810T123000
DTEND;TZID=Europe/Warsaw:20240810T143000
DTSTAMP:20260421T235032
CREATED:20240716T091749Z
LAST-MODIFIED:20240716T091749Z
UID:26645-1723293000-1723300200@bracz.edu.pl
SUMMARY:Zapach ziół. Warsztaty
DESCRIPTION:
URL:https://bracz.edu.pl/event/zapach-ziol-warsztaty/
END:VEVENT
BEGIN:VEVENT
DTSTART;TZID=Europe/Warsaw:20240814T170000
DTEND;TZID=Europe/Warsaw:20240814T190000
DTSTAMP:20260421T235032
CREATED:20240716T093632Z
LAST-MODIFIED:20240716T093632Z
UID:26649-1723654800-1723662000@bracz.edu.pl
SUMMARY:Wielki Dzień Pszczół. Spotkanie z pszczelarzem
DESCRIPTION:
URL:https://bracz.edu.pl/event/wielki-dzien-pszczol-spotkanie-z-pszczelarzem-2/
END:VEVENT
BEGIN:VEVENT
DTSTART;TZID=Europe/Warsaw:20240820T170000
DTEND;TZID=Europe/Warsaw:20240820T190000
DTSTAMP:20260421T235032
CREATED:20240716T094907Z
LAST-MODIFIED:20240716T132309Z
UID:26653-1724173200-1724180400@bracz.edu.pl
SUMMARY:W strefie pływów. Prezentacja książki poetki Elżbiety Tylendy
DESCRIPTION:
URL:https://bracz.edu.pl/event/w-strefie-plywow-prezentacja-ksiazki-poetki-elzbiety-tylendy/
END:VEVENT
BEGIN:VEVENT
DTSTART;TZID=Europe/Warsaw:20240822T180000
DTEND;TZID=Europe/Warsaw:20240822T193000
DTSTAMP:20260421T235032
CREATED:20240716T100113Z
LAST-MODIFIED:20240716T100113Z
UID:26658-1724349600-1724355000@bracz.edu.pl
SUMMARY:Klub Książki u Raczyńskich „Kapelusz cały w czereśniach”
DESCRIPTION:
URL:https://bracz.edu.pl/event/klub-ksiazki-u-raczynskich-kapelusz-caly-w-czeresniach/
END:VEVENT
BEGIN:VEVENT
DTSTART;TZID=Europe/Warsaw:20240823T170000
DTEND;TZID=Europe/Warsaw:20240823T190000
DTSTAMP:20260421T235032
CREATED:20240716T111101Z
LAST-MODIFIED:20240716T132649Z
UID:26662-1724432400-1724439600@bracz.edu.pl
SUMMARY:Dzień poezji ukraińskiej. Spotkanie z Julią Bair
DESCRIPTION:
URL:https://bracz.edu.pl/event/dzien-poezji-ukrainskiej-spotkanie-z-julia-bair/
END:VEVENT
BEGIN:VEVENT
DTSTART;TZID=Europe/Warsaw:20240824T120000
DTEND;TZID=Europe/Warsaw:20240824T140000
DTSTAMP:20260421T235032
CREATED:20240716T111711Z
LAST-MODIFIED:20240716T111711Z
UID:26666-1724500800-1724508000@bracz.edu.pl
SUMMARY:CZYTATY w 8 dni dookoła świata: Afrykańska przygoda. Warsztaty plastyczne z Jagodą Nie Porzeczką
DESCRIPTION:
URL:https://bracz.edu.pl/event/czytaty-w-8-dni-dookola-swiata-afrykanska-przygoda-warsztaty-plastyczne-z-jagoda-nie-porzeczka/
END:VEVENT
BEGIN:VEVENT
DTSTART;TZID=Europe/Warsaw:20240828T123000
DTEND;TZID=Europe/Warsaw:20240828T133000
DTSTAMP:20260421T235032
CREATED:20240716T114327Z
LAST-MODIFIED:20240716T114327Z
UID:26670-1724848200-1724851800@bracz.edu.pl
SUMMARY:Zwiedzanie Mieszkania-Pracowni Kazimiery Iłłakowiczówny
DESCRIPTION:
URL:https://bracz.edu.pl/event/zwiedzanie-mieszkania-pracowni-kazimiery-illakowiczowny-14/
END:VEVENT
BEGIN:VEVENT
DTSTART;TZID=Europe/Warsaw:20240829T170000
DTEND;TZID=Europe/Warsaw:20240829T200000
DTSTAMP:20260421T235032
CREATED:20240716T115752Z
LAST-MODIFIED:20240716T115752Z
UID:26674-1724950800-1724961600@bracz.edu.pl
SUMMARY:Wakacyjny warsztat skryby cz.3
DESCRIPTION:
URL:https://bracz.edu.pl/event/wakacyjny-warsztat-skryby-cz-3/
END:VEVENT
END:VCALENDAR