BEGIN:VCALENDAR
VERSION:2.0
PRODID:-//Biblioteka Raczyńskich - ECPv6.2.3//NONSGML v1.0//EN
CALSCALE:GREGORIAN
METHOD:PUBLISH
X-ORIGINAL-URL:https://bracz.edu.pl
X-WR-CALDESC:Events for Biblioteka Raczyńskich
REFRESH-INTERVAL;VALUE=DURATION:PT1H
X-Robots-Tag:noindex
X-PUBLISHED-TTL:PT1H
BEGIN:VTIMEZONE
TZID:Europe/Warsaw
BEGIN:DAYLIGHT
TZOFFSETFROM:+0100
TZOFFSETTO:+0200
TZNAME:CEST
DTSTART:20210328T010000
END:DAYLIGHT
BEGIN:STANDARD
TZOFFSETFROM:+0200
TZOFFSETTO:+0100
TZNAME:CET
DTSTART:20211031T010000
END:STANDARD
END:VTIMEZONE
BEGIN:VEVENT
DTSTART;TZID=Europe/Warsaw:20211002T110000
DTEND;TZID=Europe/Warsaw:20211002T190000
DTSTAMP:20260420T125307
CREATED:20210921T090357Z
LAST-MODIFIED:20210921T090357Z
UID:11853-1633172400-1633201200@bracz.edu.pl
SUMMARY:Weekend seniora z kulturą
DESCRIPTION:
URL:https://bracz.edu.pl/event/weekend-seniora-z-kultura/
CATEGORIES:dla Dorosłych
END:VEVENT
BEGIN:VEVENT
DTSTART;TZID=Europe/Warsaw:20211005T100000
DTEND;TZID=Europe/Warsaw:20211005T110000
DTSTAMP:20260420T125307
CREATED:20210921T091710Z
LAST-MODIFIED:20210921T091710Z
UID:11858-1633428000-1633431600@bracz.edu.pl
SUMMARY:Porannik książkowy. Spotkanie z Dorotą Masłowską
DESCRIPTION:
URL:https://bracz.edu.pl/event/porannik-ksiazkowy-spotkanie-z-dorota-maslowska/
CATEGORIES:dla Dorosłych
END:VEVENT
BEGIN:VEVENT
DTSTART;TZID=Europe/Warsaw:20211009T170000
DTEND;TZID=Europe/Warsaw:20211009T200000
DTSTAMP:20260420T125307
CREATED:20210921T092835Z
LAST-MODIFIED:20210921T092835Z
UID:11863-1633798800-1633809600@bracz.edu.pl
SUMMARY:Noc Bibliotek
DESCRIPTION:
URL:https://bracz.edu.pl/event/noc-bibliotek/
CATEGORIES:dla Dorosłych,dla Dzieci
END:VEVENT
BEGIN:VEVENT
DTSTART;TZID=Europe/Warsaw:20211012T180000
DTEND;TZID=Europe/Warsaw:20211012T193000
DTSTAMP:20260420T125307
CREATED:20210921T093447Z
LAST-MODIFIED:20210921T093447Z
UID:11867-1634061600-1634067000@bracz.edu.pl
SUMMARY:Mól w sieci2. „Co gryzie weterynarza”?
DESCRIPTION:
URL:https://bracz.edu.pl/event/mol-w-sieci2-co-gryzie-weterynarza/
END:VEVENT
BEGIN:VEVENT
DTSTART;TZID=Europe/Warsaw:20211013T163000
DTEND;TZID=Europe/Warsaw:20211013T173000
DTSTAMP:20260420T125307
CREATED:20210921T094044Z
LAST-MODIFIED:20210921T094044Z
UID:11872-1634142600-1634146200@bracz.edu.pl
SUMMARY:„Wracam do prostych rzeczy” - czytanie wierszy Kazimiery Iłłakowiczówny
DESCRIPTION:
URL:https://bracz.edu.pl/event/wracam-do-prostych-rzeczy-czytanie-wierszy-kazimiery-illakowiczowny/
LOCATION:Mieszkanie-Pracownia Kazimiery Iłłakowiczówny\, ul. Gajowa 8/4\, Poznań\, 60-815\, Polska
CATEGORIES:dla Dorosłych
END:VEVENT
BEGIN:VEVENT
DTSTART;TZID=Europe/Warsaw:20211019T180000
DTEND;TZID=Europe/Warsaw:20211019T190000
DTSTAMP:20260420T125307
CREATED:20210921T094534Z
LAST-MODIFIED:20210921T094534Z
UID:11876-1634666400-1634670000@bracz.edu.pl
SUMMARY:W czeskim teatrze lalek
DESCRIPTION:
URL:https://bracz.edu.pl/event/w-czeskim-teatrze-lalek/
CATEGORIES:dla Dorosłych,dla wszystkich
END:VEVENT
BEGIN:VEVENT
DTSTART;TZID=Europe/Warsaw:20211021T180000
DTEND;TZID=Europe/Warsaw:20211021T200000
DTSTAMP:20260420T125307
CREATED:20210921T094948Z
LAST-MODIFIED:20210921T095021Z
UID:11881-1634839200-1634846400@bracz.edu.pl
SUMMARY:Mól w sieci2. Spotkanie z Tomaszem Raczkiem
DESCRIPTION:
URL:https://bracz.edu.pl/event/mol-w-sieci2-spotkanie-z-tomaszem-raczkiem/
CATEGORIES:dla Dorosłych,dla maturzystów
END:VEVENT
END:VCALENDAR