BEGIN:VCALENDAR
VERSION:2.0
PRODID:-//Biblioteka Raczyńskich - ECPv6.2.3//NONSGML v1.0//EN
CALSCALE:GREGORIAN
METHOD:PUBLISH
X-ORIGINAL-URL:https://bracz.edu.pl
X-WR-CALDESC:Events for Biblioteka Raczyńskich
REFRESH-INTERVAL;VALUE=DURATION:PT1H
X-Robots-Tag:noindex
X-PUBLISHED-TTL:PT1H
BEGIN:VTIMEZONE
TZID:Europe/Warsaw
BEGIN:DAYLIGHT
TZOFFSETFROM:+0100
TZOFFSETTO:+0200
TZNAME:CEST
DTSTART:20210328T010000
END:DAYLIGHT
BEGIN:STANDARD
TZOFFSETFROM:+0200
TZOFFSETTO:+0100
TZNAME:CET
DTSTART:20211031T010000
END:STANDARD
END:VTIMEZONE
BEGIN:VEVENT
DTSTART;TZID=Europe/Warsaw:20211202T180000
DTEND;TZID=Europe/Warsaw:20211202T193000
DTSTAMP:20260420T170347
CREATED:20211119T090531Z
LAST-MODIFIED:20211119T090531Z
UID:12187-1638468000-1638473400@bracz.edu.pl
SUMMARY:Zapiski intymne. Z Piotrem Bojarskim o Fiedlerze
DESCRIPTION:
URL:https://bracz.edu.pl/event/zapiski-intymne-z-piotrem-bojarskim-o-fiedlerze/
END:VEVENT
BEGIN:VEVENT
DTSTART;TZID=Europe/Warsaw:20211208T180000
DTEND;TZID=Europe/Warsaw:20211208T193000
DTSTAMP:20260420T170347
CREATED:20211119T091125Z
LAST-MODIFIED:20211119T091125Z
UID:12192-1638986400-1638991800@bracz.edu.pl
SUMMARY:„Sytuacja Norwida - sytuacja Baudelaire'a. Paralele nowoczesności" spotkanie wokół książki
DESCRIPTION:
URL:https://bracz.edu.pl/event/sytuacja-norwida-sytuacja-baudelairea-paralele-nowoczesnosci-spotkanie-wokol-ksiazki/
CATEGORIES:dla wszystkich
END:VEVENT
BEGIN:VEVENT
DTSTART;TZID=Europe/Warsaw:20211214T180000
DTEND;TZID=Europe/Warsaw:20211214T193000
DTSTAMP:20260420T170347
CREATED:20211119T101459Z
LAST-MODIFIED:20211119T101459Z
UID:12201-1639504800-1639510200@bracz.edu.pl
SUMMARY:Czyta pani czyta. Spotkanie z Renatą Kosin i Agnieszką Olejnik
DESCRIPTION:
URL:https://bracz.edu.pl/event/czyta-pani-czyta-spotkanie-z-renata-kosin-i-agnieszka-olejnik/
CATEGORIES:dla wszystkich
END:VEVENT
BEGIN:VEVENT
DTSTART;TZID=Europe/Warsaw:20211215T163000
DTEND;TZID=Europe/Warsaw:20211215T173000
DTSTAMP:20260420T170347
CREATED:20211119T091831Z
LAST-MODIFIED:20211119T091831Z
UID:12197-1639585800-1639589400@bracz.edu.pl
SUMMARY:„W żłobie leży”... Boże Narodzenie na Kresach
DESCRIPTION:
URL:https://bracz.edu.pl/event/w-zlobie-lezy-boze-narodzenie-na-kresach/
LOCATION:Mieszkanie-Pracownia Kazimiery Iłłakowiczówny\, ul. Gajowa 8/4\, Poznań\, 60-815\, Polska
CATEGORIES:dla Dorosłych
END:VEVENT
BEGIN:VEVENT
DTSTART;TZID=Europe/Warsaw:20211229T180000
DTEND;TZID=Europe/Warsaw:20211229T181000
DTSTAMP:20260420T170347
CREATED:20211222T094250Z
LAST-MODIFIED:20211222T094250Z
UID:12318-1640800800-1640801400@bracz.edu.pl
SUMMARY:Ja Konstancja – córka Konstancji odc.1
DESCRIPTION:
URL:https://bracz.edu.pl/event/ja-konstancja-corka-konstancji-odc-1/
CATEGORIES:dla wszystkich
END:VEVENT
END:VCALENDAR