BEGIN:VCALENDAR
VERSION:2.0
PRODID:-//Biblioteka Raczyńskich - ECPv6.2.3//NONSGML v1.0//EN
CALSCALE:GREGORIAN
METHOD:PUBLISH
X-ORIGINAL-URL:https://bracz.edu.pl
X-WR-CALDESC:Events for Biblioteka Raczyńskich
REFRESH-INTERVAL;VALUE=DURATION:PT1H
X-Robots-Tag:noindex
X-PUBLISHED-TTL:PT1H
BEGIN:VTIMEZONE
TZID:Europe/Warsaw
BEGIN:DAYLIGHT
TZOFFSETFROM:+0100
TZOFFSETTO:+0200
TZNAME:CEST
DTSTART:20230326T010000
END:DAYLIGHT
BEGIN:STANDARD
TZOFFSETFROM:+0200
TZOFFSETTO:+0100
TZNAME:CET
DTSTART:20231029T010000
END:STANDARD
END:VTIMEZONE
BEGIN:VEVENT
DTSTART;TZID=Europe/Warsaw:20230603T110000
DTEND;TZID=Europe/Warsaw:20230603T120000
DTSTAMP:20260420T155152
CREATED:20230518T091522Z
LAST-MODIFIED:20230627T114041Z
UID:16379-1685790000-1685793600@bracz.edu.pl
SUMMARY:Rodzinne zwiedzanie Biblioteki Raczyńskich
DESCRIPTION:
URL:https://bracz.edu.pl/event/rodzinne-zwiedzanie-biblioteki-raczynskich/
END:VEVENT
BEGIN:VEVENT
DTSTART;TZID=Europe/Warsaw:20230609T170000
DTEND;TZID=Europe/Warsaw:20230610T200000
DTSTAMP:20260420T155152
CREATED:20230518T092045Z
LAST-MODIFIED:20230518T092045Z
UID:16383-1686330000-1686427200@bracz.edu.pl
SUMMARY:Festiwal Ludzie Książki vol. 2
DESCRIPTION:
URL:https://bracz.edu.pl/event/festiwal-ludzie-ksiazki-vol-2/
END:VEVENT
BEGIN:VEVENT
DTSTART;TZID=Europe/Warsaw:20230613T180000
DTEND;TZID=Europe/Warsaw:20230613T193000
DTSTAMP:20260420T155152
CREATED:20230518T101954Z
LAST-MODIFIED:20230518T101954Z
UID:16390-1686679200-1686684600@bracz.edu.pl
SUMMARY:Czytanie przestrzeni. Klimatyzacja albo klimat
DESCRIPTION:
URL:https://bracz.edu.pl/event/czytanie-przestrzeni-klimatyzacja-albo-klimat/
END:VEVENT
BEGIN:VEVENT
DTSTART;TZID=Europe/Warsaw:20230614T173000
DTEND;TZID=Europe/Warsaw:20230614T190000
DTSTAMP:20260420T155152
CREATED:20230518T102835Z
LAST-MODIFIED:20230518T102835Z
UID:16394-1686763800-1686769200@bracz.edu.pl
SUMMARY:Spotkanie z Ryszardem Ćwirlejem
DESCRIPTION:
URL:https://bracz.edu.pl/event/spotkanie-z-ryszardem-cwirlejem/
END:VEVENT
BEGIN:VEVENT
DTSTART;TZID=Europe/Warsaw:20230615T163000
DTEND;TZID=Europe/Warsaw:20230615T173000
DTSTAMP:20260420T155152
CREATED:20230518T104152Z
LAST-MODIFIED:20230518T104152Z
UID:16398-1686846600-1686850200@bracz.edu.pl
SUMMARY:Między medytacją a pieśnią – koncert
DESCRIPTION:
URL:https://bracz.edu.pl/event/miedzy-medytacja-a-piesnia-koncert/
END:VEVENT
BEGIN:VEVENT
DTSTART;TZID=Europe/Warsaw:20230615T180000
DTEND;TZID=Europe/Warsaw:20230615T200000
DTSTAMP:20260420T155152
CREATED:20230518T110742Z
LAST-MODIFIED:20230518T110742Z
UID:16402-1686852000-1686859200@bracz.edu.pl
SUMMARY:Spotkanie z Gabrielą Gargaś
DESCRIPTION:
URL:https://bracz.edu.pl/event/spotkanie-z-gabriela-gargas/
END:VEVENT
BEGIN:VEVENT
DTSTART;TZID=Europe/Warsaw:20230617T110000
DTEND;TZID=Europe/Warsaw:20230617T120000
DTSTAMP:20260420T155152
CREATED:20230523T132537Z
LAST-MODIFIED:20230523T132537Z
UID:16484-1686999600-1687003200@bracz.edu.pl
SUMMARY:Ignacy Moś - fundator i honorowy kustosz Muzeum Literackiego Henryka Sienkiewicza. Wspomnienia
DESCRIPTION:
URL:https://bracz.edu.pl/event/ignacy-mos-fundator-i-honorowy-kustosz-muzeum-literackiego-henryka-sienkiewicza-wspomnienia/
LOCATION:Muzeum Literackie Henryka Sienkiewicza\, Stary Rynek 84\, Poznań\, 61-772
CATEGORIES:dla Dorosłych
END:VEVENT
BEGIN:VEVENT
DTSTART;TZID=Europe/Warsaw:20230620T160000
DTEND;TZID=Europe/Warsaw:20230620T170000
DTSTAMP:20260420T155152
CREATED:20230518T112524Z
LAST-MODIFIED:20230518T112524Z
UID:16412-1687276800-1687280400@bracz.edu.pl
SUMMARY:Wtorek dla seniora. Rusz głową!
DESCRIPTION:
URL:https://bracz.edu.pl/event/wtorek-dla-seniora-rusz-glowa-3/
END:VEVENT
BEGIN:VEVENT
DTSTART;TZID=Europe/Warsaw:20230622T180000
DTEND;TZID=Europe/Warsaw:20230622T200000
DTSTAMP:20260420T155152
CREATED:20230518T113020Z
LAST-MODIFIED:20230518T113106Z
UID:16416-1687456800-1687464000@bracz.edu.pl
SUMMARY:Sztuk-mistrze. Spotkanie z Adamem i Łukaszem Grzegorowskimi
DESCRIPTION:
URL:https://bracz.edu.pl/event/sztuk-mistrze-spotkanie-z-adamem-i-lukaszem-grzegorowskimi/
END:VEVENT
BEGIN:VEVENT
DTSTART;TZID=Europe/Warsaw:20230624T110000
DTEND;TZID=Europe/Warsaw:20230624T120000
DTSTAMP:20260420T155152
CREATED:20230518T122139Z
LAST-MODIFIED:20230518T122232Z
UID:16420-1687604400-1687608000@bracz.edu.pl
SUMMARY:Zwiedzanie Biblioteki
DESCRIPTION:
URL:https://bracz.edu.pl/event/zwiedzanie-biblioteki-10/
END:VEVENT
BEGIN:VEVENT
DTSTART;TZID=Europe/Warsaw:20230627T180000
DTEND;TZID=Europe/Warsaw:20230627T200000
DTSTAMP:20260420T155152
CREATED:20230518T122632Z
LAST-MODIFIED:20230518T122632Z
UID:16424-1687888800-1687896000@bracz.edu.pl
SUMMARY:Bookclub We need YA
DESCRIPTION:
URL:https://bracz.edu.pl/event/bookclub-we-need-ya/
END:VEVENT
BEGIN:VEVENT
DTSTART;TZID=Europe/Warsaw:20230628T180000
DTEND;TZID=Europe/Warsaw:20230628T193000
DTSTAMP:20260420T155152
CREATED:20230518T122947Z
LAST-MODIFIED:20230518T122947Z
UID:16428-1687975200-1687980600@bracz.edu.pl
SUMMARY:Strony fotografii. Spotkanie z Ewą Kuleszą
DESCRIPTION:
URL:https://bracz.edu.pl/event/strony-fotografii-spotkanie-z-ewa-kulesza/
END:VEVENT
BEGIN:VEVENT
DTSTART;TZID=Europe/Warsaw:20230630T180000
DTEND;TZID=Europe/Warsaw:20230630T193000
DTSTAMP:20260420T155152
CREATED:20230518T123536Z
LAST-MODIFIED:20230627T115907Z
UID:16433-1688148000-1688153400@bracz.edu.pl
SUMMARY:Klub książki u Raczyńskich. „Nagle w głębi lasu” Amosa Oza
DESCRIPTION:
URL:https://bracz.edu.pl/event/klub-ksiazki-u-raczynskich-nagle-w-glebi-lasu-amosa-oza/
END:VEVENT
END:VCALENDAR