BEGIN:VCALENDAR
VERSION:2.0
PRODID:-//Biblioteka Raczyńskich - ECPv6.2.3//NONSGML v1.0//EN
CALSCALE:GREGORIAN
METHOD:PUBLISH
X-WR-CALNAME:Biblioteka Raczyńskich
X-ORIGINAL-URL:https://bracz.edu.pl
X-WR-CALDESC:Events for Biblioteka Raczyńskich
REFRESH-INTERVAL;VALUE=DURATION:PT1H
X-Robots-Tag:noindex
X-PUBLISHED-TTL:PT1H
BEGIN:VTIMEZONE
TZID:Europe/Warsaw
BEGIN:DAYLIGHT
TZOFFSETFROM:+0100
TZOFFSETTO:+0200
TZNAME:CEST
DTSTART:20230326T010000
END:DAYLIGHT
BEGIN:STANDARD
TZOFFSETFROM:+0200
TZOFFSETTO:+0100
TZNAME:CET
DTSTART:20231029T010000
END:STANDARD
END:VTIMEZONE
BEGIN:VEVENT
DTSTART;TZID=Europe/Warsaw:20230804T180000
DTEND;TZID=Europe/Warsaw:20230804T193000
DTSTAMP:20260420T113722
CREATED:20230721T085646Z
LAST-MODIFIED:20230721T085646Z
UID:21874-1691172000-1691177400@bracz.edu.pl
SUMMARY:„Polskie zamki i rezydencje w Ukrainie”. Spotkanie z Dmytrem Antoniukiem
DESCRIPTION:Razem ze stowarzyszeniem Ukraińska Wiosna zapraszamy na spotkanie z Dmytrem Antoniukiem ze Związku Polaków w Ukrainie\, autorem publikacji o polskich zamkach i pałacach w Ukrainie. \nTak swoją pracę i książkę opisuje sam autor: „Mój skromny wkład w badanie naszego dziedzictwa architektonicznego\, nierozerwalnie związanego z Polakami\, polega na przekazywaniu informacji o aktualnym stanie zabytków\, ich dokumentacji fotograficznej i katalogowaniu. W sumie opisuję 512 zabytków\, z których wszystkie (z wyjątkiem jednego lub dwóch) odwiedziłem i sfotografowałem osobiście. Publikacja ma zachęcić do podróży i poznania lokalnej historii”. \nKsiążka na razie ukazała się po ukraińsku\, planowany jest przekład na język polski.
URL:https://bracz.edu.pl/event/polskie-zamki-i-rezydencje-w-ukrainie-spotkanie-z-dmytrem-antoniukiem/
LOCATION:Filia Sztuki\, Pl. Wolności 19\, Poznań\, Wielkopolskie\, 61-739\, Polska
CATEGORIES:dla wszystkich
ATTACH;FMTTYPE=image/png:https://bracz.edu.pl/wp-content/uploads/2023/07/Prezentacja-ksiazki-Zamki-i-rezydencje-w-Ukrainie.png
END:VEVENT
END:VCALENDAR